Workbook
Name ·······: Equipos!$A$2:$D$25
Name cmh: EUROCOPA!$CI$57
Name Nivell: Equipos!$C$2:$C$25
Name NombreEquipo: Equipos!$B$2:$B$25
Name OK: Equipos!$A$2:$A$25
Name Rank: Equipos!$D$2:$D$25

Sheet Inicio
F19: Foto: De Jcer80 - Trabajo propio, CC BY-SA 3.0, wikipedia
AGD57: {=IF(AND($CC$57:$CC$58=$CC$57,$CC$58<>$CC$59,$CC$59<>$CC$60,$CC$60<>$CC$61,$CC$61:$CC$62=$CC$61,$CE$57:$CE$58=$CE$57,$CE$61:$CE$62=$CE$61,$CF$57:$CF$58=$CF$57,$CF$61<>$CF$62,$CG$57:$CG$58=$CG$57),1,0)} -> 0 | AGE57: {=IF(AND($CC$57:$CC$58=$CC$57,$CC$58<>$CC$59,$CC$59<>$CC$60,$CC$60<>$CC$61,$CC$61:$CC$62=$CC$61,$CE$57:$CE$58=$CE$57,$CE$61:$CE$62=$CE$61,$CF$57<>$CF$58,$CF$61:$CF$62=$CF$61,$CG$61:$CG$62=$CG$61),1,0)} -> 0 | AGF57: {=IF(AND($CC$57:$CC$58=$CC$57,$CC$58<>$CC$59,$CC$59<>$CC$60,$CC$60<>$CC$61,$CC$61:$CC$62=$CC$61,$CE$57:$CE$58=$CE$57,$CE$61:$CE$62=$CE$61,$CF$57<>$CF$58,$CF$61<>$CF$62),1,0)} -> 0
CF58: 5 | AGD58: {=IF(AND($CC$57:$CC$58=$CC$58,$CC$58<>$CC$59,$CC$59<>$CC$60,$CC$60<>$CC$61,$CC$61:$CC$62=$CC$61,$CE$57:$CE$58=$CE$58,$CE$61:$CE$62=$CE$61,$CF$57:$CF$58=$CF$58,$CF$61<>$CF$62,$CG$57:$CG$58=$CG$58),1,0)} -> 0 | AGE58: {=IF(AND($CC$57:$CC$58=$CC$58,$CC$58<>$CC$59,$CC$59<>$CC$60,$CC$60<>$CC$61,$CC$61:$CC$62=$CC$61,$CE$57:$CE$58=$CE$58,$CE$61:$CE$62=$CE$61,$CF$57<>$CF$58,$CF$61:$CF$62=$CF$61,$CG$61:$CG$62=$CG$61),1,0)} -> 0 | AGF58: {=IF(AND($CC$57:$CC$58=$CC$58,$CC$58<>$CC$59,$CC$59<>$CC$60,$CC$60<>$CC$61,$CC$61:$CC$62=$CC$61,$CE$57:$CE$58=$CE$58,$CE$61:$CE$62=$CE$61,$CF$57<>$CF$58,$CF$61<>$CF$62),1,0)} -> 0
JZ59: {=IF(AND($CC$57:$CC$62=$CC$59,$CE$57:$CE$62=$CE$59,$CF$57:$CF$58=$CF$58,$CF$58<>$CF$59,$CF$59:$CF$62=$CF$59,$CG$57:$CG$58=$CG$58,$CG$59<>$CG$60,$CG$60:$CG$62=$CG$60),1,0)} -> 0 | AGD59: {=IF(AND($CC$57:$CC$58=$CC$58,$CC$58<>$CC$59,$CC$59<>$CC$60,$CC$60<>$CC$61,$CC$61:$CC$62=$CC$61,$CE$57:$CE$58=$CE$58,$CE$61:$CE$62=$CE$61,$CF$57:$CF$58=$CF$58,$CF$61<>$CF$62,$CG$57:$CG$58=$CG$58),1,0)} -> 0 | AGE59: {=IF(AND($CC$57:$CC$58=$CC$58,$CC$58<>$CC$59,$CC$59<>$CC$60,$CC$60<>$CC$61,$CC$61:$CC$62=$CC$61,$CE$57:$CE$58=$CE$58,$CE$61:$CE$62=$CE$61,$CF$57<>$CF$58,$CF$61:$CF$62=$CF$61,$CG$61:$CG$62=$CG$61),1,0)} -> 0 | AGF59: {=IF(AND($CC$57:$CC$58=$CC$58,$CC$58<>$CC$59,$CC$59<>$CC$60,$CC$60<>$CC$61,$CC$61:$CC$62=$CC$61,$CE$57:$CE$58=$CE$58,$CE$61:$CE$62=$CE$61,$CF$57<>$CF$58,$CF$61<>$CF$62),1,0)} -> 0
JZ60: {=IF(AND($CC$57:$CC$62=$CC$60,$CE$57:$CE$62=$CE$60,$CF$57:$CF$58=$CF$58,$CF$58<>$CF$59,$CF$59:$CF$62=$CF$60,$CG$57:$CG$58=$CG$58,$CG$59<>$CG$60,$CG$60:$CG$62=$CG$60),1,0)} -> 0 | AFZ60: {=IF(AND($CC$57:$CC$58=$CC$58,$CC$58<>$CC$59,$CC$59<>$CC$60,$CC$60:$CC$62=$CC$60,$CE$57:$CE$58=$CE$58,$CE$60:$CE$62=$CE$60,$CF$57<>$CF$58,$CF$60:$CF$62=$CF$60,$CG$60:$CG$62=$CG$60),1,0)} -> 0 | AGA60: {=IF(AND($CC$57:$CC$58=$CC$58,$CC$58<>$CC$59,$CC$59<>$CC$60,$CC$60:$CC$62=$CC$60,$CE$57:$CE$58=$CE$58,$CE$60:$CE$62=$CE$60,$CF$57<>$CF$58,$CF$60:$CF$62=$CF$60,$CG$60:$CG$62=$CG$60),1,0)} -> 0 | AGD60: {=IF(AND($CC$57:$CC$58=$CC$58,$CC$58<>$CC$59,$CC$59<>$CC$60,$CC$60<>$CC$61,$CC$61:$CC$62=$CC$61,$CE$57:$CE$58=$CE$58,$CE$61:$CE$62=$CE$61,$CF$57:$CF$58=$CF$58,$CF$61<>$CF$62,$CG$57:$CG$58=$CG$58),1,0)} -> 0 | AGE60: {=IF(AND($CC$57:$CC$58=$CC$58,$CC$58<>$CC$59,$CC$59<>$CC$60,$CC$60<>$CC$61,$CC$61:$CC$62=$CC$61,$CE$57:$CE$58=$CE$58,$CE$61:$CE$62=$CE$61,$CF$57<>$CF$58,$CF$61:$CF$62=$CF$61,$CG$61:$CG$62=$CG$61),1,0)} -> 0 | AGF60: {=IF(AND($CC$57:$CC$58=$CC$58,$CC$58<>$CC$59,$CC$59<>$CC$60,$CC$60<>$CC$61,$CC$61:$CC$62=$CC$61,$CE$57:$CE$58=$CE$58,$CE$61:$CE$62=$CE$61,$CF$57<>$CF$58,$CF$61<>$CF$62),1,0)} -> 0
JZ61: {=IF(AND($CC$57:$CC$62=$CC$61,$CE$57:$CE$62=$CE$61,$CF$57:$CF$58=$CF$58,$CF$58<>$CF$59,$CF$59:$CF$62=$CF$60,$CG$57:$CG$58=$CG$58,$CG$59<>$CG$60,$CG$60:$CG$62=$CG$61),1,0)} -> 0 | AFZ61: {=IF(AND($CC$57:$CC$58=$CC$58,$CC$58<>$CC$59,$CC$59<>$CC$60,$CC$60:$CC$62=$CC$61,$CE$57:$CE$58=$CE$58,$CE$60:$CE$62=$CE$61,$CF$57<>$CF$58,$CF$60:$CF$62=$CF$61,$CG$60:$CG$62=$CG$61),1,0)} -> 0 | AGA61: {=IF(AND($CC$57:$CC$58=$CC$58,$CC$58<>$CC$59,$CC$59<>$CC$60,$CC$60:$CC$62=$CC$61,$CE$57:$CE$58=$CE$58,$CE$60:$CE$62=$CE$61,$CF$57<>$CF$58,$CF$60:$CF$62=$CF$61,$CG$60:$CG$62=$CG$61),1,0)} -> 0 | AGD61: {=IF(AND($CC$57:$CC$58=$CC$58,$CC$58<>$CC$59,$CC$59<>$CC$60,$CC$60<>$CC$61,$CC$61:$CC$62=$CC$61,$CE$57:$CE$58=$CE$58,$CE$61:$CE$62=$CE$61,$CF$57:$CF$58=$CF$58,$CF$61<>$CF$62,$CG$57:$CG$58=$CG$58),1,0)} -> 0 | AGE61: {=IF(AND($CC$57:$CC$58=$CC$58,$CC$58<>$CC$59,$CC$59<>$CC$60,$CC$60<>$CC$61,$CC$61:$CC$62=$CC$61,$CE$57:$CE$58=$CE$58,$CE$61:$CE$62=$CE$61,$CF$57<>$CF$58,$CF$61:$CF$62=$CF$61,$CG$61:$CG$62=$CG$61),1,0)} -> 0 | AGF61: {=IF(AND($CC$57:$CC$58=$CC$58,$CC$58<>$CC$59,$CC$59<>$CC$60,$CC$60<>$CC$61,$CC$61:$CC$62=$CC$61,$CE$57:$CE$58=$CE$58,$CE$61:$CE$62=$CE$61,$CF$57<>$CF$58,$CF$61<>$CF$62),1,0)} -> 0
CF62: 1 | JZ62: {=IF(AND($CC$57:$CC$62=$CC$62,$CE$57:$CE$62=$CE$62,$CF$57:$CF$58=$CF$58,$CF$58<>$CF$59,$CF$59:$CF$62=$CF$60,$CG$57:$CG$58=$CG$58,$CG$59<>$CG$60,$CG$60:$CG$62=$CG$62),1,0)} -> 0 | AFZ62: {=IF(AND($CC$57:$CC$58=$CC$58,$CC$58<>$CC$59,$CC$59<>$CC$60,$CC$60:$CC$62=$CC$62,$CE$57:$CE$58=$CE$58,$CE$60:$CE$62=$CE$62,$CF$57<>$CF$58,$CF$60:$CF$62=$CF$62,$CG$60:$CG$62=$CG$62),1,0)} -> 0 | AGA62: {=IF(AND($CC$57:$CC$58=$CC$58,$CC$58<>$CC$59,$CC$59<>$CC$60,$CC$60:$CC$62=$CC$62,$CE$57:$CE$58=$CE$58,$CE$60:$CE$62=$CE$62,$CF$57<>$CF$58,$CF$60:$CF$62=$CF$62,$CG$60:$CG$62=$CG$62),1,0)} -> 0 | AGD62: {=IF(AND($CC$57:$CC$58=$CC$58,$CC$58<>$CC$59,$CC$59<>$CC$60,$CC$60<>$CC$61,$CC$61:$CC$62=$CC$62,$CE$57:$CE$58=$CE$58,$CE$61:$CE$62=$CE$62,$CF$57:$CF$58=$CF$58,$CF$61<>$CF$62,$CG$57:$CG$58=$CG$58),1,0)} -> 0 | AGE62: {=IF(AND($CC$57:$CC$58=$CC$58,$CC$58<>$CC$59,$CC$59<>$CC$60,$CC$60<>$CC$61,$CC$61:$CC$62=$CC$62,$CE$57:$CE$58=$CE$58,$CE$61:$CE$62=$CE$62,$CF$57<>$CF$58,$CF$61:$CF$62=$CF$62,$CG$61:$CG$62=$CG$62),1,0)} -> 0 | AGF62: {=IF(AND($CC$57:$CC$58=$CC$58,$CC$58<>$CC$59,$CC$59<>$CC$60,$CC$60<>$CC$61,$CC$61:$CC$62=$CC$62,$CE$57:$CE$58=$CE$58,$CE$61:$CE$62=$CE$62,$CF$57<>$CF$58,$CF$61<>$CF$62),1,0)} -> 0 | AGX62: {=IF(AND($CC$57<>$CC$58,$CC$58:$CC$62=$CC$62,$CE$58:$CE$62=$CE$62,$CF$58<>$CF$59,$CF$59<>$CF$60,$CF$60<>$CF$61,$CF$61:$CF$62=$CF$62,$CG$61:$CG$62=$CG$62),1,0)} -> 0 | AGY62: {=IF(AND($CC$57<>$CC$58,$CC$58:$CC$62=$CC$62,$CE$58:$CE$62=$CE$62,$CF$58<>$CF$59,$CF$59<>$CF$60,$CF$60<>$CF$61,$CF$61<>$CF$62),1,0)} -> 0

Sheet EUROCOPA
E1: Selecciona Horario: | G1: España | I1: Rellenar los cuadros grises
G2: =IFERROR(VLOOKUP(G1,Horarios!L4:M27,2,0),10) -> 8 | AH2: AUXILIARES | AV2: TOPIC | AW2: VALUE | CT2: no
F3: Fecha | G3: Hora | H3: Jor. | I3: Casa | K3: Gol | L3: Gol | N3: Fuera | AV3: SIN EMPEZAR | AW3: =AW4*2 -> 277750000000 | CL3: 1 | CM3: 12 | CN3: 18 | CO3: 19 | CP3: 13 | CQ3: 20 | CR3: 21 | CS3: 22 | CT3: 3 | CU3: 2 | CV3: 14 | CW3: 17 | CX3: 16 | CY3: 15 | CZ3: 4 | DA3: 5 | DB3: 10 | DC3: 8 | DD3: 6 | DE3: 11 | DF3: 7 | DG3: 9 | EC3: OP1 | ED3: OP2 | EE3: OP3 | EF3: OP4 | EG3: OP5 | EH3: OP6 | EI3: OP7 | EJ3: OP8 | EK3: OP9 | EL3: OP10 | MEZ3: matejero
A4: NombreEquipo | B4: A | C4: =COUNTIF(Equipos!$C$2:$C$25,EUROCOPA!B4) -> 4 | E4: A | F4: =Horarios!A4 -> 44358.875 | G4: =Horarios!A4+VLOOKUP($G$2,Horarios!$K$4:$O$27,4,0)*VLOOKUP($G$2,Horarios!$K$4:$O$27,5,0) -> 44358.875 | H4: J1 | I4: =A5 -> Turquia | N4: =A6 -> Italia | O4: =IF(NOT(OR(ISBLANK(K4),ISBLANK(L4))),1,0) -> 0 | Q4: =CONCATENATE("Grupo"," ",B4) -> Grupo A | AB4: ¡EMPATE! Puedes seleccionar el orden de los empatados. | AH4: =CONCATENATE("Auxiliar - ",Q4) -> Auxiliar - Grupo A | AU4: NR | AV4: MÁS PUNTOS General | AW4: =AW6*1111 -> 138875000000 | AY4: =CONCATENATE(Q4," - GOLAVERAGE") -> Grupo A - GOLAVERAGE | BB4: Goles - Partidos Cruzados | BH4: Diferencia de Goles - Partidos Cruzados | BN4: Puntos - Partidos Cruzados | CI4: Valor | CK4: Sum | CL4: =SUM(CL6:CL9) -> 0 | CM4: =SUM(CM6:CM9) -> 0 | CN4: =SUM(CN6:CN9) -> 0 | CO4: =SUM(CO6:CO9) -> 0 | CP4: =SUM(CP6:CP9) -> 0 | CQ4: =SUM(CQ6:CQ9) -> 0 | CR4: =SUM(CR6:CR9) -> 0 | CS4: =SUM(CS6:CS9) -> 0 | ... DG4: =SUM(DG6:DG9) -> 0 | EC4: 1234 | ED4: 123 | EE4: 12 | EF4: 234 | EG4: 34 | EH4: 23 | EI4: 1 | EJ4: 2 | EK4: 3 | EL4: 4
A5: {=IF(ROWS(A$5:A5)<=$C$4,INDEX(INDIRECT(A$4),SMALL(IF(Nivell=$B$4,ROW(Nivell)-ROW(Equipos!$C$2)+1),ROWS(B$4:B4))),"")} -> Turquia | F5: =Horarios!A5 -> 44359.625 | G5: =Horarios!A5+VLOOKUP($G$2,Horarios!$K$4:$O$27,4,0)*VLOOKUP($G$2,Horarios!$K$4:$O$27,5,0) -> 44359.625 | H5: J1 | I5: =A7 -> Gales | N5: =A8 -> Suiza | O5: =IF(NOT(OR(ISBLANK(K5),ISBLANK(L5))),1,0) -> 0 | Q5: Pos | R5: Selección | S5: Pts | T5: J | U5: G | V5: E | W5: P | X5: GF | Y5: GC | Z5: DG | AA5: =COUNTIF(AA6:AA9,"<100") -> 0 | AG5: NR | AH5: Puesto | AI5: Equipo | AJ5: Ptos | AK5: J | AL5: G | AM5: E | AN5: P | AO5: GF | AP5: GC | AQ5: Dif | AR5: Rank | AS5: Puesto | AV5: P part | AW5: =AW6*5 -> 625000000 | AY5: Equipo | AZ5: NEquipEqual | BA5: PUNTOS | BB5: Ranking Inv | BC5: Entre Iguales | BD5: =AY6 -> Turquia | BE5: =AY7 -> Italia | BF5: =AY8 -> Gales | BG5: =AY9 -> Suiza | BH5: Ranking Inv | BI5: Entre Iguales | BJ5: =BD5 -> Turquia | BK5: =BE5 -> Italia | BL5: =BF5 -> Gales | BM5: =BG5 -> Suiza | BN5: Ranking Inv | BO5: Entre Iguales | BP5: =BD5 -> Turquia | BQ5: =BE5 -> Italia | BR5: =BF5 -> Gales | BS5: =BG5 -> Suiza | BV5: Inicio | BW5: =AR | BX5: 1R | CB5: Equipo | CC5: Ptos | CD5: Signo | CE5: Dif | CF5: Gf | CK5: Com | CL5: COM_1 | CM5: COM_2 | CN5: COM_3 | CO5: COM_4 | CP5: COM_5 | CQ5: COM_6 | CR5: COM_7 | CS5: COM_8 | CT5: COM_3 | CU5: COM_3 | CV5: COM_4 | CW5: COM_7 | CX5: COM_6 | CY5: COM_6 | CZ5: COM_5 | DA5: COM_2 | DB5: COM_7 | DC5: COM_6 | DD5: COM_4 | DE5: COM_7 | DF5: COM_4 | DG5: COM_6 | EC5: 1 | ED5: 1 | EE5: 1 | EF5: 2 | EG5: 3 | EH5: 2 | EI5: 1 | EJ5: 2 | EK5: 3 | EL5: 4 | FI5: Ranking Inv | FJ5: ENTRE IGUALES 2 Goles | FK5: Ranking Inv | FL5: ENTRE IGUALES 2 Diferencia Goles | FM5: Ranking Inv | FN5: ENTRE IGUALES 2 Puntos
A6: {=IF(ROWS(A$5:A6)<=$C$4,INDEX(INDIRECT(A$4),SMALL(IF(Nivell=$B$4,ROW(Nivell)-ROW(Equipos!$C$2)+1),ROWS(B$4:B5))),"")} -> Italia | F6: =Horarios!A6 -> 44363.75 | G6: =Horarios!A6+VLOOKUP($G$2,Horarios!$K$4:$O$27,4,0)*VLOOKUP($G$2,Horarios!$K$4:$O$27,5,0) -> 44363.75 | H6: J2 | I6: =A5 -> Turquia | N6: =A7 -> Gales | O6: =IF(NOT(OR(ISBLANK(K6),ISBLANK(L6))),1,0) -> 0 | Q6: 1 | R6: =VLOOKUP(Q6,$AG$6:$AI$9,3,0) -> Turquia | S6: =VLOOKUP(R6,$AI$6:$AR$9,2,FALSE) -> 0 | T6: =VLOOKUP($R6,$AI$6:$AR$9,3,FALSE) -> 0 | U6: =VLOOKUP($R6,$AI$6:$AR$9,4,FALSE) -> 0 | V6: =VLOOKUP($R6,$AI$6:$AR$9,5,FALSE) -> 0 | W6: =VLOOKUP($R6,$AI$6:$AR$9,6,FALSE) -> 0 | X6: =VLOOKUP($R6,$AI$6:$AR$9,7,FALSE) -> 0 | Y6: =VLOOKUP($R6,$AI$6:$AR$9,8,FALSE) -> 0 | Z6: =VLOOKUP($R6,$AI$6:$AR$9,9,FALSE) -> 0 | AA6: =IF(SUM($AK$6:$AK$9)=12,MIN(ABS(BY5-BY6),ABS(BY6-BY7)),100) -> 100 | AB6: =IF(AND(AA6>=0,AA6<90),VLOOKUP(Q6,$BU$6:$BV$9,2,0),"") | AF6: =VLOOKUP($R6,$AI$6:$AR$9,10,FALSE) -> -1 | AG6: =RANK(AU6,$AU$6:$AU$9) -> 1 | AH6: =RANK(AR6,$AR$6:$AR$9) -> 1 | AI6: =A5 -> Turquia | AJ6: =AL6*3+AM6*1+AN6*0 -> 0 | AK6: =COUNTIFS($I$4:$I$49,AI6,$K$4:$K$49,"<>",$L$4:$L$49,"<>")+COUNTIFS($N$4:$N$49,AI6,$L$4:$L$49,"<>",$K$4:$K$49,"<>") -> 0 | AL6: {=SUM(($I$4:$I$49=AI6)*($K$4:$K$49<>"")*($L$4:$L$49<>"")*($K$4:$K$49>$L$4:$L$49),($N$4:$N$49=AI6)*($K$4:$K$49<>"")*($L$4:$L$49<>"")*($K$4:$K$49<$L$4:$L$49))} -> 0 | AM6: {=SUM(($I$4:$I$49=AI6)*($K$4:$K$49<>"")*($L$4:$L$49<>"")*($K$4:$K$49=$L$4:$L$49),($N$4:$N$49=AI6)*($K$4:$K$49<>"")*($L$4:$L$49<>"")*($K$4:$K$49=$L$4:$L$49))} -> 0 | AN6: {=SUM(($I$4:$I$49=AI6)*($L$4:$L$49<>"")*($K$4:$K$49<>"")*($K$4:$K$49<$L$4:$L$49),($K$4:$K$49<>"")*($N$4:$N$49=AI6)*($L$4:$L$49<>"")*($K$4:$K$49>$L$4:$L$49))} -> 0 | AO6: {=SUMIFS($K$4:$K$49,$I$4:$I$49,AI6,$K$4:$K$49,"<>",$L$4:$L$49,"<>")+SUMIFS($L$4:$L$49,$N$4:$N$49,AI6,$K$4:$K$49,"<>",$L$4:$L$49,"<>")} -> 0 | AP6: {=SUMIFS($K$4:$K$49,$N$4:$N$49,AI6,$K$4:$K$49,"<>",$L$4:$L$49,"<>")+SUMIFS($L$4:$L$49,$I$4:$I$49,AI6,$K$4:$K$49,"<>",$L$4:$L$49,"<>")} -> 0 | AQ6: =AO6-AP6 -> 0 | AR6: =IF(AK6=0,-($AW$14*VLOOKUP(AI6,Tabla3[[NombreEquipo]:[Rank]],3,FALSE)),AJ6*$AW$4+BA6+AQ6*$AW$11+AO6*$AW$12+AL6*$AW$13-($AW$14*VLOOKUP(AI6,Tabla3[[NombreEquipo]:[Rank]],3,FALSE)/100)) -> -1 | AS6: =AH6 -> 1 | AU6: =IFERROR(AR6-VLOOKUP(AI6,$AB$6:$AC$9,2,0),AR6) -> -1 | AV6: DG Part | AW6: =AW7*5 -> 125000000 | AY6: =AI6 -> Turquia | AZ6: =COUNTIF(AJ6:AJ9,AJ6) -> 4 | BA6: =(BB6*$AW$7)+(BH6*$AW$6)+(BN6*$AW$5)+(FI6*$AW$10)+(FK6*$AW$9)+(FM6*$AW$8) -> 781200000 | BB6: =RANK(BC6,BC6:BC9,1) -> 1 | BC6: =SUM(IF(AND(AJ6=AJ7),BE6,0),IF(AND(AJ6=AJ8),BF6,0),IF(AND(AJ6=AJ9),BG6,0)) -> 0 | BD6: 0 | BE6: {=SUMIFS($K$4:$K$9,$I$4:$I$9,$AY6,$K$4:$K$9,"<>",$L$4:$L$9,"<>",$N$4:$N$9,BE5)+SUMIFS($L$4:$L$9,$I$4:$I$9,BE5,$K$4:$K$9,"<>",$L$4:$L$9,"<>",$N$4:$N$9,$AY6)} -> 0 | BF6: {=SUMIFS($K$4:$K$9,$I$4:$I$9,$AY6,$K$4:$K$9,"<>",$L$4:$L$9,"<>",$N$4:$N$9,BF5)+SUMIFS($L$4:$L$9,$I$4:$I$9,BF5,$K$4:$K$9,"<>",$L$4:$L$9,"<>",$N$4:$N$9,$AY6)} -> 0 | BG6: {=SUMIFS($K$4:$K$9,$I$4:$I$9,$AY6,$K$4:$K$9,"<>",$L$4:$L$9,"<>",$N$4:$N$9,BG5)+SUMIFS($L$4:$L$9,$I$4:$I$9,BG5,$K$4:$K$9,"<>",$L$4:$L$9,"<>",$N$4:$N$9,$AY6)} -> 0 | BH6: =RANK(BI6,BI6:BI9,1) -> 1 | BI6: =SUM(IF(AND(AJ6=AJ7),BK6,0),IF(AND(AJ6=AJ8),BL6,0),IF(AND(AJ6=AJ9),BM6,0)) -> 0 | BJ6: 0 | BK6: =BE6-BD7 -> 0 | BL6: =BF6-BD8 -> 0 | BM6: =BG6-BD9 -> 0 | BN6: =RANK(BO6,BO6:BO9,1) -> 1 | BO6: =SUM(IF(AND(AJ6=AJ7),BQ6,0),IF(AND(AJ6=AJ8),BR6,0),IF(AND(AJ6=AJ9),BS6,0)) -> 0 | BP6: 0 | BQ6: {=SUM((I$4:I$49=AY6)*(N$4:N$49=BQ5)*(K$4:K$49<>"")*(L$4:L$49<>"")*(K$4:K$49>L$4:L$49)*3,(N$4:N$49=AY6)*(I$4:I$49=BQ5)*(K$4:K$49<>"")*(L$4:L$49<>"")*(K$4:K$49=L$4:L$49)*1,(N$4:N$49=AY6)*(I$4:I$49=BQ5)*(K$4:K$49<>"")*(L$4:L$49<>"")*(K$4:K$49<L$4:L$49)*3,(I$4:I$49=AY6)*(N$4:N$49=BQ5)*(K$4:K$49<>"")*(L$4:L$49<>"")*(K$4:K$49=L$4:L$49)*1)} -> 0 | BR6: {=SUM((I$4:I$49=AY6)*(N$4:N$49=BR5)*(K$4:K$49<>"")*(L$4:L$49<>"")*(K$4:K$49>L$4:L$49)*3,(N$4:N$49=AY6)*(I$4:I$49=BR5)*(K$4:K$49<>"")*(L$4:L$49<>"")*(K$4:K$49=L$4:L$49)*1,(N$4:N$49=AY6)*(I$4:I$49=BR5)*(K$4:K$49<>"")*(L$4:L$49<>"")*(K$4:K$49<L$4:L$49)*3,(I$4:I$49=AY6)*(N$4:N$49=BR5)*(K$4:K$49<>"")*(L$4:L$49<>"")*(K$4:K$49=L$4:L$49)*1)} -> 0 | BS6: {=SUM((I$4:I$49=AY6)*(N$4:N$49=BS5)*(K$4:K$49<>"")*(L$4:L$49<>"")*(K$4:K$49>L$4:L$49)*3,(N$4:N$49=AY6)*(I$4:I$49=BS5)*(K$4:K$49<>"")*(L$4:L$49<>"")*(K$4:K$49=L$4:L$49)*1,(N$4:N$49=AY6)*(I$4:I$49=BS5)*(K$4:K$49<>"")*(L$4:L$49<>"")*(K$4:K$49<L$4:L$49)*3,(I$4:I$49=AY6)*(N$4:N$49=BS5)*(K$4:K$49<>"")*(L$4:L$49<>"")*(K$4:K$49=L$4:L$49)*1)} -> 0 | BT6: 1 | BU6: =RANK(BW6,$BW$6:$BW$9) -> 1 | BV6: =A5 -> Turquia | BW6: =IF(AK6=0,-($AW$14*VLOOKUP(AI6,Tabla3[[NombreEquipo]:[Rank]],3,FALSE)),AJ6*$AW$4+BA6+AQ6*$AW$11+AO6*$AW$12+AL6*$AW$13-($AW$14*VLOOKUP(AI6,Tabla3[[NombreEquipo]:[Rank]],3,FALSE)/100)) -> -1 | BX6: =VLOOKUP(Q6,$AH$6:$AI$9,2,0) -> Turquia | BY6: =VLOOKUP($BX6,$AI$6:$AR$9,10,FALSE) -> -1 | CA6: 1 | CB6: =VLOOKUP(CA6,$AH$6:$AI$9,2,0) -> Turquia | CC6: =VLOOKUP(CB6,$AI$6:$AR$9,2,FALSE) -> 0 | CD6: =IF(SUM($AK$6:$AK$9)=12,MIN(ABS(BY5-BY6),ABS(BY6-BY7)),100) -> 100 | CE6: =VLOOKUP($CB6,$AI$6:$AR$9,9,FALSE) -> 0 | CF6: =VLOOKUP($CB6,$AI$6:$AR$9,7,FALSE) -> 0 | CH6: {=IF($CI$6=$CL$5,$EC$5:$EC$8,IF($CI$6=$CM$5,$ED$5:$ED$7,IF(OR($CI$6=$CN$5,$CI$6=$CO$5),$EE$5:$EE$6,$EI$5)))} -> 1 | CI6: =IFERROR(HLOOKUP(4,CL4:DI5,2,0),CS5) -> COM_8 | CK6: 1 | CL6: {=IF(AND($CC$6:$CC$9=$CC$6,$CD$6:$CD$9<90,$AQ$6:$AQ$9=$AQ$6,$CF$6:$CF$9=$CF$6),1,0)} -> 0 | CM6: {=IF(AND($CC$6:$CC$8=$CC$6,$CD$6:$CD$8<90,$CC$6<>$CC$9),1,0)} -> 0 | CN6: {=IF(AND($CC$6:$CC$7=$CC$6,$CD$6:$CD$7<90,$CC$6<>$CC$8),1,0)} -> 0 | CO6: {=IF(AND($CC$6:$CC$7=$CC$6,$CD$6:$CD$7<90,$CC$6<>$CC$8),1,0)} -> 0 | CP6: {=IF(AND($CC$7:$CC$9=$CC$7,$CD$7:$CD$9<90,$CC$6<>$CC$7),1,0)} -> 0 | CQ6: {=IF(AND($CC$6<>$CC$7,$CC$6<>$CC$9),1,0)} -> 0 | CR6: {=IF(AND($CC$6<>$CC$7,$CC$6<>$CC$9),1,0)} -> 0 | CS6: {=IF(AND($CC$6<>$CC$7,$CC$6<>$CC$9),1,0)} -> 0 | CT6: {=IF(AND($CC$6:$CC$9=$CC$6,$CD$6:$CD$9<90,$CE$6:$CE$7=$CE$6,$CE$6<>$CE$8),1,0)} -> 0 | CU6: {=IF(AND($CC$6:$CC$9=$CC$6,$CD$6:$CD$9<90,$CE$6:$CE$9=$CE$6,$CF$6=$CF$7,$CF$6<>$CF$8),1,0)} -> 0 | CV6: {=IF(AND($CC$6:$CC$8=$CC$6,$CD$6:$CD$7<90,$CD$8>90),1,0)} -> 0 | CW6: {=IF(AND($CC$6<>$CC$7,$CC$6<>$CC$8),1,0)} -> 0 | CX6: {=IF(AND($CC$6<>$CC$7,$CC$6<>$CC$8),1,0)} -> 0 | CY6: {=IF(AND($CC$6<>$CC$9,$CC$6:$CC$8=$CC$6,$CD$6>90,$CD$7:$CD$8<90),1,0)} -> 0 | CZ6: {=IF(AND($CC$6:$CC$9=$CC$6,$CD$7:$CD$9<90,$CD$6<>$CD$7),1,0)} -> 0 | DA6: {=IF(AND($CC$6:$CC$9=$CC$6,$CD$6:$CD$8<90,$CD$6<>$CD$9),1,0)} -> 0 | DB6: {=IF(AND($CC$6:$CC$9=$CC$6,$CD$6:$CD$7>90,$CD$8:$CD$9<90,$CE$6:$CE$9=$CE$6,$CF$6>$CF$7,$CF$6>$CF$8,$CF$6>$CF$9),1,0)} -> 0 | DC6: {=IF(AND($CC$6:$CC$9=$CC$6,$CD$6>90,$CD$7:$CD$8<90,$CD$9>90,$CE$6:$CE$9=$CE$6,$CF$6>$CF$7,$CF$6>$CF$8,$CF$6>$CF$9),1,0)} -> 0 | DD6: {=IF(AND($CC$6:$CC$9=$CC$6,$CD$6:$CD$7<90,$CD$8:$CD$9>90,$CE$6:$CE$9=$CE$6,$CF$6=$CF$7,$CF$6>$CF$8,$CF$6>$CF$9),1,0)} -> 0 | DE6: {=IF(AND($CC$6:$CC$9=$CC$6,$CD$6:$CD$7>90,$CD$8:$CD$9<90,$CE$6:$CE$9=$CE$6,$CF$6>$CF$7,$CF$7:$CF$9=$CF$7),1,0)} -> 0 | DF6: {=IF(AND($CC$6:$CC$9=$CC$6,$CD$6:$CD$7<90,$CD$8:$CD$9>90,$CE$6:$CE$9=$CE$6,$CF$6:$CF$8=$CF$6,$CF$6>$CF$9),1,0)} -> 0 | DG6: {=IF(AND($CC$6:$CC$9=$CC$6,$CD$6>90,$CD$9>90,$CD$7:$CD$8<90,$CE$6:$CE$9=$CE$6,$CF$6>$CF$7:$CF$9),1,0)} -> 0 | EC6: 2 | ED6: 2 | EE6: 2 | EF6: 3 | EG6: 4 | EH6: 3 | FI6: =RANK(FJ6,FJ6:FJ9,1) -> 1 | FJ6: =SUM(IF(AND(AJ6=AJ7,BC6=BC7,BI6=BI7,BO6=BO7),BE6,0),IF(AND(AJ6=AJ8,BC6=BC8,BI6=BI8,BO6=BO8),BF6,0),IF(AND(AJ6=AJ9,BC6=BC9,BI6=BI9,BO6=BO9),BG6,0)) -> 0 | FK6: =RANK(FL6,FL6:FL9,1) -> 1 | FL6: =SUM(IF(AND(AJ6=AJ7,BC6=BC7,BI6=BI7,BO6=BO7),BK6,0),IF(AND(AJ6=AJ8,BC6=BC8,BI6=BI8,BO6=BO8),BL6,0),IF(AND(AJ6=AJ9,BC6=BC9,BI6=BI9,BO6=BO9),BM6,0)) -> 0 | FM6: =RANK(FN6,FN6:FN9,1) -> 1 | FN6: =SUM(IF(AND(AJ6=AJ7,BC6=BC7,BI6=BI7,BO6=BO7),BQ6,0),IF(AND(AJ6=AJ8,BC6=BC8,BI6=BI8,BO6=BO8),BR6,0),IF(AND(AJ6=AJ9,BC6=BC9,BI6=BI9,BO6=BO9),BS6,0)) -> 0
A7: {=IF(ROWS(A$5:A7)<=$C$4,INDEX(INDIRECT(A$4),SMALL(IF(Nivell=$B$4,ROW(Nivell)-ROW(Equipos!$C$2)+1),ROWS(B$4:B6))),"")} -> Gales | F7: =Horarios!A7 -> 44363.875 | G7: =Horarios!A7+VLOOKUP($G$2,Horarios!$K$4:$O$27,4,0)*VLOOKUP($G$2,Horarios!$K$4:$O$27,5,0) -> 44363.875 | H7: J2 | I7: =A6 -> Italia | N7: =A8 -> Suiza | O7: =IF(NOT(OR(ISBLANK(K7),ISBLANK(L7))),1,0) -> 0 | Q7: 2 | R7: =VLOOKUP(Q7,$AG$6:$AI$9,3,0) -> Italia | S7: =VLOOKUP(R7,$AI$6:$AR$9,2,FALSE) -> 0 | T7: =VLOOKUP($R7,$AI$6:$AR$9,3,FALSE) -> 0 | U7: =VLOOKUP($R7,$AI$6:$AR$9,4,FALSE) -> 0 | V7: =VLOOKUP($R7,$AI$6:$AR$9,5,FALSE) -> 0 | W7: =VLOOKUP($R7,$AI$6:$AR$9,6,FALSE) -> 0 | X7: =VLOOKUP($R7,$AI$6:$AR$9,7,FALSE) -> 0 | Y7: =VLOOKUP($R7,$AI$6:$AR$9,8,FALSE) -> 0 | Z7: =VLOOKUP($R7,$AI$6:$AR$9,9,FALSE) -> 0 | AA7: =IF(SUM($AK$6:$AK$9)=12,MIN(ABS(BY6-BY7),ABS(BY7-BY8)),100) -> 100 | AB7: =IF(AND(AA7>=0,AA7<90),VLOOKUP(Q7,$BU$6:$BV$9,2,0),"") | AF7: =VLOOKUP($R7,$AI$6:$AR$9,10,FALSE) -> -2 | AG7: =RANK(AU7,$AU$6:$AU$9) -> 2 | AH7: =RANK(AR7,$AR$6:$AR$9) -> 2 | AI7: =A6 -> Italia | AJ7: =AL7*3+AM7*1+AN7*0 -> 0 | AK7: =COUNTIFS($I$4:$I$49,AI7,$K$4:$K$49,"<>",$L$4:$L$49,"<>")+COUNTIFS($N$4:$N$49,AI7,$L$4:$L$49,"<>",$K$4:$K$49,"<>") -> 0 | AL7: {=SUM(($I$4:$I$49=AI7)*($K$4:$K$49<>"")*($L$4:$L$49<>"")*($K$4:$K$49>$L$4:$L$49),($N$4:$N$49=AI7)*($K$4:$K$49<>"")*($L$4:$L$49<>"")*($K$4:$K$49<$L$4:$L$49))} -> 0 | AM7: {=SUM(($I$4:$I$49=AI7)*($K$4:$K$49<>"")*($L$4:$L$49<>"")*($K$4:$K$49=$L$4:$L$49),($N$4:$N$49=AI7)*($K$4:$K$49<>"")*($L$4:$L$49<>"")*($K$4:$K$49=$L$4:$L$49))} -> 0 | AN7: {=SUM(($I$4:$I$49=AI7)*($L$4:$L$49<>"")*($K$4:$K$49<>"")*($K$4:$K$49<$L$4:$L$49),($K$4:$K$49<>"")*($N$4:$N$49=AI7)*($L$4:$L$49<>"")*($K$4:$K$49>$L$4:$L$49))} -> 0 | AO7: {=SUMIFS($K$4:$K$49,$I$4:$I$49,AI7,$K$4:$K$49,"<>",$L$4:$L$49,"<>")+SUMIFS($L$4:$L$49,$N$4:$N$49,AI7,$K$4:$K$49,"<>",$L$4:$L$49,"<>")} -> 0 | AP7: {=SUMIFS($K$4:$K$49,$N$4:$N$49,AI7,$K$4:$K$49,"<>",$L$4:$L$49,"<>")+SUMIFS($L$4:$L$49,$I$4:$I$49,AI7,$K$4:$K$49,"<>",$L$4:$L$49,"<>")} -> 0 | AQ7: =AO7-AP7 -> 0 | AR7: =IF(AK7=0,-($AW$14*VLOOKUP(AI7,Tabla3[[NombreEquipo]:[Rank]],3,FALSE)),AJ7*$AW$4+BA7+AQ7*$AW$11+AO7*$AW$12+AL7*$AW$13-($AW$14*VLOOKUP(AI7,Tabla3[[NombreEquipo]:[Rank]],3,FALSE)/100)) -> -2 | AS7: =AH7 -> 2 | AU7: =IFERROR(AR7-VLOOKUP(AI7,$AB$6:$AC$9,2,0),AR7) -> -2 | AV7: G Part | AW7: =AW8*5 -> 25000000 | AY7: =AI7 -> Italia | AZ7: =COUNTIF(AJ6:AJ9,AJ7) -> 4 | BA7: =(BB7*$AW$7)+(BH7*$AW$6)+(BN7*$AW$5)+(FI7*$AW$10)+(FK7*$AW$9)+(FM7*$AW$8) -> 781200000 | BB7: =RANK(BC7,BC6:BC9,1) -> 1 | BC7: =SUM(IF(AND(AJ7=AJ8),BF7,0),IF(AND(AJ7=AJ9),BG7,0),IF(AND(AJ7=AJ6),BD7,0)) -> 0 | BD7: {=SUMIFS($K$4:$K$9,$I$4:$I$9,$AY7,$K$4:$K$9,"<>",$L$4:$L$9,"<>",$N$4:$N$9,BD5)+SUMIFS($L$4:$L$9,$I$4:$I$9,BD5,$K$4:$K$9,"<>",$L$4:$L$9,"<>",$N$4:$N$9,$AY7)} -> 0 | BE7: 0 | BF7: {=SUMIFS($K$4:$K$9,$I$4:$I$9,$AY7,$K$4:$K$9,"<>",$L$4:$L$9,"<>",$N$4:$N$9,BF5)+SUMIFS($L$4:$L$9,$I$4:$I$9,BF5,$K$4:$K$9,"<>",$L$4:$L$9,"<>",$N$4:$N$9,$AY7)} -> 0 | BG7: {=SUMIFS($K$4:$K$9,$I$4:$I$9,$AY7,$K$4:$K$9,"<>",$L$4:$L$9,"<>",$N$4:$N$9,BG5)+SUMIFS($L$4:$L$9,$I$4:$I$9,BG5,$K$4:$K$9,"<>",$L$4:$L$9,"<>",$N$4:$N$9,$AY7)} -> 0 | BH7: =RANK(BI7,BI6:BI9,1) -> 1 | BI7: =SUM(IF(AND(AJ7=AJ8),BL7,0),IF(AND(AJ7=AJ9),BM7,0),IF(AND(AJ7=AJ6),BJ7,0)) -> 0 | BJ7: =BD7-BE6 -> 0 | BK7: 0 | BL7: =BF7-BE8 -> 0 | BM7: =BG7-BE9 -> 0 | BN7: =RANK(BO7,BO6:BO9,1) -> 1 | BO7: =SUM(IF(AND(AJ7=AJ8),BR7,0),IF(AND(AJ7=AJ9),BS7,0),IF(AND(AJ7=AJ6),BP7,0)) -> 0 | BP7: {=SUM((I$4:I$49=AY7)*(N$4:N$49=BP5)*(K$4:K$49<>"")*(L$4:L$49<>"")*(K$4:K$49>L$4:L$49)*3,(N$4:N$49=AY7)*(I$4:I$49=BP5)*(K$4:K$49<>"")*(L$4:L$49<>"")*(K$4:K$49=L$4:L$49)*1,(N$4:N$49=AY7)*(I$4:I$49=BP5)*(K$4:K$49<>"")*(L$4:L$49<>"")*(K$4:K$49<L$4:L$49)*3,(I$4:I$49=AY7)*(N$4:N$49=BP5)*(K$4:K$49<>"")*(L$4:L$49<>"")*(K$4:K$49=L$4:L$49)*1)} -> 0 | BQ7: 0 | BR7: {=SUM((I$4:I$49=AY7)*(N$4:N$49=BR5)*(K$4:K$49<>"")*(L$4:L$49<>"")*(K$4:K$49>L$4:L$49)*3,(N$4:N$49=AY7)*(I$4:I$49=BR5)*(K$4:K$49<>"")*(L$4:L$49<>"")*(K$4:K$49=L$4:L$49)*1,(N$4:N$49=AY7)*(I$4:I$49=BR5)*(K$4:K$49<>"")*(L$4:L$49<>"")*(K$4:K$49<L$4:L$49)*3,(I$4:I$49=AY7)*(N$4:N$49=BR5)*(K$4:K$49<>"")*(L$4:L$49<>"")*(K$4:K$49=L$4:L$49)*1)} -> 0 | BS7: {=SUM((I$4:I$49=AY7)*(N$4:N$49=BS5)*(K$4:K$49<>"")*(L$4:L$49<>"")*(K$4:K$49>L$4:L$49)*3,(N$4:N$49=AY7)*(I$4:I$49=BS5)*(K$4:K$49<>"")*(L$4:L$49<>"")*(K$4:K$49=L$4:L$49)*1,(N$4:N$49=AY7)*(I$4:I$49=BS5)*(K$4:K$49<>"")*(L$4:L$49<>"")*(K$4:K$49<L$4:L$49)*3,(I$4:I$49=AY7)*(N$4:N$49=BS5)*(K$4:K$49<>"")*(L$4:L$49<>"")*(K$4:K$49=L$4:L$49)*1)} -> 0 | BT7: 2 | BU7: =RANK(BW7,$BW$6:$BW$9) -> 2 | BV7: =A6 -> Italia | BW7: =IF(AK7=0,-($AW$14*VLOOKUP(AI7,Tabla3[[NombreEquipo]:[Rank]],3,FALSE)),AJ7*$AW$4+BA7+AQ7*$AW$11+AO7*$AW$12+AL7*$AW$13-($AW$14*VLOOKUP(AI7,Tabla3[[NombreEquipo]:[Rank]],3,FALSE)/100)) -> -2 | BX7: =VLOOKUP(Q7,$AH$6:$AI$9,2,0) -> Italia | BY7: =VLOOKUP($BX7,$AI$6:$AR$9,10,FALSE) -> -2 | CA7: 2 | CB7: =VLOOKUP(CA7,$AH$6:$AI$9,2,0) -> Italia | CC7: =VLOOKUP(CB7,$AI$6:$AR$9,2,FALSE) -> 0 | CD7: =IF(SUM($AK$6:$AK$9)=12,MIN(ABS(BY6-BY7),ABS(BY7-BY8)),100) -> 100 | CE7: =VLOOKUP($CB7,$AI$6:$AR$9,9,FALSE) -> 0 | CF7: =VLOOKUP($CB7,$AI$6:$AR$9,7,FALSE) -> 0 | CH7: {=IF($CI$6=$CL$5,$EC$5:$EC$8,IF($CI$6=$CM$5,$ED$5:$ED$7,IF(OR($CI$6=$CN$5,$CI$6=$CO$5),$EE$5:$EE$6,IF($CI$6=$CP$5,$EF$5:$EF$7,(IF($CI$6=$CQ$5,$EH$5:$EH$6,$EJ$5))))))} -> 2 | CK7: 2 | CL7: {=IF(AND($CC$6:$CC$9=$CC$7,$CD$6:$CD$9<90,$AQ$6:$AQ$9=$AQ$7,$CF$6:$CF$9=$CF$7),1,0)} -> 0 | CM7: {=IF(AND($CC$6:$CC$8=$CC$7,$CD$6:$CD$8<90,$CC$7<>$CC$9),1,0)} -> 0 | CN7: {=IF(AND($CC$6:$CC$7=$CC$6,$CD$6:$CD$7<90,$CC$6<>$CC$8),1,0)} -> 0 | CO7: {=IF(AND($CC$6:$CC$7=$CC$6,$CD$6:$CD$7<90,$CC$6<>$CC$8),1,0)} -> 0 | CP7: {=IF(AND($CC$7:$CC$9=$CC$7,$CD$7:$CD$9<90,$CC$6<>$CC$7),1,0)} -> 0 | CQ7: {=IF(AND($CC$7:$CC$8=$CC$7,$CD$7:$CD$8<90,$CC$7<>$CC$6,$CC$7<>$CC$9),1,0)} -> 0 | CR7: {=IF(AND($CC$7<>$CC$6,$CC$7<>$CC$8),1,0)} -> 0 | CS7: {=IF(AND($CC$7<>$CC$6,$CC$7<>$CC$8),1,0)} -> 0 | CT7: {=IF(AND($CC$6:$CC$9=$CC$6,$CD$6:$CD$9<90,$CE$6:$CE$7=$CE$6,$CE$7<>$CE$8),1,0)} -> 0 | CU7: {=IF(AND($CC$6:$CC$9=$CC$6,$CD$6:$CD$9<90,$CE$6:$CE$9=$CE$6,$CF$6=$CF$7,$CF$7<>$CF$8),1,0)} -> 0 | CV7: {=IF(AND($CC$6:$CC$8=$CC$7,$CD$6:$CD$7<90,$CD$8>90),1,0)} -> 0 | CW7: {=IF(AND($CC$7<>$CC$6,$CC$7:$CC$9=$CC$7,$CD$7>90,$CD$8:$CD$9<90),1,0)} -> 0 | CX7: {=IF(AND($CC$7<>$CC$6,$CC$7:$CC$9=$CC$7,$CD$9>90,$CD$7:$CD$8<90),1,0)} -> 0 | CY7: {=IF(AND($CC$7<>$CC$9,$CC$6:$CC$8=$CC$7,$CD$6>90,$CD$7:$CD$8<90),1,0)} -> 0 | CZ7: {=IF(AND($CC$6:$CC$9=$CC$7,$CD$7:$CD$9<90,$CD$6<>$CD$7),1,0)} -> 0 | DA7: {=IF(AND($CC$6:$CC$9=$CC$7,$CD$6:$CD$8<90,$CD$7<>$CD$9),1,0)} -> 0 | DB7: {=IF(AND($CC$6:$CC$9=$CC$7,$CD$6:$CD$7>90,$CD$8:$CD$9<90,$CE$6:$CE$9=$CE$7,$CF$6>$CF$7,$CF$7>$CF$8,$CF$7>$CF$9),1,0)} -> 0 | DC7: {=IF(AND($CC$6:$CC$9=$CC$7,$CD$6>90,$CD$7:$CD$8<90,$CD$9>90,$CE$6:$CE$9=$CE$7,$CF$6>$CF$7,$CF$7=$CF$8,$CF$7>$CF$9),1,0)} -> 0 | DD7: {=IF(AND($CC$6:$CC$9=$CC$7,$CD$6:$CD$7<90,$CD$8:$CD$9>90,$CE$6:$CE$9=$CE$7,$CF$6=$CF$7,$CF$7>$CF$8,$CF$7>$CF$9),1,0)} -> 0 | DE7: {=IF(AND($CC$6:$CC$9=$CC$7,$CD$6:$CD$7>90,$CD$8:$CD$9<90,$CE$6:$CE$9=$CE$7,$CF$6>$CF$7,$CF$7:$CF$9=$CF$7),1,0)} -> 0 | DF7: {=IF(AND($CC$6:$CC$9=$CC$7,$CD$6:$CD$7<90,$CD$8:$CD$9>90,$CE$6:$CE$9=$CE$7,$CF$6:$CF$8=$CF$7,$CF$7>$CF$9),1,0)} -> 0 | DG7: {=IF(AND($CC$6:$CC$9=$CC$7,$CD$6>90,$CD$9>90,$CD$7:$CD$8<90,$CE$6:$CE$9=$CE$7,$CF$6>$CF$7:$CF$9,$CF$7:$CF$9=$CF$7),1,0)} -> 0 | EC7: 3 | ED7: 3 | EF7: 4 | FI7: =RANK(FJ7,FJ6:FJ9,1) -> 1 | FJ7: =SUM(IF(AND(AJ7=AJ8,BC7=BC8,BI7=BI8,BO7=BO8),BF7,0),IF(AND(AJ7=AJ9,BC7=BC9,BI7=BI9,BO7=BO9),BG7,0),IF(AND(AJ7=AJ6,BC7=BC6,BI7=BI6,BO7=BO6),BD7,0)) -> 0 | FK7: =RANK(FL7,FL6:FL9,1) -> 1 | FL7: =SUM(IF(AND(AJ7=AJ8,BC7=BC8,BI7=BI8,BO7=BO8),BL7,0),IF(AND(AJ7=AJ9,BC7=BC9,BI7=BI9,BO7=BO9),BM7,0),IF(AND(AJ7=AJ6,BC7=BC6,BI7=BI6,BO7=BO6),BJ7,0)) -> 0 | FM7: =RANK(FN7,FN6:FN9,1) -> 1 | FN7: =SUM(IF(AND(AJ7=AJ8,BC7=BC8,BI7=BI8,BO7=BO8),BR7,0),IF(AND(AJ7=AJ9,BC7=BC9,BI7=BI9,BO7=BO9),BS7,0),IF(AND(AJ7=AJ6,BC7=BC6,BI7=BI6,BO7=BO6),BP7,0)) -> 0
A8: {=IF(ROWS(A$5:A8)<=$C$4,INDEX(INDIRECT(A$4),SMALL(IF(Nivell=$B$4,ROW(Nivell)-ROW(Equipos!$C$2)+1),ROWS(B$4:B7))),"")} -> Suiza | F8: =Horarios!A8 -> 44367.75 | G8: =Horarios!A8+VLOOKUP($G$2,Horarios!$K$4:$O$27,4,0)*VLOOKUP($G$2,Horarios!$K$4:$O$27,5,0) -> 44367.75 | H8: J3 | I8: =A6 -> Italia | N8: =A7 -> Gales | O8: =IF(NOT(OR(ISBLANK(K8),ISBLANK(L8))),1,0) -> 0 | Q8: 3 | R8: =VLOOKUP(Q8,$AG$6:$AI$9,3,0) -> Gales | S8: =VLOOKUP(R8,$AI$6:$AR$9,2,FALSE) -> 0 | T8: =VLOOKUP($R8,$AI$6:$AR$9,3,FALSE) -> 0 | U8: =VLOOKUP($R8,$AI$6:$AR$9,4,FALSE) -> 0 | V8: =VLOOKUP($R8,$AI$6:$AR$9,5,FALSE) -> 0 | W8: =VLOOKUP($R8,$AI$6:$AR$9,6,FALSE) -> 0 | X8: =VLOOKUP($R8,$AI$6:$AR$9,7,FALSE) -> 0 | Y8: =VLOOKUP($R8,$AI$6:$AR$9,8,FALSE) -> 0 | Z8: =VLOOKUP($R8,$AI$6:$AR$9,9,FALSE) -> 0 | AA8: =IF(SUM($AK$6:$AK$9)=12,MIN(ABS(BY7-BY8),ABS(BY8-BY9)),100) -> 100 | AB8: =IF(AND(AA8>=0,AA8<90),VLOOKUP(Q8,$BU$6:$BV$9,2,0),"") | AF8: =VLOOKUP($R8,$AI$6:$AR$9,10,FALSE) -> -3 | AG8: =RANK(AU8,$AU$6:$AU$9) -> 3 | AH8: =RANK(AR8,$AR$6:$AR$9) -> 3 | AI8: =A7 -> Gales | AJ8: =AL8*3+AM8*1+AN8*0 -> 0 | AK8: =COUNTIFS($I$4:$I$49,AI8,$K$4:$K$49,"<>",$L$4:$L$49,"<>")+COUNTIFS($N$4:$N$49,AI8,$L$4:$L$49,"<>",$K$4:$K$49,"<>") -> 0 | AL8: {=SUM(($I$4:$I$49=AI8)*($K$4:$K$49<>"")*($L$4:$L$49<>"")*($K$4:$K$49>$L$4:$L$49),($N$4:$N$49=AI8)*($K$4:$K$49<>"")*($L$4:$L$49<>"")*($K$4:$K$49<$L$4:$L$49))} -> 0 | AM8: {=SUM(($I$4:$I$49=AI8)*($K$4:$K$49<>"")*($L$4:$L$49<>"")*($K$4:$K$49=$L$4:$L$49),($N$4:$N$49=AI8)*($K$4:$K$49<>"")*($L$4:$L$49<>"")*($K$4:$K$49=$L$4:$L$49))} -> 0 | AN8: {=SUM(($I$4:$I$49=AI8)*($L$4:$L$49<>"")*($K$4:$K$49<>"")*($K$4:$K$49<$L$4:$L$49),($K$4:$K$49<>"")*($N$4:$N$49=AI8)*($L$4:$L$49<>"")*($K$4:$K$49>$L$4:$L$49))} -> 0 | AO8: {=SUMIFS($K$4:$K$49,$I$4:$I$49,AI8,$K$4:$K$49,"<>",$L$4:$L$49,"<>")+SUMIFS($L$4:$L$49,$N$4:$N$49,AI8,$K$4:$K$49,"<>",$L$4:$L$49,"<>")} -> 0 | AP8: {=SUMIFS($K$4:$K$49,$N$4:$N$49,AI8,$K$4:$K$49,"<>",$L$4:$L$49,"<>")+SUMIFS($L$4:$L$49,$I$4:$I$49,AI8,$K$4:$K$49,"<>",$L$4:$L$49,"<>")} -> 0 | AQ8: =AO8-AP8 -> 0 | AR8: =IF(AK8=0,-($AW$14*VLOOKUP(AI8,Tabla3[[NombreEquipo]:[Rank]],3,FALSE)),AJ8*$AW$4+BA8+AQ8*$AW$11+AO8*$AW$12+AL8*$AW$13-($AW$14*VLOOKUP(AI8,Tabla3[[NombreEquipo]:[Rank]],3,FALSE)/100)) -> -3 | AS8: =AH8 -> 3 | AU8: =IFERROR(AR8-VLOOKUP(AI8,$AB$6:$AC$9,2,0),AR8) -> -3 | AV8: P part 2 | AW8: =AW9*5 -> 5000000 | AY8: =AI8 -> Gales | AZ8: =COUNTIF(AJ6:AJ9,AJ8) -> 4 | BA8: =(BB8*$AW$7)+(BH8*$AW$6)+(BN8*$AW$5)+(FI8*$AW$10)+(FK8*$AW$9)+(FM8*$AW$8) -> 781200000 | BB8: =RANK(BC8,BC6:BC9,1) -> 1 | BC8: =SUM(IF(AND(AJ8=AJ9),BG8,0),IF(AND(AJ8=AJ6),BD8,0),IF(AND(AJ8=AJ7),BE8,0)) -> 0 | BD8: {=SUMIFS($K$4:$K$9,$I$4:$I$9,$AY8,$K$4:$K$9,"<>",$L$4:$L$9,"<>",$N$4:$N$9,BD5)+SUMIFS($L$4:$L$9,$I$4:$I$9,BD5,$K$4:$K$9,"<>",$L$4:$L$9,"<>",$N$4:$N$9,$AY8)} -> 0 | BE8: {=SUMIFS($K$4:$K$9,$I$4:$I$9,$AY8,$K$4:$K$9,"<>",$L$4:$L$9,"<>",$N$4:$N$9,BE5)+SUMIFS($L$4:$L$9,$I$4:$I$9,BE5,$K$4:$K$9,"<>",$L$4:$L$9,"<>",$N$4:$N$9,$AY8)} -> 0 | BF8: 0 | BG8: {=SUMIFS($K$4:$K$9,$I$4:$I$9,$AY8,$K$4:$K$9,"<>",$L$4:$L$9,"<>",$N$4:$N$9,BG5)+SUMIFS($L$4:$L$9,$I$4:$I$9,BG5,$K$4:$K$9,"<>",$L$4:$L$9,"<>",$N$4:$N$9,$AY8)} -> 0 | BH8: =RANK(BI8,BI6:BI9,1) -> 1 | BI8: =SUM(IF(AND(AJ8=AJ9),BM8,0),IF(AND(AJ8=AJ6),BJ8,0),IF(AND(AJ8=AJ7),BK8,0)) -> 0 | BJ8: =BD8-BF6 -> 0 | BK8: =BE8-BF7 -> 0 | BL8: 0 | BM8: =BG8-BF9 -> 0 | BN8: =RANK(BO8,BO6:BO9,1) -> 1 | BO8: =SUM(IF(AND(AJ8=AJ9),BS8,0),IF(AND(AJ8=AJ6),BP8,0),IF(AND(AJ8=AJ7),BQ8,0)) -> 0 | BP8: {=SUM((I$4:I$49=AY8)*(N$4:N$49=BP5)*(K$4:K$49<>"")*(L$4:L$49<>"")*(K$4:K$49>L$4:L$49)*3,(N$4:N$49=AY8)*(I$4:I$49=BP5)*(K$4:K$49<>"")*(L$4:L$49<>"")*(K$4:K$49=L$4:L$49)*1,(N$4:N$49=AY8)*(I$4:I$49=BP5)*(K$4:K$49<>"")*(L$4:L$49<>"")*(K$4:K$49<L$4:L$49)*3,(I$4:I$49=AY8)*(N$4:N$49=BP5)*(K$4:K$49<>"")*(L$4:L$49<>"")*(K$4:K$49=L$4:L$49)*1)} -> 0 | BQ8: {=SUM((I$4:I$49=AY8)*(N$4:N$49=BQ5)*(K$4:K$49<>"")*(L$4:L$49<>"")*(K$4:K$49>L$4:L$49)*3,(N$4:N$49=AY8)*(I$4:I$49=BQ5)*(K$4:K$49<>"")*(L$4:L$49<>"")*(K$4:K$49=L$4:L$49)*1,(N$4:N$49=AY8)*(I$4:I$49=BQ5)*(K$4:K$49<>"")*(L$4:L$49<>"")*(K$4:K$49<L$4:L$49)*3,(I$4:I$49=AY8)*(N$4:N$49=BQ5)*(K$4:K$49<>"")*(L$4:L$49<>"")*(K$4:K$49=L$4:L$49)*1)} -> 0 | BR8: 0 | BS8: {=SUM((I$4:I$49=AY8)*(N$4:N$49=BS5)*(K$4:K$49<>"")*(L$4:L$49<>"")*(K$4:K$49>L$4:L$49)*3,(N$4:N$49=AY8)*(I$4:I$49=BS5)*(K$4:K$49<>"")*(L$4:L$49<>"")*(K$4:K$49=L$4:L$49)*1,(N$4:N$49=AY8)*(I$4:I$49=BS5)*(K$4:K$49<>"")*(L$4:L$49<>"")*(K$4:K$49<L$4:L$49)*3,(I$4:I$49=AY8)*(N$4:N$49=BS5)*(K$4:K$49<>"")*(L$4:L$49<>"")*(K$4:K$49=L$4:L$49)*1)} -> 0 | BT8: 3 | BU8: =RANK(BW8,$BW$6:$BW$9) -> 3 | BV8: =A7 -> Gales | BW8: =IF(AK8=0,-($AW$14*VLOOKUP(AI8,Tabla3[[NombreEquipo]:[Rank]],3,FALSE)),AJ8*$AW$4+BA8+AQ8*$AW$11+AO8*$AW$12+AL8*$AW$13-($AW$14*VLOOKUP(AI8,Tabla3[[NombreEquipo]:[Rank]],3,FALSE)/100)) -> -3 | BX8: =VLOOKUP(Q8,$AH$6:$AI$9,2,0) -> Gales | BY8: =VLOOKUP($BX8,$AI$6:$AR$9,10,FALSE) -> -3 | CA8: 3 | CB8: =VLOOKUP(CA8,$AH$6:$AI$9,2,0) -> Gales | CC8: =VLOOKUP(CB8,$AI$6:$AR$9,2,FALSE) -> 0 | CD8: =IF(SUM($AK$6:$AK$9)=12,MIN(ABS(BY7-BY8),ABS(BY8-BY9)),100) -> 100 | CE8: =VLOOKUP($CB8,$AI$6:$AR$9,9,FALSE) -> 0 | CF8: =VLOOKUP($CB8,$AI$6:$AR$9,7,FALSE) -> 0 | CH8: {=IF($CI$6=$CL$5,$EC$5:$EC$8,IF($CI$6=$CM$5,$ED$5:$ED$7,IF(OR($CI$6=$CN$5,$CI$6=$CR$5),$EG$5:$EG$6,IF($CI$6=$CP$5,$EF$5:$EF$7,(IF($CI$6=$CQ$5,$EH$5:$EH$6,$EK$5))))))} -> 3 | CK8: 3 | CL8: {=IF(AND($CC$6:$CC$9=$CC$8,$CD$6:$CD$9<90,$AQ$6:$AQ$9=$AQ$8,$CF$6:$CF$9=$CF$8),1,0)} -> 0 | CM8: {=IF(AND($CC$6:$CC$8=$CC$8,$CD$6:$CD$8<90,$CC$8<>$CC$9),1,0)} -> 0 | CN8: {=IF(AND($CC$8:$CC$9=$CC$8,$CD$8:$CD$9<90,$CC$8<>$CC$7),1,0)} -> 0 | CO8: {=IF(OR(AND($CC$8<>$CC$7,$CC$8<>$CC$9),AND($CC$8<>$CC$7,$CC$8=$CC$9,$CD$8>90,$CD$9>90)),1,0)} -> 0 | CP8: {=IF(AND($CC$7:$CC$9=$CC$7,$CD$7:$CD$9<90,$CC$6<>$CC$8),1,0)} -> 0 | CQ8: {=IF(AND($CC$7:$CC$8=$CC$8,$CD$7:$CD$8<90,$CC$8<>$CC$6,$CC$8<>$CC$9),1,0)} -> 0 | CR8: {=IF(AND($CC$8:$CC$9=$CC$8,$CD$8:$CD$9<90,$CC$8<>$CC$7),1,0)} -> 0 | CS8: {=IF(AND($CC$8<>$CC$7,$CC$8<>$CC$9),1,0)} -> 0 | CT8: {=IF(AND($CC$6:$CC$9=$CC$6,$CD$6:$CD$9<90,$CE$8:$CE$9=$CE$8,$CE$7<>$CE$8),1,0)} -> 0 | CU8: {=IF(AND($CC$6:$CC$9=$CC$6,$CD$6:$CD$9<90,$CE$6:$CE$9=$CE$6,$CF$8=$CF$9,$CF$7<>$CF$8),1,0)} -> 0 | CV8: {=IF(AND($CC$6:$CC$8=$CC$8,$CD$6:$CD$7<90,$CD$8>90),1,0)} -> 0 | CW8: {=IF(AND($CC$7<>$CC$6,$CC$7:$CC$9=$CC$8,$CD$7>90,$CD$8:$CD$9<90),1,0)} -> 0 | CX8: {=IF(AND($CC$7<>$CC$6,$CC$7:$CC$9=$CC$7,$CD$9>90,$CD$7:$CD$8<90),1,0)} -> 0 | CY8: {=IF(AND($CC$8<>$CC$9,$CC$6:$CC$8=$CC$8,$CD$6>90,$CD$7:$CD$8<90),1,0)} -> 0 | CZ8: {=IF(AND($CC$6:$CC$9=$CC$7,$CD$7:$CD$9<90,$CD$6<>$CD$8),1,0)} -> 0 | DA8: {=IF(AND($CC$6:$CC$9=$CC$8,$CD$6:$CD$8<90,$CD$8<>$CD$9),1,0)} -> 0 | DB8: {=IF(AND($CC$6:$CC$9=$CC$8,$CD$6:$CD$7>90,$CD$8:$CD$9<90,$CE$6:$CE$9=$CE$8,$CF$6>$CF$7,$CF$7>$CF$8,$CF$8=$CF$9),1,0)} -> 0 | DC8: {=IF(AND($CC$6:$CC$9=$CC$8,$CD$6>90,$CD$7:$CD$8<90,$CD$9>90,$CE$6:$CE$9=$CE$8,$CF$6>$CF$7,$CF$7=$CF$8,$CF$8>$CF$9),1,0)} -> 0 | DD8: {=IF(AND($CC$6:$CC$9=$CC$8,$CD$6:$CD$7<90,$CD$8:$CD$9>90,$CE$6:$CE$9=$CE$8,$CF$6=$CF$7,$CF$7>$CF$8,$CF$8>$CF$9),1,0)} -> 0 | DE8: {=IF(AND($CC$6:$CC$9=$CC$8,$CD$6:$CD$7>90,$CD$8:$CD$9<90,$CE$6:$CE$9=$CE$7,$CF$6>$CF$8,$CF$7:$CF$9=$CF$8),1,0)} -> 0 | DF8: {=IF(AND($CC$6:$CC$9=$CC$8,$CD$6:$CD$7<90,$CD$8:$CD$9>90,$CE$6:$CE$9=$CE$8,$CF$6:$CF$8=$CF$8,$CF$8>$CF$9),1,0)} -> 0 | DG8: {=IF(AND($CC$6:$CC$9=$CC$8,$CD$6>90,$CD$9>90,$CD$7:$CD$8<90,$CE$6:$CE$9=$CE$8,$CF$6>$CF$7:$CF$9,$CF$7:$CF$9=$CF$8),1,0)} -> 0 | EC8: 4 | FI8: =RANK(FJ8,FJ6:FJ9,1) -> 1 | FJ8: =SUM(IF(AND(AJ8=AJ9,BC8=BC9,BI8=BI9,BO8=BO9),BG8,0),IF(AND(AJ8=AJ6,BC8=BC6,BI8=BI6,BO8=BO6),BD8,0),IF(AND(AJ8=AJ7,BC8=BC7,BI8=BI7,BO8=BO7),BE8,0)) -> 0 | FK8: =RANK(FL8,FL6:FL9,1) -> 1 | FL8: =SUM(IF(AND(AJ8=AJ9,BC8=BC9,BI8=BI9,BO8=BO9),BM8,0),IF(AND(AJ8=AJ6,BC8=BC6,BI8=BI6,BO8=BO6),BJ8,0),IF(AND(AJ8=AJ7,BC8=BC7,BI8=BI7,BO8=BO7),BK8,0)) -> 0 | FM8: =RANK(FN8,FN6:FN9,1) -> 1 | FN8: =SUM(IF(AND(AJ8=AJ9,BC8=BC9,BI8=BI9,BO8=BO9),BS8,0),IF(AND(AJ8=AJ6,BC8=BC6,BI8=BI6,BO8=BO6),BP8,0),IF(AND(AJ8=AJ7,BC8=BC7,BI8=BI7,BO8=BO7),BQ8,0)) -> 0
F9: =Horarios!A9 -> 44367.75 | G9: =Horarios!A9+VLOOKUP($G$2,Horarios!$K$4:$O$27,4,0)*VLOOKUP($G$2,Horarios!$K$4:$O$27,5,0) -> 44367.75 | H9: J3 | I9: =A8 -> Suiza | N9: =A5 -> Turquia | O9: =IF(NOT(OR(ISBLANK(K9),ISBLANK(L9))),1,0) -> 0 | Q9: 4 | R9: =VLOOKUP(Q9,$AG$6:$AI$9,3,0) -> Suiza | S9: =VLOOKUP(R9,$AI$6:$AR$9,2,FALSE) -> 0 | T9: =VLOOKUP($R9,$AI$6:$AR$9,3,FALSE) -> 0 | U9: =VLOOKUP($R9,$AI$6:$AR$9,4,FALSE) -> 0 | V9: =VLOOKUP($R9,$AI$6:$AR$9,5,FALSE) -> 0 | W9: =VLOOKUP($R9,$AI$6:$AR$9,6,FALSE) -> 0 | X9: =VLOOKUP($R9,$AI$6:$AR$9,7,FALSE) -> 0 | Y9: =VLOOKUP($R9,$AI$6:$AR$9,8,FALSE) -> 0 | Z9: =VLOOKUP($R9,$AI$6:$AR$9,9,FALSE) -> 0 | AA9: =IF(SUM($AK$6:$AK$9)=12,MIN(ABS(BY8-BY9),ABS(BY9-BY10)),100) -> 100 | AB9: =IF(AND(AA9>=0,AA9<90),VLOOKUP(Q9,$BU$6:$BV$9,2,0),"") | AF9: =VLOOKUP($R9,$AI$6:$AR$9,10,FALSE) -> -4 | AG9: =RANK(AU9,$AU$6:$AU$9) -> 4 | AH9: =RANK(AR9,$AR$6:$AR$9) -> 4 | AI9: =A8 -> Suiza | AJ9: =AL9*3+AM9*1+AN9*0 -> 0 | AK9: =COUNTIFS($I$4:$I$49,AI9,$K$4:$K$49,"<>",$L$4:$L$49,"<>")+COUNTIFS($N$4:$N$49,AI9,$L$4:$L$49,"<>",$K$4:$K$49,"<>") -> 0 | AL9: {=SUM(($I$4:$I$49=AI9)*($K$4:$K$49<>"")*($L$4:$L$49<>"")*($K$4:$K$49>$L$4:$L$49),($N$4:$N$49=AI9)*($K$4:$K$49<>"")*($L$4:$L$49<>"")*($K$4:$K$49<$L$4:$L$49))} -> 0 | AM9: {=SUM(($I$4:$I$49=AI9)*($K$4:$K$49<>"")*($L$4:$L$49<>"")*($K$4:$K$49=$L$4:$L$49),($N$4:$N$49=AI9)*($K$4:$K$49<>"")*($L$4:$L$49<>"")*($K$4:$K$49=$L$4:$L$49))} -> 0 | AN9: {=SUM(($I$4:$I$49=AI9)*($L$4:$L$49<>"")*($K$4:$K$49<>"")*($K$4:$K$49<$L$4:$L$49),($K$4:$K$49<>"")*($N$4:$N$49=AI9)*($L$4:$L$49<>"")*($K$4:$K$49>$L$4:$L$49))} -> 0 | AO9: {=SUMIFS($K$4:$K$49,$I$4:$I$49,AI9,$K$4:$K$49,"<>",$L$4:$L$49,"<>")+SUMIFS($L$4:$L$49,$N$4:$N$49,AI9,$K$4:$K$49,"<>",$L$4:$L$49,"<>")} -> 0 | AP9: {=SUMIFS($K$4:$K$49,$N$4:$N$49,AI9,$K$4:$K$49,"<>",$L$4:$L$49,"<>")+SUMIFS($L$4:$L$49,$I$4:$I$49,AI9,$K$4:$K$49,"<>",$L$4:$L$49,"<>")} -> 0 | AQ9: =AO9-AP9 -> 0 | AR9: =IF(AK9=0,-($AW$14*VLOOKUP(AI9,Tabla3[[NombreEquipo]:[Rank]],3,FALSE)),AJ9*$AW$4+BA9+AQ9*$AW$11+AO9*$AW$12+AL9*$AW$13-($AW$14*VLOOKUP(AI9,Tabla3[[NombreEquipo]:[Rank]],3,FALSE)/100)) -> -4 | AS9: =AH9 -> 4 | AU9: =IFERROR(AR9-VLOOKUP(AI9,$AB$6:$AC$9,2,0),AR9) -> -4 | AV9: DG Part 2 | AW9: =AW10*5 -> 1000000 | AY9: =AI9 -> Suiza | AZ9: =COUNTIF(AJ6:AJ9,AJ9) -> 4 | BA9: =(BB9*$AW$7)+(BH9*$AW$6)+(BN9*$AW$5)+(FI9*$AW$10)+(FK9*$AW$9)+(FM9*$AW$8) -> 781200000 | BB9: =RANK(BC9,BC6:BC9,1) -> 1 | BC9: =SUM(IF(AND(AJ9=AJ6),BD9,0),IF(AND(AJ9=AJ7),BE9,0),IF(AND(AJ9=AJ8),BF9,0)) -> 0 | BD9: {=SUMIFS($K$4:$K$9,$I$4:$I$9,$AY9,$K$4:$K$9,"<>",$L$4:$L$9,"<>",$N$4:$N$9,BD5)+SUMIFS($L$4:$L$9,$I$4:$I$9,BD5,$K$4:$K$9,"<>",$L$4:$L$9,"<>",$N$4:$N$9,$AY9)} -> 0 | BE9: {=SUMIFS($K$4:$K$9,$I$4:$I$9,$AY9,$K$4:$K$9,"<>",$L$4:$L$9,"<>",$N$4:$N$9,BE5)+SUMIFS($L$4:$L$9,$I$4:$I$9,BE5,$K$4:$K$9,"<>",$L$4:$L$9,"<>",$N$4:$N$9,$AY9)} -> 0 | BF9: {=SUMIFS($K$4:$K$9,$I$4:$I$9,$AY9,$K$4:$K$9,"<>",$L$4:$L$9,"<>",$N$4:$N$9,BF5)+SUMIFS($L$4:$L$9,$I$4:$I$9,BF5,$K$4:$K$9,"<>",$L$4:$L$9,"<>",$N$4:$N$9,$AY9)} -> 0 | BG9: 0 | BH9: =RANK(BI9,BI6:BI9,1) -> 1 | BI9: =SUM(IF(AND(AJ9=AJ6),BJ9,0),IF(AND(AJ9=AJ7),BK9,0),IF(AND(AJ9=AJ8),BL9,0)) -> 0 | BJ9: =BD9-BG6 -> 0 | BK9: =BE9-BG7 -> 0 | BL9: =BF9-BG8 -> 0 | BM9: 0 | BN9: =RANK(BO9,BO6:BO9,1) -> 1 | BO9: =SUM(IF(AND(AJ9=AJ6),BP9,0),IF(AND(AJ9=AJ7),BQ9,0),IF(AND(AJ9=AJ8),BR9,0)) -> 0 | BP9: {=SUM((I$4:I$49=AY9)*(N$4:N$49=BP5)*(K$4:K$49<>"")*(L$4:L$49<>"")*(K$4:K$49>L$4:L$49)*3,(N$4:N$49=AY9)*(I$4:I$49=BP5)*(K$4:K$49<>"")*(L$4:L$49<>"")*(K$4:K$49=L$4:L$49)*1,(N$4:N$49=AY9)*(I$4:I$49=BP5)*(K$4:K$49<>"")*(L$4:L$49<>"")*(K$4:K$49<L$4:L$49)*3,(I$4:I$49=AY9)*(N$4:N$49=BP5)*(K$4:K$49<>"")*(L$4:L$49<>"")*(K$4:K$49=L$4:L$49)*1)} -> 0 | BQ9: {=SUM((I$4:I$49=AY9)*(N$4:N$49=BQ5)*(K$4:K$49<>"")*(L$4:L$49<>"")*(K$4:K$49>L$4:L$49)*3,(N$4:N$49=AY9)*(I$4:I$49=BQ5)*(K$4:K$49<>"")*(L$4:L$49<>"")*(K$4:K$49=L$4:L$49)*1,(N$4:N$49=AY9)*(I$4:I$49=BQ5)*(K$4:K$49<>"")*(L$4:L$49<>"")*(K$4:K$49<L$4:L$49)*3,(I$4:I$49=AY9)*(N$4:N$49=BQ5)*(K$4:K$49<>"")*(L$4:L$49<>"")*(K$4:K$49=L$4:L$49)*1)} -> 0 | BR9: {=SUM((I$4:I$49=AY9)*(N$4:N$49=BR5)*(K$4:K$49<>"")*(L$4:L$49<>"")*(K$4:K$49>L$4:L$49)*3,(N$4:N$49=AY9)*(I$4:I$49=BR5)*(K$4:K$49<>"")*(L$4:L$49<>"")*(K$4:K$49=L$4:L$49)*1,(N$4:N$49=AY9)*(I$4:I$49=BR5)*(K$4:K$49<>"")*(L$4:L$49<>"")*(K$4:K$49<L$4:L$49)*3,(I$4:I$49=AY9)*(N$4:N$49=BR5)*(K$4:K$49<>"")*(L$4:L$49<>"")*(K$4:K$49=L$4:L$49)*1)} -> 0 | BS9: 0 | BT9: 4 | BU9: =RANK(BW9,$BW$6:$BW$9) -> 4 | BV9: =A8 -> Suiza | BW9: =IF(AK9=0,-($AW$14*VLOOKUP(AI9,Tabla3[[NombreEquipo]:[Rank]],3,FALSE)),AJ9*$AW$4+BA9+AQ9*$AW$11+AO9*$AW$12+AL9*$AW$13-($AW$14*VLOOKUP(AI9,Tabla3[[NombreEquipo]:[Rank]],3,FALSE)/100)) -> -4 | BX9: =VLOOKUP(Q9,$AH$6:$AI$9,2,0) -> Suiza | BY9: =VLOOKUP($BX9,$AI$6:$AR$9,10,FALSE) -> -4 | CA9: 4 | CB9: =VLOOKUP(CA9,$AH$6:$AI$9,2,0) -> Suiza | CC9: =VLOOKUP(CB9,$AI$6:$AR$9,2,FALSE) -> 0 | CD9: =IF(SUM($AK$6:$AK$9)=12,MIN(ABS(BY8-BY9),ABS(BY9-BY10)),100) -> 100 | CE9: =VLOOKUP($CB9,$AI$6:$AR$9,9,FALSE) -> 0 | CF9: =VLOOKUP($CB9,$AI$6:$AR$9,7,FALSE) -> 0 | CH9: {=IF($CI$6=$CL$5,$EC$5:$EC$8,IF(OR($CI$6=$CN$5,$CI$6=$CR$5),$EG$5:$EG$6,IF($CI$6=$CP$5,$EF$5:$EF$7,$EL$5)))} -> 4 | CK9: 4 | CL9: {=IF(AND($CC$6:$CC$9=$CC$9,$CD$6:$CD$9<90,$AQ$6:$AQ$9=$AQ$9,$CF$6:$CF$9=$CF$9),1,0)} -> 0 | CM9: {=IF(AND($CC$6:$CC$8=$CC$6,$CD$6:$CD$8<90,$CD$9>90,$CC$6<>$CC$9),1,0)} -> 0 | CN9: {=IF(AND($CC$8:$CC$9=$CC$8,$CD$8:$CD$9<90,$CC$8<>$CC$7),1,0)} -> 0 | CO9: {=IF(AND($CC$9<>$CC$7,$CC$9<>$CC$6),1,0)} -> 0 | CP9: {=IF(AND($CC$7:$CC$9=$CC$7,$CD$7:$CD$9<90,$CC$6<>$CC$9),1,0)} -> 0 | CQ9: {=IF(AND($CC$9<>$CC$7,$CC$9<>$CC$6),1,0)} -> 0 | CR9: {=IF(AND($CC$8:$CC$9=$CC$8,$CD$8:$CD$9<90,$CC$8<>$CC$7),1,0)} -> 0 | CS9: {=IF(AND($CC$9<>$CC$7,$CC$9<>$CC$6),1,0)} -> 0 | CT9: {=IF(AND($CC$6:$CC$9=$CC$6,$CD$6:$CD$9<90,$CE$8:$CE$9=$CE$9,$CE$7<>$CE$9),1,0)} -> 0 | CU9: {=IF(AND($CC$6:$CC$9=$CC$6,$CD$6:$CD$9<90,$CE$6:$CE$9=$CE$6,$CF$8=$CF$9,$CF$7<>$CF$8),1,0)} -> 0 | CV9: {=IF(AND($CC$6:$CC$8=$CC$6,$CD$6:$CD$7<90,$CC$8<>$CC$9),1,0)} -> 0 | CW9: {=IF(AND($CC$7<>$CC$6,$CC$7:$CC$9=$CC$8,$CD$7>90,$CD$8:$CD$9<90),1,0)} -> 0 | CX9: {=IF(AND($CC$7<>$CC$6,$CC$7:$CC$9=$CC$7,$CD$9>90,$CD$7:$CD$8<90),1,0)} -> 0 | CY9: {=IF(AND($CC$9<>$CC$7,$CC$9<>$CC$8),1,0)} -> 0 | CZ9: {=IF(AND($CC$6:$CC$9=$CC$7,$CD$7:$CD$9<90,$CD$6<>$CD$9),1,0)} -> 0 | DA9: {=IF(AND($CC$6:$CC$9=$CC$6,$CD$6:$CD$8<90,$CD$8<>$CD$9),1,0)} -> 0 | DB9: {=IF(AND($CC$6:$CC$9=$CC$9,$CD$6:$CD$7>90,$CD$8:$CD$9<90,$CE$6:$CE$9=$CE$9,$CF$6>$CF$7,$CF$7>$CF$9,$CF$8=$CF$9),1,0)} -> 0 | DC9: {=IF(AND($CC$6:$CC$9=$CC$7,$CD$6>90,$CD$7:$CD$8<90,$CD$9>90,$CE$6:$CE$9=$CE$9,$CF$6>$CF$9,$CF$7=$CF$8,$CF$7>$CF$9),1,0)} -> 0 | DD9: {=IF(AND($CC$6:$CC$9=$CC$9,$CD$6:$CD$7<90,$CD$8:$CD$9>90,$CE$6:$CE$9=$CE$9,$CF$6=$CF$7,$CF$7>$CF$8,$CF$8>$CF$9),1,0)} -> 0 | DE9: {=IF(AND($CC$6:$CC$9=$CC$9,$CD$6:$CD$7>90,$CD$8:$CD$9<90,$CE$6:$CE$9=$CE$9,$CF$6>$CF$9,$CF$7:$CF$9=$CF$9),1,0)} -> 0 | DF9: {=IF(AND($CC$6:$CC$9=$CC$9,$CD$6:$CD$7<90,$CD$8:$CD$9>90,$CE$6:$CE$9=$CE$9,$CF$6:$CF$8=$CF$8,$CF$6:$CF$8>$CF$9),1,0)} -> 0 | DG9: {=IF(AND($CC$6:$CC$9=$CC$9,$CD$6>90,$CD$9>90,$CD$7:$CD$8<90,$CE$6:$CE$9=$CE$9,$CF$6>$CF$7:$CF$9,$CF$7:$CF$9=$CF$9),1,0)} -> 0 | FI9: =RANK(FJ9,FJ6:FJ9,1) -> 1 | FJ9: =SUM(IF(AND(AJ9=AJ6,BC9=BC6,BI9=BI6,BO9=BO6),BD9,0),IF(AND(AJ9=AJ7,BC9=BC7,BI9=BI7,BO9=BO7),BE9,0),IF(AND(AJ9=AJ8,BC9=BC8,BI9=BI8,BO9=BO8),BF9,0)) -> 0 | FK9: =RANK(FL9,FL6:FL9,1) -> 1 | FL9: =SUM(IF(AND(AJ9=AJ6,BC9=BC6,BI9=BI6,BO9=BO6),BJ9,0),IF(AND(AJ9=AJ7,BC9=BC7,BI9=BI7,BO9=BO7),BK9,0),IF(AND(AJ9=AJ8,BC9=BC8,BI9=BI8,BO9=BO8),BL9,0)) -> 0 | FM9: =RANK(FN9,FN6:FN9,1) -> 1 | FN9: =SUM(IF(AND(AJ9=AJ6,BC9=BC6,BI9=BI6,BO9=BO6),BP9,0),IF(AND(AJ9=AJ7,BC9=BC7,BI9=BI7,BO9=BO7),BQ9,0),IF(AND(AJ9=AJ8,BC9=BC8,BI9=BI8,BO9=BO8),BR9,0)) -> 0
AV10: G Part 2 | AW10: =AW11*20 -> 200000 | SWE10: matejero
F11: =F3 -> Fecha | G11: =G3 -> Hora | H11: =H3 -> Jor. | I11: =I3 -> Casa | K11: =K3 -> Gol | L11: =L3 -> Gol | N11: =N3 -> Fuera | AV11: DG X | AW11: =AW12*20 -> 10000 | CL11: 1 | CM11: 12 | CN11: 18 | CO11: 19 | CP11: 13 | CQ11: 20 | CR11: 21 | CS11: 22 | CT11: 3 | CU11: 2 | CV11: 14 | CW11: 17 | CX11: 16 | CY11: 15 | CZ11: 4 | DA11: 5 | DB11: 10 | DC11: 8 | DD11: 6 | DE11: 11 | DF11: 7 | DG11: 9 | EC11: OP1 | ED11: OP2 | EE11: OP3 | EF11: OP4 | EG11: OP5 | EH11: OP6 | EI11: OP7 | EJ11: OP8 | EK11: OP9 | EL11: OP10
A12: NombreEquipo | B12: B | C12: =COUNTIF(Equipos!$C$2:$C$25,EUROCOPA!B12) -> 4 | E12: B | F12: =Horarios!A12 -> 44359.75 | G12: =Horarios!A12+VLOOKUP($G$2,Horarios!$K$4:$O$27,4,0)*VLOOKUP($G$2,Horarios!$K$4:$O$27,5,0) -> 44359.75 | H12: J1 | I12: =A13 -> Dinamarca | N12: =A14 -> Finlandia | O12: =IF(NOT(OR(ISBLANK(K12),ISBLANK(L12))),1,0) -> 0 | Q12: =CONCATENATE("Grupo"," ",B12) -> Grupo B | AB12: ¡EMPATE! Puedes seleccionar el orden de los empatados. | AH12: =CONCATENATE("Auxiliar - ",Q12) -> Auxiliar - Grupo B | AU12: NR | AV12: G X | AW12: =AW13*5 -> 500 | AY12: =CONCATENATE(Q12," - GOLAVERAGE") -> Grupo B - GOLAVERAGE | BB12: Goles - Partidos Cruzados | BH12: Diferencia de Goles - Partidos Cruzados | CI12: Valor | CK12: Sum | CL12: =SUM(CL14:CL17) -> 0 | CM12: =SUM(CM14:CM17) -> 0 | CN12: =SUM(CN14:CN17) -> 0 | CO12: =SUM(CO14:CO17) -> 0 | CP12: =SUM(CP14:CP17) -> 0 | CQ12: =SUM(CQ14:CQ17) -> 0 | CR12: =SUM(CR14:CR17) -> 0 | CS12: =SUM(CS14:CS17) -> 0 | ... DG12: =SUM(DG14:DG17) -> 0 | EC12: 1234 | ED12: 123 | EE12: 12 | EF12: 234 | EG12: 34 | EH12: 23 | EI12: 1 | EJ12: 2 | EK12: 3 | EL12: 4 | FK12: Diferencia de Goles - Partidos Cruzados
A13: {=IF(ROWS(A$13:A13)<=$C$12,INDEX(INDIRECT(A$12),SMALL(IF(Nivell=$B$12,ROW(Nivell)-ROW(Equipos!$C$2)+1),ROWS(B$12:B12))),"")} -> Dinamarca | F13: =Horarios!A13 -> 44359.875 | G13: =Horarios!A13+VLOOKUP($G$2,Horarios!$K$4:$O$27,4,0)*VLOOKUP($G$2,Horarios!$K$4:$O$27,5,0) -> 44359.875 | H13: J1 | I13: =A15 -> Bélgica | N13: =A16 -> Rusia | O13: =IF(NOT(OR(ISBLANK(K13),ISBLANK(L13))),1,0) -> 0 | Q13: Pos | R13: Selección | S13: Pts | T13: J | U13: G | V13: E | W13: P | X13: GF | Y13: GC | Z13: DG | AA13: =COUNTIF(AA14:AA17,"<100") -> 0 | AG13: NR | AH13: Puesto | AI13: Equipo | AJ13: Ptos | AK13: J | AL13: G | AM13: E | AN13: P | AO13: GF | AP13: GC | AQ13: Dif | AR13: Rank | AS13: Puesto | AV13: Victorias | AW13: 100 | AY13: Equipo | AZ13: NEquipEqual | BA13: PUNTOS | BB13: Ranking Inv | BC13: Entre Iguales | BD13: =AY14 -> Dinamarca | BE13: =AY15 -> Finlandia | BF13: =AY16 -> Bélgica | BG13: =AY17 -> Rusia | BH13: Ranking Inv | BI13: Entre Iguales | BJ13: =BD13 -> Dinamarca | BK13: =BE13 -> Finlandia | BL13: =BF13 -> Bélgica | BM13: =BG13 -> Rusia | BN13: Ranking Inv | BO13: Entre Iguales | BP13: =BD13 -> Dinamarca | BQ13: =BE13 -> Finlandia | BR13: =BF13 -> Bélgica | BS13: =BG13 -> Rusia | BV13: Inicio | BX13: 1R | CB13: Equipo | CC13: Ptos | CD13: Signo | CE13: Dif | CF13: Gf | CK13: Com | CL13: COM_1 | CM13: COM_2 | CN13: COM_3 | CO13: COM_4 | CP13: COM_5 | CQ13: COM_6 | CR13: COM_7 | CS13: COM_8 | CT13: COM_3 | CU13: COM_3 | CV13: COM_4 | CW13: COM_7 | CX13: COM_6 | CY13: COM_6 | CZ13: COM_5 | DA13: COM_2 | DB13: COM_7 | DC13: COM_6 | DD13: COM_4 | DE13: COM_7 | DF13: COM_4 | DG13: COM_6 | EC13: 1 | ED13: 1 | EE13: 1 | EF13: 2 | EG13: 3 | EH13: 2 | EI13: 1 | EJ13: 2 | EK13: 3 | EL13: 4 | FI13: Ranking Inv | FK13: Ranking Inv | FM13: Ranking Inv
A14: {=IF(ROWS(A$13:A14)<=$C$12,INDEX(INDIRECT(A$12),SMALL(IF(Nivell=$B$12,ROW(Nivell)-ROW(Equipos!$C$2)+1),ROWS(B$12:B13))),"")} -> Finlandia | F14: =Horarios!A14 -> 44363.625 | G14: =Horarios!A14+VLOOKUP($G$2,Horarios!$K$4:$O$27,4,0)*VLOOKUP($G$2,Horarios!$K$4:$O$27,5,0) -> 44363.625 | H14: J2 | I14: =A14 -> Finlandia | N14: =A16 -> Rusia | O14: =IF(NOT(OR(ISBLANK(K14),ISBLANK(L14))),1,0) -> 0 | Q14: 1 | R14: =VLOOKUP(Q14,$AG$14:$AI$17,3,0) -> Dinamarca | S14: =VLOOKUP(R14,$AI$14:$AR$17,2,FALSE) -> 0 | T14: =VLOOKUP($R14,$AI$14:$AR$17,3,FALSE) -> 0 | U14: =VLOOKUP($R14,$AI$14:$AR$17,4,FALSE) -> 0 | V14: =VLOOKUP($R14,$AI$14:$AR$17,5,FALSE) -> 0 | W14: =VLOOKUP($R14,$AI$14:$AR$17,6,FALSE) -> 0 | X14: =VLOOKUP($R14,$AI$14:$AR$17,7,FALSE) -> 0 | Y14: =VLOOKUP($R14,$AI$14:$AR$17,8,FALSE) -> 0 | Z14: =VLOOKUP($R14,$AI$14:$AR$17,9,FALSE) -> 0 | AA14: =IF(SUM($AK$14:$AK$17)=12,MIN(ABS(BY13-BY14),ABS(BY14-BY15)),100) -> 100 | AB14: =IF(AND(AA14>=0,AA14<90),VLOOKUP(Q14,$BU$14:$BV$17,2,0),"") | AF14: =VLOOKUP($R14,$AI$14:$AR$17,10,FALSE) -> -5 | AG14: =RANK(AU14,$AU$14:$AU$17) -> 1 | AH14: =RANK(AR14,$AR$14:$AR$17) -> 1 | AI14: =A13 -> Dinamarca | AJ14: =AL14*3+AM14*1+AN14*0 -> 0 | AK14: =COUNTIFS($I$4:$I$49,AI14,$K$4:$K$49,"<>",$L$4:$L$49,"<>")+COUNTIFS($N$4:$N$49,AI14,$L$4:$L$49,"<>",$K$4:$K$49,"<>") -> 0 | AL14: {=SUM(($I$4:$I$49=AI14)*($K$4:$K$49<>"")*($L$4:$L$49<>"")*($K$4:$K$49>$L$4:$L$49),($N$4:$N$49=AI14)*($K$4:$K$49<>"")*($L$4:$L$49<>"")*($K$4:$K$49<$L$4:$L$49))} -> 0 | AM14: {=SUM(($I$4:$I$49=AI14)*($K$4:$K$49<>"")*($L$4:$L$49<>"")*($K$4:$K$49=$L$4:$L$49),($N$4:$N$49=AI14)*($K$4:$K$49<>"")*($L$4:$L$49<>"")*($K$4:$K$49=$L$4:$L$49))} -> 0 | AN14: {=SUM(($I$4:$I$49=AI14)*($L$4:$L$49<>"")*($K$4:$K$49<>"")*($K$4:$K$49<$L$4:$L$49),($K$4:$K$49<>"")*($N$4:$N$49=AI14)*($L$4:$L$49<>"")*($K$4:$K$49>$L$4:$L$49))} -> 0 | AO14: {=SUMIFS($K$4:$K$49,$I$4:$I$49,AI14,$K$4:$K$49,"<>",$L$4:$L$49,"<>")+SUMIFS($L$4:$L$49,$N$4:$N$49,AI14,$K$4:$K$49,"<>",$L$4:$L$49,"<>")} -> 0 | AP14: {=SUMIFS($K$4:$K$49,$N$4:$N$49,AI14,$K$4:$K$49,"<>",$L$4:$L$49,"<>")+SUMIFS($L$4:$L$49,$I$4:$I$49,AI14,$K$4:$K$49,"<>",$L$4:$L$49,"<>")} -> 0 | AQ14: =AO14-AP14 -> 0 | AR14: =IF(AK14=0,-($AW$14*VLOOKUP(AI14,Tabla3[[NombreEquipo]:[Rank]],3,FALSE)),AJ14*$AW$4+BA14+AQ14*$AW$11+AO14*$AW$12+AL14*$AW$13-($AW$14*VLOOKUP(AI14,Tabla3[[NombreEquipo]:[Rank]],3,FALSE)/100)) -> -5 | AS14: =AH14 -> 1 | AU14: =IFERROR(AR14-VLOOKUP(AI14,$AB$14:$AC$17,2,0),AR14) -> -5 | AV14: BOMBO | AW14: 1 | AY14: =AI14 -> Dinamarca | AZ14: =COUNTIF(AJ14:AJ17,AJ14) -> 4 | BA14: =(BB14*$AW$7)+(BH14*$AW$6)+(BN14*$AW$5)+(FI14*$AW$10)+(FK14*$AW$9)+(FM14*$AW$8) -> 781200000 | BB14: =RANK(BC14,BC14:BC17,1) -> 1 | BC14: =SUM(IF(AND(AJ14=AJ15),BE14,0),IF(AND(AJ14=AJ16),BF14,0),IF(AND(AJ14=AJ17),BG14,0)) -> 0 | BD14: 0 | BE14: {=SUMIFS($K$12:$K$17,$I$12:$I$17,$AY14,$K$12:$K$17,"<>",$L$12:$L$17,"<>",$N$12:$N$17,BE13)+SUMIFS($L$12:$L$17,$I$12:$I$17,BE13,$K$12:$K$17,"<>",$L$12:$L$17,"<>",$N$12:$N$17,$AY14)} -> 0 | BF14: {=SUMIFS($K$12:$K$17,$I$12:$I$17,$AY14,$K$12:$K$17,"<>",$L$12:$L$17,"<>",$N$12:$N$17,BF13)+SUMIFS($L$12:$L$17,$I$12:$I$17,BF13,$K$12:$K$17,"<>",$L$12:$L$17,"<>",$N$12:$N$17,$AY14)} -> 0 | BG14: {=SUMIFS($K$12:$K$17,$I$12:$I$17,$AY14,$K$12:$K$17,"<>",$L$12:$L$17,"<>",$N$12:$N$17,BG13)+SUMIFS($L$12:$L$17,$I$12:$I$17,BG13,$K$12:$K$17,"<>",$L$12:$L$17,"<>",$N$12:$N$17,$AY14)} -> 0 | BH14: =RANK(BI14,BI14:BI17,1) -> 1 | BI14: =SUM(IF(AND(AJ14=AJ15),BK14,0),IF(AND(AJ14=AJ16),BL14,0),IF(AND(AJ14=AJ17),BM14,0)) -> 0 | BJ14: 0 | BK14: =BE14-BD15 -> 0 | BL14: =BF14-BD16 -> 0 | BM14: =BG14-BD17 -> 0 | BN14: =RANK(BO14,BO14:BO17,1) -> 1 | BO14: =SUM(IF(AND(AJ14=AJ15),BQ14,0),IF(AND(AJ14=AJ16),BR14,0),IF(AND(AJ14=AJ17),BS14,0)) -> 0 | BP14: 0 | BQ14: {=SUM((I$4:I$49=AY14)*(N$4:N$49=BQ13)*(K$4:K$49<>"")*(L$4:L$49<>"")*(K$4:K$49>L$4:L$49)*3,(N$4:N$49=AY14)*(I$4:I$49=BQ13)*(K$4:K$49<>"")*(L$4:L$49<>"")*(K$4:K$49=L$4:L$49)*1,(N$4:N$49=AY14)*(I$4:I$49=BQ13)*(K$4:K$49<>"")*(L$4:L$49<>"")*(K$4:K$49<L$4:L$49)*3,(I$4:I$49=AY14)*(N$4:N$49=BQ13)*(K$4:K$49<>"")*(L$4:L$49<>"")*(K$4:K$49=L$4:L$49)*1)} -> 0 | BR14: {=SUM((I$4:I$49=AY14)*(N$4:N$49=BR13)*(K$4:K$49<>"")*(L$4:L$49<>"")*(K$4:K$49>L$4:L$49)*3,(N$4:N$49=AY14)*(I$4:I$49=BR13)*(K$4:K$49<>"")*(L$4:L$49<>"")*(K$4:K$49=L$4:L$49)*1,(N$4:N$49=AY14)*(I$4:I$49=BR13)*(K$4:K$49<>"")*(L$4:L$49<>"")*(K$4:K$49<L$4:L$49)*3,(I$4:I$49=AY14)*(N$4:N$49=BR13)*(K$4:K$49<>"")*(L$4:L$49<>"")*(K$4:K$49=L$4:L$49)*1)} -> 0 | BS14: {=SUM((I$4:I$49=AY14)*(N$4:N$49=BS13)*(K$4:K$49<>"")*(L$4:L$49<>"")*(K$4:K$49>L$4:L$49)*3,(N$4:N$49=AY14)*(I$4:I$49=BS13)*(K$4:K$49<>"")*(L$4:L$49<>"")*(K$4:K$49=L$4:L$49)*1,(N$4:N$49=AY14)*(I$4:I$49=BS13)*(K$4:K$49<>"")*(L$4:L$49<>"")*(K$4:K$49<L$4:L$49)*3,(I$4:I$49=AY14)*(N$4:N$49=BS13)*(K$4:K$49<>"")*(L$4:L$49<>"")*(K$4:K$49=L$4:L$49)*1)} -> 0 | BT14: 1 | BU14: =RANK(BW14,$BW$14:$BW$17) -> 1 | BV14: =A13 -> Dinamarca | BW14: =IF(AK14=0,-($AW$14*VLOOKUP(AI14,Tabla3[[NombreEquipo]:[Rank]],3,FALSE)),AJ14*$AW$4+BA14+AQ14*$AW$11+AO14*$AW$12+AL14*$AW$13-($AW$14*VLOOKUP(AI14,Tabla3[[NombreEquipo]:[Rank]],3,FALSE)/100)) -> -5 | BX14: =VLOOKUP(Q14,$AH$14:$AI$17,2,0) -> Dinamarca | BY14: =VLOOKUP($BX14,$AI$14:$AR$17,10,FALSE) -> -5 | CA14: 1 | CB14: =VLOOKUP(CA14,$AH$14:$AI$17,2,0) -> Dinamarca | CC14: =VLOOKUP(CB14,$AI$14:$AR$17,2,FALSE) -> 0 | CD14: =IF(SUM($AK$14:$AK$17)=12,MIN(ABS(BY13-BY14),ABS(BY14-BY15)),100) -> 100 | CE14: =VLOOKUP($CB14,$AI$14:$AR$17,9,FALSE) -> 0 | CF14: =VLOOKUP($CB14,$AI$14:$AR$17,7,FALSE) -> 0 | CH14: {=IF($CI$14=$CL$13,$EC$13:$EC$16,IF($CI$14=$CM$13,$ED$13:$ED$15,IF(OR($CI$14=$CN$13,$CI$14=$CO$13),$EE$13:$EE$14,$EI$13)))} -> 1 | CI14: =IFERROR(HLOOKUP(4,CL12:DI13,2,0),CS13) -> COM_8 | CK14: 1 | CL14: {=IF(AND($CC$14:$CC$17=$CC$14,$CD$14:$CD$17<90,$AQ$14:$AQ$17=$AQ$14,$CF$14:$CF$17=$CF$14),1,0)} -> 0 | CM14: {=IF(AND($CC$14:$CC$16=$CC$14,$CD$14:$CD$16<90,$CC$14<>$CC$17),1,0)} -> 0 | CN14: {=IF(AND($CC$14:$CC$15=$CC$14,$CD$14:$CD$15<90,$CC$14<>$CC$16),1,0)} -> 0 | CO14: {=IF(AND($CC$14:$CC$15=$CC$14,$CD$14:$CD$15<90,$CC$14<>$CC$16),1,0)} -> 0 | CP14: {=IF(AND($CC$15:$CC$17=$CC$15,$CD$15:$CD$17<90,$CC$14<>$CC$15),1,0)} -> 0 | CQ14: {=IF(AND($CC$14<>$CC$15,$CC$14<>$CC$17),1,0)} -> 0 | CR14: {=IF(AND($CC$14<>$CC$15,$CC$14<>$CC$17),1,0)} -> 0 | CS14: {=IF(AND($CC$14<>$CC$15,$CC$14<>$CC$17),1,0)} -> 0 | CT14: {=IF(AND($CC$14:$CC$17=$CC$14,$CD$14:$CD$17<90,$CE$14:$CE$15=$CE$14,$CE$14<>$CE$16),1,0)} -> 0 | CU14: {=IF(AND($CC$14:$CC$17=$CC$14,$CD$14:$CD$17<90,$CE$14:$CE$17=$CE$14,$CF$14=$CF$15,$CF$14<>$CF$16),1,0)} -> 0 | CV14: {=IF(AND($CC$14:$CC$16=$CC$14,$CD$14:$CD$15<90,$CD$16>90),1,0)} -> 0 | CW14: {=IF(AND($CC$14<>$CC$15,$CC$14<>$CC$16),1,0)} -> 0 | CX14: {=IF(AND($CC$14<>$CC$15,$CC$14<>$CC$16),1,0)} -> 0 | CY14: {=IF(AND($CC$14<>$CC$17,$CC$14:$CC$16=$CC$14,$CD$14>90,$CD$15:$CD$16<90),1,0)} -> 0 | CZ14: {=IF(AND($CC$14:$CC$17=$CC$14,$CD$15:$CD$17<90,$CD$14<>$CD$15),1,0)} -> 0 | DA14: {=IF(AND($CC$14:$CC$17=$CC$14,$CD$14:$CD$16<90,$CD$14<>$CD$17),1,0)} -> 0 | DB14: {=IF(AND($CC$14:$CC$17=$CC$14,$CD$14:$CD$15>90,$CD$16:$CD$17<90,$CE$14:$CE$17=$CE$14,$CF$14>$CF$15,$CF$14>$CF$16,$CF$14>$CF$17),1,0)} -> 0 | DC14: {=IF(AND($CC$14:$CC$17=$CC$14,$CD$14>90,$CD$15:$CD$16<90,$CD$17>90,$CE$14:$CE$17=$CE$14,$CF$14>$CF$15,$CF$14>$CF$16,$CF$14>$CF$17),1,0)} -> 0 | DD14: {=IF(AND($CC$14:$CC$17=$CC$14,$CD$14:$CD$15<90,$CD$16:$CD$17>90,$CE$14:$CE$17=$CE$14,$CF$14=$CF$15,$CF$14>$CF$16,$CF$14>$CF$17),1,0)} -> 0 | DE14: {=IF(AND($CC$14:$CC$17=$CC$14,$CD$14:$CD$15>90,$CD$16:$CD$17<90,$CE$14:$CE$17=$CE$14,$CF$14>$CF$15,$CF$15:$CF$17=$CF$15),1,0)} -> 0 | DF14: {=IF(AND($CC$14:$CC$17=$CC$14,$CD$14:$CD$15<90,$CD$16:$CD$17>90,$CE$14:$CE$17=$CE$14,$CF$14:$CF$16=$CF$14,$CF$14>$CF$17),1,0)} -> 0 | DG14: {=IF(AND($CC$14:$CC$17=$CC$14,$CD$14>90,$CD$17>90,$CD$15:$CD$16<90,$CE$14:$CE$17=$CE$14,$CF$14>$CF$15:$CF$17),1,0)} -> 0 | EC14: 2 | ED14: 2 | EE14: 2 | EF14: 3 | EG14: 4 | EH14: 3 | FI14: =RANK(FJ14,FJ14:FJ17,1) -> 1 | FJ14: =SUM(IF(AND(AJ14=AJ15,BC14=BC15,BI14=BI15,BO14=BO15),BE14,0),IF(AND(AJ14=AJ16,BC14=BC16,BI14=BI16,BO14=BO16),BF14,0),IF(AND(AJ14=AJ17,BC14=BC17,BI14=BI17,BO14=BO17),BG14,0)) -> 0 | FK14: =RANK(FL14,FL14:FL17,1) -> 1 | FL14: =SUM(IF(AND(AJ14=AJ15,BC14=BC15,BI14=BI15,BO14=BO15),BK14,0),IF(AND(AJ14=AJ16,BC14=BC16,BI14=BI16,BO14=BO16),BL14,0),IF(AND(AJ14=AJ17,BC14=BC17,BI14=BI17,BO14=BO17),BM14,0)) -> 0 | FM14: =RANK(FN14,FN14:FN17,1) -> 1 | FN14: =SUM(IF(AND(AJ14=AJ15,BC14=BC15,BI14=BI15,BO14=BO15),BQ14,0),IF(AND(AJ14=AJ16,BC14=BC16,BI14=BI16,BO14=BO16),BR14,0),IF(AND(AJ14=AJ17,BC14=BC17,BI14=BI17,BO14=BO17),BS14,0)) -> 0 | HJU14: matejero
A15: {=IF(ROWS(A$13:A15)<=$C$12,INDEX(INDIRECT(A$12),SMALL(IF(Nivell=$B$12,ROW(Nivell)-ROW(Equipos!$C$2)+1),ROWS(B$12:B14))),"")} -> Bélgica | F15: =Horarios!A15 -> 44364.75 | G15: =Horarios!A15+VLOOKUP($G$2,Horarios!$K$4:$O$27,4,0)*VLOOKUP($G$2,Horarios!$K$4:$O$27,5,0) -> 44364.75 | H15: J2 | I15: =A13 -> Dinamarca | N15: =A15 -> Bélgica | O15: =IF(NOT(OR(ISBLANK(K15),ISBLANK(L15))),1,0) -> 0 | Q15: 2 | R15: =VLOOKUP(Q15,$AG$14:$AI$17,3,0) -> Finlandia | S15: =VLOOKUP(R15,$AI$14:$AR$17,2,FALSE) -> 0 | T15: =VLOOKUP($R15,$AI$14:$AR$17,3,FALSE) -> 0 | U15: =VLOOKUP($R15,$AI$14:$AR$17,4,FALSE) -> 0 | V15: =VLOOKUP($R15,$AI$14:$AR$17,5,FALSE) -> 0 | W15: =VLOOKUP($R15,$AI$14:$AR$17,6,FALSE) -> 0 | X15: =VLOOKUP($R15,$AI$14:$AR$17,7,FALSE) -> 0 | Y15: =VLOOKUP($R15,$AI$14:$AR$17,8,FALSE) -> 0 | Z15: =VLOOKUP($R15,$AI$14:$AR$17,9,FALSE) -> 0 | AA15: =IF(SUM($AK$14:$AK$17)=12,MIN(ABS(BY14-BY15),ABS(BY15-BY16)),100) -> 100 | AB15: =IF(AND(AA15>=0,AA15<90),VLOOKUP(Q15,$BU$14:$BV$17,2,0),"") | AF15: =VLOOKUP($R15,$AI$14:$AR$17,10,FALSE) -> -6 | AG15: =RANK(AU15,$AU$14:$AU$17) -> 2 | AH15: =RANK(AR15,$AR$14:$AR$17) -> 2 | AI15: =A14 -> Finlandia | AJ15: =AL15*3+AM15*1+AN15*0 -> 0 | AK15: =COUNTIFS($I$4:$I$49,AI15,$K$4:$K$49,"<>",$L$4:$L$49,"<>")+COUNTIFS($N$4:$N$49,AI15,$L$4:$L$49,"<>",$K$4:$K$49,"<>") -> 0 | AL15: {=SUM(($I$4:$I$49=AI15)*($K$4:$K$49<>"")*($L$4:$L$49<>"")*($K$4:$K$49>$L$4:$L$49),($N$4:$N$49=AI15)*($K$4:$K$49<>"")*($L$4:$L$49<>"")*($K$4:$K$49<$L$4:$L$49))} -> 0 | AM15: {=SUM(($I$4:$I$49=AI15)*($K$4:$K$49<>"")*($L$4:$L$49<>"")*($K$4:$K$49=$L$4:$L$49),($N$4:$N$49=AI15)*($K$4:$K$49<>"")*($L$4:$L$49<>"")*($K$4:$K$49=$L$4:$L$49))} -> 0 | AN15: {=SUM(($I$4:$I$49=AI15)*($L$4:$L$49<>"")*($K$4:$K$49<>"")*($K$4:$K$49<$L$4:$L$49),($K$4:$K$49<>"")*($N$4:$N$49=AI15)*($L$4:$L$49<>"")*($K$4:$K$49>$L$4:$L$49))} -> 0 | AO15: {=SUMIFS($K$4:$K$49,$I$4:$I$49,AI15,$K$4:$K$49,"<>",$L$4:$L$49,"<>")+SUMIFS($L$4:$L$49,$N$4:$N$49,AI15,$K$4:$K$49,"<>",$L$4:$L$49,"<>")} -> 0 | AP15: {=SUMIFS($K$4:$K$49,$N$4:$N$49,AI15,$K$4:$K$49,"<>",$L$4:$L$49,"<>")+SUMIFS($L$4:$L$49,$I$4:$I$49,AI15,$K$4:$K$49,"<>",$L$4:$L$49,"<>")} -> 0 | AQ15: =AO15-AP15 -> 0 | AR15: =IF(AK15=0,-($AW$14*VLOOKUP(AI15,Tabla3[[NombreEquipo]:[Rank]],3,FALSE)),AJ15*$AW$4+BA15+AQ15*$AW$11+AO15*$AW$12+AL15*$AW$13-($AW$14*VLOOKUP(AI15,Tabla3[[NombreEquipo]:[Rank]],3,FALSE)/100)) -> -6 | AS15: =AH15 -> 2 | AU15: =IFERROR(AR15-VLOOKUP(AI15,$AB$14:$AC$17,2,0),AR15) -> -6 | AY15: =AI15 -> Finlandia | AZ15: =COUNTIF(AJ14:AJ17,AJ15) -> 4 | BA15: =(BB15*$AW$7)+(BH15*$AW$6)+(BN15*$AW$5)+(FI15*$AW$10)+(FK15*$AW$9)+(FM15*$AW$8) -> 781200000 | BB15: =RANK(BC15,BC14:BC17,1) -> 1 | BC15: =SUM(IF(AND(AJ15=AJ16),BF15,0),IF(AND(AJ15=AJ17),BG15,0),IF(AND(AJ15=AJ14),BD15,0)) -> 0 | BD15: {=SUMIFS($K$12:$K$17,$I$12:$I$17,$AY15,$K$12:$K$17,"<>",$L$12:$L$17,"<>",$N$12:$N$17,BD13)+SUMIFS($L$12:$L$17,$I$12:$I$17,BD13,$K$12:$K$17,"<>",$L$12:$L$17,"<>",$N$12:$N$17,$AY15)} -> 0 | BE15: 0 | BF15: {=SUMIFS($K$12:$K$17,$I$12:$I$17,$AY15,$K$12:$K$17,"<>",$L$12:$L$17,"<>",$N$12:$N$17,BF13)+SUMIFS($L$12:$L$17,$I$12:$I$17,BF13,$K$12:$K$17,"<>",$L$12:$L$17,"<>",$N$12:$N$17,$AY15)} -> 0 | BG15: {=SUMIFS($K$12:$K$17,$I$12:$I$17,$AY15,$K$12:$K$17,"<>",$L$12:$L$17,"<>",$N$12:$N$17,BG13)+SUMIFS($L$12:$L$17,$I$12:$I$17,BG13,$K$12:$K$17,"<>",$L$12:$L$17,"<>",$N$12:$N$17,$AY15)} -> 0 | BH15: =RANK(BI15,BI14:BI17,1) -> 1 | BI15: =SUM(IF(AND(AJ15=AJ16),BL15,0),IF(AND(AJ15=AJ17),BM15,0),IF(AND(AJ15=AJ14),BJ15,0)) -> 0 | BJ15: =BD15-BE14 -> 0 | BK15: 0 | BL15: =BF15-BE16 -> 0 | BM15: =BG15-BE17 -> 0 | BN15: =RANK(BO15,BO14:BO17,1) -> 1 | BO15: =SUM(IF(AND(AJ15=AJ16),BR15,0),IF(AND(AJ15=AJ17),BS15,0),IF(AND(AJ15=AJ14),BP15,0)) -> 0 | BP15: {=SUM((I$4:I$49=AY15)*(N$4:N$49=BP13)*(K$4:K$49<>"")*(L$4:L$49<>"")*(K$4:K$49>L$4:L$49)*3,(N$4:N$49=AY15)*(I$4:I$49=BP13)*(K$4:K$49<>"")*(L$4:L$49<>"")*(K$4:K$49=L$4:L$49)*1,(N$4:N$49=AY15)*(I$4:I$49=BP13)*(K$4:K$49<>"")*(L$4:L$49<>"")*(K$4:K$49<L$4:L$49)*3,(I$4:I$49=AY15)*(N$4:N$49=BP13)*(K$4:K$49<>"")*(L$4:L$49<>"")*(K$4:K$49=L$4:L$49)*1)} -> 0 | BQ15: 0 | BR15: {=SUM((I$4:I$49=AY15)*(N$4:N$49=BR13)*(K$4:K$49<>"")*(L$4:L$49<>"")*(K$4:K$49>L$4:L$49)*3,(N$4:N$49=AY15)*(I$4:I$49=BR13)*(K$4:K$49<>"")*(L$4:L$49<>"")*(K$4:K$49=L$4:L$49)*1,(N$4:N$49=AY15)*(I$4:I$49=BR13)*(K$4:K$49<>"")*(L$4:L$49<>"")*(K$4:K$49<L$4:L$49)*3,(I$4:I$49=AY15)*(N$4:N$49=BR13)*(K$4:K$49<>"")*(L$4:L$49<>"")*(K$4:K$49=L$4:L$49)*1)} -> 0 | BS15: {=SUM((I$4:I$49=AY15)*(N$4:N$49=BS13)*(K$4:K$49<>"")*(L$4:L$49<>"")*(K$4:K$49>L$4:L$49)*3,(N$4:N$49=AY15)*(I$4:I$49=BS13)*(K$4:K$49<>"")*(L$4:L$49<>"")*(K$4:K$49=L$4:L$49)*1,(N$4:N$49=AY15)*(I$4:I$49=BS13)*(K$4:K$49<>"")*(L$4:L$49<>"")*(K$4:K$49<L$4:L$49)*3,(I$4:I$49=AY15)*(N$4:N$49=BS13)*(K$4:K$49<>"")*(L$4:L$49<>"")*(K$4:K$49=L$4:L$49)*1)} -> 0 | BT15: 2 | BU15: =RANK(BW15,$BW$14:$BW$17) -> 2 | BV15: =A14 -> Finlandia | BW15: =IF(AK15=0,-($AW$14*VLOOKUP(AI15,Tabla3[[NombreEquipo]:[Rank]],3,FALSE)),AJ15*$AW$4+BA15+AQ15*$AW$11+AO15*$AW$12+AL15*$AW$13-($AW$14*VLOOKUP(AI15,Tabla3[[NombreEquipo]:[Rank]],3,FALSE)/100)) -> -6 | BX15: =VLOOKUP(Q15,$AH$14:$AI$17,2,0) -> Finlandia | BY15: =VLOOKUP($BX15,$AI$14:$AR$17,10,FALSE) -> -6 | CA15: 2 | CB15: =VLOOKUP(CA15,$AH$14:$AI$17,2,0) -> Finlandia | CC15: =VLOOKUP(CB15,$AI$14:$AR$17,2,FALSE) -> 0 | CD15: =IF(SUM($AK$14:$AK$17)=12,MIN(ABS(BY14-BY15),ABS(BY15-BY16)),100) -> 100 | CE15: =VLOOKUP($CB15,$AI$14:$AR$17,9,FALSE) -> 0 | CF15: =VLOOKUP($CB15,$AI$14:$AR$17,7,FALSE) -> 0 | CH15: {=IF($CI$14=$CL$13,$EC$13:$EC$16,IF($CI$14=$CM$13,$ED$13:$ED$15,IF(OR($CI$14=$CN$13,$CI$14=$CO$13),$EE$13:$EE$14,IF($CI$14=$CP$13,$EF$13:$EF$15,(IF($CI$14=$CQ$13,$EH$13:$EH$14,$EJ$13))))))} -> 2 | CK15: 2 | CL15: {=IF(AND($CC$14:$CC$17=$CC$15,$CD$14:$CD$17<90,$AQ$14:$AQ$17=$AQ$15,$CF$14:$CF$17=$CF$15),1,0)} -> 0 | CM15: {=IF(AND($CC$14:$CC$16=$CC$15,$CD$14:$CD$16<90,$CC$15<>$CC$17),1,0)} -> 0 | CN15: {=IF(AND($CC$14:$CC$15=$CC$14,$CD$14:$CD$15<90,$CC$14<>$CC$16),1,0)} -> 0 | CO15: {=IF(AND($CC$14:$CC$15=$CC$14,$CD$14:$CD$15<90,$CC$14<>$CC$16),1,0)} -> 0 | CP15: {=IF(AND($CC$15:$CC$17=$CC$15,$CD$15:$CD$17<90,$CC$14<>$CC$15),1,0)} -> 0 | CQ15: {=IF(AND($CC$15:$CC$16=$CC$15,$CD$15:$CD$16<90,$CC$15<>$CC$14,$CC$15<>$CC$17),1,0)} -> 0 | CR15: {=IF(AND($CC$15<>$CC$14,$CC$15<>$CC$16),1,0)} -> 0 | CS15: {=IF(AND($CC$15<>$CC$14,$CC$15<>$CC$16),1,0)} -> 0 | CT15: {=IF(AND($CC$14:$CC$17=$CC$14,$CD$14:$CD$17<90,$CE$14:$CE$15=$CE$14,$CE$15<>$CE$16),1,0)} -> 0 | CU15: {=IF(AND($CC$14:$CC$17=$CC$14,$CD$14:$CD$17<90,$CE$14:$CE$17=$CE$14,$CF$14=$CF$15,$CF$15<>$CF$16),1,0)} -> 0 | CV15: {=IF(AND($CC$14:$CC$16=$CC$15,$CD$14:$CD$15<90,$CD$16>90),1,0)} -> 0 | CW15: {=IF(AND($CC$15<>$CC$14,$CC$15:$CC$17=$CC$15,$CD$15>90,$CD$16:$CD$17<90),1,0)} -> 0 | CX15: {=IF(AND($CC$15<>$CC$14,$CC$15:$CC$17=$CC$15,$CD$17>90,$CD$15:$CD$16<90),1,0)} -> 0 | CY15: {=IF(AND($CC$15<>$CC$17,$CC$14:$CC$16=$CC$15,$CD$14>90,$CD$15:$CD$16<90),1,0)} -> 0 | CZ15: {=IF(AND($CC$14:$CC$17=$CC$15,$CD$15:$CD$17<90,$CD$14<>$CD$15),1,0)} -> 0 | DA15: {=IF(AND($CC$14:$CC$17=$CC$15,$CD$14:$CD$16<90,$CD$15<>$CD$17),1,0)} -> 0 | DB15: {=IF(AND($CC$14:$CC$17=$CC$15,$CD$14:$CD$15>90,$CD$16:$CD$17<90,$CE$14:$CE$17=$CE$15,$CF$14>$CF$15,$CF$15>$CF$16,$CF$15>$CF$17),1,0)} -> 0 | DC15: {=IF(AND($CC$14:$CC$17=$CC$15,$CD$14>90,$CD$15:$CD$16<90,$CD$17>90,$CE$14:$CE$17=$CE$15,$CF$14>$CF$15,$CF$15=$CF$16,$CF$15>$CF$17),1,0)} -> 0 | DD15: {=IF(AND($CC$14:$CC$17=$CC$15,$CD$14:$CD$15<90,$CD$16:$CD$17>90,$CE$14:$CE$17=$CE$15,$CF$14=$CF$15,$CF$15>$CF$16,$CF$15>$CF$17),1,0)} -> 0 | DE15: {=IF(AND($CC$14:$CC$17=$CC$15,$CD$14:$CD$15>90,$CD$16:$CD$17<90,$CE$14:$CE$17=$CE$15,$CF$14>$CF$15,$CF$15:$CF$17=$CF$15),1,0)} -> 0 | DF15: {=IF(AND($CC$14:$CC$17=$CC$15,$CD$14:$CD$15<90,$CD$16:$CD$17>90,$CE$14:$CE$17=$CE$15,$CF$14:$CF$16=$CF$15,$CF$15>$CF$17),1,0)} -> 0 | DG15: {=IF(AND($CC$14:$CC$17=$CC$15,$CD$14>90,$CD$17>90,$CD$15:$CD$16<90,$CE$14:$CE$17=$CE$15,$CF$14>$CF$15:$CF$17,$CF$15:$CF$17=$CF$15),1,0)} -> 0 | EC15: 3 | ED15: 3 | EF15: 4 | FI15: =RANK(FJ15,FJ14:FJ17,1) -> 1 | FJ15: =SUM(IF(AND(AJ15=AJ16,BC15=BC16,BI15=BI16,BO15=BO16),BF15,0),IF(AND(AJ15=AJ17,BC15=BC17,BI15=BI17,BO15=BO17),BG15,0),IF(AND(AJ15=AJ14,BC15=BC14,BI15=BI14,BO15=BO14),BD15,0)) -> 0 | FK15: =RANK(FL15,FL14:FL17,1) -> 1 | FL15: =SUM(IF(AND(AJ15=AJ16,BC15=BC16,BI15=BI16,BO15=BO16),BL15,0),IF(AND(AJ15=AJ17,BC15=BC17,BI15=BI17,BO15=BO17),BM15,0),IF(AND(AJ15=AJ14,BC15=BC14,BI15=BI14,BO15=BO14),BJ15,0)) -> 0 | FM15: =RANK(FN15,FN14:FN17,1) -> 1 | FN15: =SUM(IF(AND(AJ15=AJ16,BC15=BC16,BI15=BI16,BO15=BO16),BR15,0),IF(AND(AJ15=AJ17,BC15=BC17,BI15=BI17,BO15=BO17),BS15,0),IF(AND(AJ15=AJ14,BC15=BC14,BI15=BI14,BO15=BO14),BP15,0)) -> 0
A16: {=IF(ROWS(A$13:A16)<=$C$12,INDEX(INDIRECT(A$12),SMALL(IF(Nivell=$B$12,ROW(Nivell)-ROW(Equipos!$C$2)+1),ROWS(B$12:B15))),"")} -> Rusia | F16: =Horarios!A16 -> 44368.875 | G16: =Horarios!A16+VLOOKUP($G$2,Horarios!$K$4:$O$27,4,0)*VLOOKUP($G$2,Horarios!$K$4:$O$27,5,0) -> 44368.875 | H16: J3 | I16: =A14 -> Finlandia | N16: =A15 -> Bélgica | O16: =IF(NOT(OR(ISBLANK(K16),ISBLANK(L16))),1,0) -> 0 | Q16: 3 | R16: =VLOOKUP(Q16,$AG$14:$AI$17,3,0) -> Bélgica | S16: =VLOOKUP(R16,$AI$14:$AR$17,2,FALSE) -> 0 | T16: =VLOOKUP($R16,$AI$14:$AR$17,3,FALSE) -> 0 | U16: =VLOOKUP($R16,$AI$14:$AR$17,4,FALSE) -> 0 | V16: =VLOOKUP($R16,$AI$14:$AR$17,5,FALSE) -> 0 | W16: =VLOOKUP($R16,$AI$14:$AR$17,6,FALSE) -> 0 | X16: =VLOOKUP($R16,$AI$14:$AR$17,7,FALSE) -> 0 | Y16: =VLOOKUP($R16,$AI$14:$AR$17,8,FALSE) -> 0 | Z16: =VLOOKUP($R16,$AI$14:$AR$17,9,FALSE) -> 0 | AA16: =IF(SUM($AK$14:$AK$17)=12,MIN(ABS(BY15-BY16),ABS(BY16-BY17)),100) -> 100 | AB16: =IF(AND(AA16>=0,AA16<90),VLOOKUP(Q16,$BU$14:$BV$17,2,0),"") | AF16: =VLOOKUP($R16,$AI$14:$AR$17,10,FALSE) -> -7 | AG16: =RANK(AU16,$AU$14:$AU$17) -> 3 | AH16: =RANK(AR16,$AR$14:$AR$17) -> 3 | AI16: =A15 -> Bélgica | AJ16: =AL16*3+AM16*1+AN16*0 -> 0 | AK16: =COUNTIFS($I$4:$I$49,AI16,$K$4:$K$49,"<>",$L$4:$L$49,"<>")+COUNTIFS($N$4:$N$49,AI16,$L$4:$L$49,"<>",$K$4:$K$49,"<>") -> 0 | AL16: {=SUM(($I$4:$I$49=AI16)*($K$4:$K$49<>"")*($L$4:$L$49<>"")*($K$4:$K$49>$L$4:$L$49),($N$4:$N$49=AI16)*($K$4:$K$49<>"")*($L$4:$L$49<>"")*($K$4:$K$49<$L$4:$L$49))} -> 0 | AM16: {=SUM(($I$4:$I$49=AI16)*($K$4:$K$49<>"")*($L$4:$L$49<>"")*($K$4:$K$49=$L$4:$L$49),($N$4:$N$49=AI16)*($K$4:$K$49<>"")*($L$4:$L$49<>"")*($K$4:$K$49=$L$4:$L$49))} -> 0 | AN16: {=SUM(($I$4:$I$49=AI16)*($L$4:$L$49<>"")*($K$4:$K$49<>"")*($K$4:$K$49<$L$4:$L$49),($K$4:$K$49<>"")*($N$4:$N$49=AI16)*($L$4:$L$49<>"")*($K$4:$K$49>$L$4:$L$49))} -> 0 | AO16: {=SUMIFS($K$4:$K$49,$I$4:$I$49,AI16,$K$4:$K$49,"<>",$L$4:$L$49,"<>")+SUMIFS($L$4:$L$49,$N$4:$N$49,AI16,$K$4:$K$49,"<>",$L$4:$L$49,"<>")} -> 0 | AP16: {=SUMIFS($K$4:$K$49,$N$4:$N$49,AI16,$K$4:$K$49,"<>",$L$4:$L$49,"<>")+SUMIFS($L$4:$L$49,$I$4:$I$49,AI16,$K$4:$K$49,"<>",$L$4:$L$49,"<>")} -> 0 | AQ16: =AO16-AP16 -> 0 | AR16: =IF(AK16=0,-($AW$14*VLOOKUP(AI16,Tabla3[[NombreEquipo]:[Rank]],3,FALSE)),AJ16*$AW$4+BA16+AQ16*$AW$11+AO16*$AW$12+AL16*$AW$13-($AW$14*VLOOKUP(AI16,Tabla3[[NombreEquipo]:[Rank]],3,FALSE)/100)) -> -7 | AS16: =AH16 -> 3 | AU16: =IFERROR(AR16-VLOOKUP(AI16,$AB$14:$AC$17,2,0),AR16) -> -7 | AY16: =AI16 -> Bélgica | AZ16: =COUNTIF(AJ14:AJ17,AJ16) -> 4 | BA16: =(BB16*$AW$7)+(BH16*$AW$6)+(BN16*$AW$5)+(FI16*$AW$10)+(FK16*$AW$9)+(FM16*$AW$8) -> 781200000 | BB16: =RANK(BC16,BC14:BC17,1) -> 1 | BC16: =SUM(IF(AND(AJ16=AJ17),BG16,0),IF(AND(AJ16=AJ14),BD16,0),IF(AND(AJ16=AJ15),BE16,0)) -> 0 | BD16: {=SUMIFS($K$12:$K$17,$I$12:$I$17,$AY16,$K$12:$K$17,"<>",$L$12:$L$17,"<>",$N$12:$N$17,BD13)+SUMIFS($L$12:$L$17,$I$12:$I$17,BD13,$K$12:$K$17,"<>",$L$12:$L$17,"<>",$N$12:$N$17,$AY16)} -> 0 | BE16: {=SUMIFS($K$12:$K$17,$I$12:$I$17,$AY16,$K$12:$K$17,"<>",$L$12:$L$17,"<>",$N$12:$N$17,BE13)+SUMIFS($L$12:$L$17,$I$12:$I$17,BE13,$K$12:$K$17,"<>",$L$12:$L$17,"<>",$N$12:$N$17,$AY16)} -> 0 | BF16: 0 | BG16: {=SUMIFS($K$12:$K$17,$I$12:$I$17,$AY16,$K$12:$K$17,"<>",$L$12:$L$17,"<>",$N$12:$N$17,BG13)+SUMIFS($L$12:$L$17,$I$12:$I$17,BG13,$K$12:$K$17,"<>",$L$12:$L$17,"<>",$N$12:$N$17,$AY16)} -> 0 | BH16: =RANK(BI16,BI14:BI17,1) -> 1 | BI16: =SUM(IF(AND(AJ16=AJ17),BM16,0),IF(AND(AJ16=AJ14),BJ16,0),IF(AND(AJ16=AJ15),BK16,0)) -> 0 | BJ16: =BD16-BF14 -> 0 | BK16: =BE16-BF15 -> 0 | BL16: 0 | BM16: =BG16-BF17 -> 0 | BN16: =RANK(BO16,BO14:BO17,1) -> 1 | BO16: =SUM(IF(AND(AJ16=AJ17),BS16,0),IF(AND(AJ16=AJ14),BP16,0),IF(AND(AJ16=AJ15),BQ16,0)) -> 0 | BP16: {=SUM((I$4:I$49=AY16)*(N$4:N$49=BP13)*(K$4:K$49<>"")*(L$4:L$49<>"")*(K$4:K$49>L$4:L$49)*3,(N$4:N$49=AY16)*(I$4:I$49=BP13)*(K$4:K$49<>"")*(L$4:L$49<>"")*(K$4:K$49=L$4:L$49)*1,(N$4:N$49=AY16)*(I$4:I$49=BP13)*(K$4:K$49<>"")*(L$4:L$49<>"")*(K$4:K$49<L$4:L$49)*3,(I$4:I$49=AY16)*(N$4:N$49=BP13)*(K$4:K$49<>"")*(L$4:L$49<>"")*(K$4:K$49=L$4:L$49)*1)} -> 0 | BQ16: {=SUM((I$4:I$49=AY16)*(N$4:N$49=BQ13)*(K$4:K$49<>"")*(L$4:L$49<>"")*(K$4:K$49>L$4:L$49)*3,(N$4:N$49=AY16)*(I$4:I$49=BQ13)*(K$4:K$49<>"")*(L$4:L$49<>"")*(K$4:K$49=L$4:L$49)*1,(N$4:N$49=AY16)*(I$4:I$49=BQ13)*(K$4:K$49<>"")*(L$4:L$49<>"")*(K$4:K$49<L$4:L$49)*3,(I$4:I$49=AY16)*(N$4:N$49=BQ13)*(K$4:K$49<>"")*(L$4:L$49<>"")*(K$4:K$49=L$4:L$49)*1)} -> 0 | BR16: 0 | BS16: {=SUM((I$4:I$49=AY16)*(N$4:N$49=BS13)*(K$4:K$49<>"")*(L$4:L$49<>"")*(K$4:K$49>L$4:L$49)*3,(N$4:N$49=AY16)*(I$4:I$49=BS13)*(K$4:K$49<>"")*(L$4:L$49<>"")*(K$4:K$49=L$4:L$49)*1,(N$4:N$49=AY16)*(I$4:I$49=BS13)*(K$4:K$49<>"")*(L$4:L$49<>"")*(K$4:K$49<L$4:L$49)*3,(I$4:I$49=AY16)*(N$4:N$49=BS13)*(K$4:K$49<>"")*(L$4:L$49<>"")*(K$4:K$49=L$4:L$49)*1)} -> 0 | BT16: 3 | BU16: =RANK(BW16,$BW$14:$BW$17) -> 3 | BV16: =A15 -> Bélgica | BW16: =IF(AK16=0,-($AW$14*VLOOKUP(AI16,Tabla3[[NombreEquipo]:[Rank]],3,FALSE)),AJ16*$AW$4+BA16+AQ16*$AW$11+AO16*$AW$12+AL16*$AW$13-($AW$14*VLOOKUP(AI16,Tabla3[[NombreEquipo]:[Rank]],3,FALSE)/100)) -> -7 | BX16: =VLOOKUP(Q16,$AH$14:$AI$17,2,0) -> Bélgica | BY16: =VLOOKUP($BX16,$AI$14:$AR$17,10,FALSE) -> -7 | CA16: 3 | CB16: =VLOOKUP(CA16,$AH$14:$AI$17,2,0) -> Bélgica | CC16: =VLOOKUP(CB16,$AI$14:$AR$17,2,FALSE) -> 0 | CD16: =IF(SUM($AK$14:$AK$17)=12,MIN(ABS(BY15-BY16),ABS(BY16-BY17)),100) -> 100 | CE16: =VLOOKUP($CB16,$AI$14:$AR$17,9,FALSE) -> 0 | CF16: =VLOOKUP($CB16,$AI$14:$AR$17,7,FALSE) -> 0 | CH16: {=IF($CI$14=$CL$13,$EC$13:$EC$16,IF($CI$14=$CM$13,$ED$13:$ED$15,IF(OR($CI$14=$CN$13,$CI$14=$CR$13),$EG$13:$EG$14,IF($CI$14=$CP$13,$EF$13:$EF$15,(IF($CI$14=$CQ$13,$EH$13:$EH$14,$EK$13))))))} -> 3 | CK16: 3 | CL16: {=IF(AND($CC$14:$CC$17=$CC$16,$CD$14:$CD$17<90,$AQ$14:$AQ$17=$AQ$16,$CF$14:$CF$17=$CF$16),1,0)} -> 0 | CM16: {=IF(AND($CC$14:$CC$16=$CC$16,$CD$14:$CD$16<90,$CC$16<>$CC$17),1,0)} -> 0 | CN16: {=IF(AND($CC$16:$CC$17=$CC$16,$CD$16:$CD$17<90,$CC$16<>$CC$15),1,0)} -> 0 | CO16: {=IF(OR(AND($CC$16<>$CC$15,$CC$16<>$CC$17),AND($CC$16<>$CC$15,$CC$16=$CC$17,$CD$16>90,$CD$17>90)),1,0)} -> 0 | CP16: {=IF(AND($CC$15:$CC$17=$CC$15,$CD$15:$CD$17<90,$CC$14<>$CC$16),1,0)} -> 0 | CQ16: {=IF(AND($CC$15:$CC$16=$CC$16,$CD$15:$CD$16<90,$CC$16<>$CC$14,$CC$16<>$CC$17),1,0)} -> 0 | CR16: {=IF(AND($CC$16:$CC$17=$CC$16,$CD$16:$CD$17<90,$CC$16<>$CC$15),1,0)} -> 0 | CS16: {=IF(AND($CC$16<>$CC$15,$CC$16<>$CC$17),1,0)} -> 0 | CT16: {=IF(AND($CC$14:$CC$17=$CC$14,$CD$14:$CD$17<90,$CE$16:$CE$17=$CE$16,$CE$15<>$CE$16),1,0)} -> 0 | CU16: {=IF(AND($CC$14:$CC$17=$CC$14,$CD$14:$CD$17<90,$CE$14:$CE$17=$CE$14,$CF$16=$CF$17,$CF$15<>$CF$16),1,0)} -> 0 | CV16: {=IF(AND($CC$14:$CC$16=$CC$16,$CD$14:$CD$15<90,$CD$16>90),1,0)} -> 0 | CW16: {=IF(AND($CC$15<>$CC$14,$CC$15:$CC$17=$CC$16,$CD$15>90,$CD$16:$CD$17<90),1,0)} -> 0 | CX16: {=IF(AND($CC$15<>$CC$14,$CC$15:$CC$17=$CC$15,$CD$17>90,$CD$15:$CD$16<90),1,0)} -> 0 | CY16: {=IF(AND($CC$16<>$CC$17,$CC$14:$CC$16=$CC$16,$CD$14>90,$CD$15:$CD$16<90),1,0)} -> 0 | CZ16: {=IF(AND($CC$14:$CC$17=$CC$15,$CD$15:$CD$17<90,$CD$14<>$CD$16),1,0)} -> 0 | DA16: {=IF(AND($CC$14:$CC$17=$CC$16,$CD$14:$CD$16<90,$CD$16<>$CD$17),1,0)} -> 0 | DB16: {=IF(AND($CC$14:$CC$17=$CC$16,$CD$14:$CD$15>90,$CD$16:$CD$17<90,$CE$14:$CE$17=$CE$16,$CF$14>$CF$15,$CF$15>$CF$16,$CF$16=$CF$17),1,0)} -> 0 | DC16: {=IF(AND($CC$14:$CC$17=$CC$16,$CD$14>90,$CD$15:$CD$16<90,$CD$17>90,$CE$14:$CE$17=$CE$16,$CF$14>$CF$15,$CF$15=$CF$16,$CF$16>$CF$17),1,0)} -> 0 | DD16: {=IF(AND($CC$14:$CC$17=$CC$16,$CD$14:$CD$15<90,$CD$16:$CD$17>90,$CE$14:$CE$17=$CE$16,$CF$14=$CF$15,$CF$15>$CF$16,$CF$16>$CF$17),1,0)} -> 0 | DE16: {=IF(AND($CC$14:$CC$17=$CC$16,$CD$14:$CD$15>90,$CD$16:$CD$17<90,$CE$14:$CE$17=$CE$15,$CF$14>$CF$16,$CF$15:$CF$17=$CF$16),1,0)} -> 0 | DF16: {=IF(AND($CC$14:$CC$17=$CC$16,$CD$14:$CD$15<90,$CD$16:$CD$17>90,$CE$14:$CE$17=$CE$16,$CF$14:$CF$16=$CF$16,$CF$16>$CF$17),1,0)} -> 0 | DG16: {=IF(AND($CC$14:$CC$17=$CC$16,$CD$14>90,$CD$17>90,$CD$15:$CD$16<90,$CE$14:$CE$17=$CE$16,$CF$14>$CF$15:$CF$17,$CF$15:$CF$17=$CF$16),1,0)} -> 0 | EC16: 4 | FI16: =RANK(FJ16,FJ14:FJ17,1) -> 1 | FJ16: =SUM(IF(AND(AJ16=AJ17,BC16=BC17,BI16=BI17,BO16=BO17),BG16,0),IF(AND(AJ16=AJ14,BC16=BC14,BI16=BI14,BO16=BO14),BD16,0),IF(AND(AJ16=AJ15,BC16=BC15,BI16=BI15,BO16=BO15),BE16,0)) -> 0 | FK16: =RANK(FL16,FL14:FL17,1) -> 1 | FL16: =SUM(IF(AND(AJ16=AJ17,BC16=BC17,BI16=BI17,BO16=BO17),BM16,0),IF(AND(AJ16=AJ14,BC16=BC14,BI16=BI14,BO16=BO14),BJ16,0),IF(AND(AJ16=AJ15,BC16=BC15,BI16=BI15,BO16=BO15),BK16,0)) -> 0 | FM16: =RANK(FN16,FN14:FN17,1) -> 1 | FN16: =SUM(IF(AND(AJ16=AJ17,BC16=BC17,BI16=BI17,BO16=BO17),BS16,0),IF(AND(AJ16=AJ14,BC16=BC14,BI16=BI14,BO16=BO14),BP16,0),IF(AND(AJ16=AJ15,BC16=BC15,BI16=BI15,BO16=BO15),BQ16,0)) -> 0
F17: =Horarios!A17 -> 44368.875 | G17: =Horarios!A17+VLOOKUP($G$2,Horarios!$K$4:$O$27,4,0)*VLOOKUP($G$2,Horarios!$K$4:$O$27,5,0) -> 44368.875 | H17: J3 | I17: =A16 -> Rusia | N17: =A13 -> Dinamarca | O17: =IF(NOT(OR(ISBLANK(K17),ISBLANK(L17))),1,0) -> 0 | Q17: 4 | R17: =VLOOKUP(Q17,$AG$14:$AI$17,3,0) -> Rusia | S17: =VLOOKUP(R17,$AI$14:$AR$17,2,FALSE) -> 0 | T17: =VLOOKUP($R17,$AI$14:$AR$17,3,FALSE) -> 0 | U17: =VLOOKUP($R17,$AI$14:$AR$17,4,FALSE) -> 0 | V17: =VLOOKUP($R17,$AI$14:$AR$17,5,FALSE) -> 0 | W17: =VLOOKUP($R17,$AI$14:$AR$17,6,FALSE) -> 0 | X17: =VLOOKUP($R17,$AI$14:$AR$17,7,FALSE) -> 0 | Y17: =VLOOKUP($R17,$AI$14:$AR$17,8,FALSE) -> 0 | Z17: =VLOOKUP($R17,$AI$14:$AR$17,9,FALSE) -> 0 | AA17: =IF(SUM($AK$14:$AK$17)=12,MIN(ABS(BY16-BY17),ABS(BY17-BY18)),100) -> 100 | AB17: =IF(AND(AA17>=0,AA17<90),VLOOKUP(Q17,$BU$14:$BV$17,2,0),"") | AF17: =VLOOKUP($R17,$AI$14:$AR$17,10,FALSE) -> -8 | AG17: =RANK(AU17,$AU$14:$AU$17) -> 4 | AH17: =RANK(AR17,$AR$14:$AR$17) -> 4 | AI17: =A16 -> Rusia | AJ17: =AL17*3+AM17*1+AN17*0 -> 0 | AK17: =COUNTIFS($I$4:$I$49,AI17,$K$4:$K$49,"<>",$L$4:$L$49,"<>")+COUNTIFS($N$4:$N$49,AI17,$L$4:$L$49,"<>",$K$4:$K$49,"<>") -> 0 | AL17: {=SUM(($I$4:$I$49=AI17)*($K$4:$K$49<>"")*($L$4:$L$49<>"")*($K$4:$K$49>$L$4:$L$49),($N$4:$N$49=AI17)*($K$4:$K$49<>"")*($L$4:$L$49<>"")*($K$4:$K$49<$L$4:$L$49))} -> 0 | AM17: {=SUM(($I$4:$I$49=AI17)*($K$4:$K$49<>"")*($L$4:$L$49<>"")*($K$4:$K$49=$L$4:$L$49),($N$4:$N$49=AI17)*($K$4:$K$49<>"")*($L$4:$L$49<>"")*($K$4:$K$49=$L$4:$L$49))} -> 0 | AN17: {=SUM(($I$4:$I$49=AI17)*($L$4:$L$49<>"")*($K$4:$K$49<>"")*($K$4:$K$49<$L$4:$L$49),($K$4:$K$49<>"")*($N$4:$N$49=AI17)*($L$4:$L$49<>"")*($K$4:$K$49>$L$4:$L$49))} -> 0 | AO17: {=SUMIFS($K$4:$K$49,$I$4:$I$49,AI17,$K$4:$K$49,"<>",$L$4:$L$49,"<>")+SUMIFS($L$4:$L$49,$N$4:$N$49,AI17,$K$4:$K$49,"<>",$L$4:$L$49,"<>")} -> 0 | AP17: {=SUMIFS($K$4:$K$49,$N$4:$N$49,AI17,$K$4:$K$49,"<>",$L$4:$L$49,"<>")+SUMIFS($L$4:$L$49,$I$4:$I$49,AI17,$K$4:$K$49,"<>",$L$4:$L$49,"<>")} -> 0 | AQ17: =AO17-AP17 -> 0 | AR17: =IF(AK17=0,-($AW$14*VLOOKUP(AI17,Tabla3[[NombreEquipo]:[Rank]],3,FALSE)),AJ17*$AW$4+BA17+AQ17*$AW$11+AO17*$AW$12+AL17*$AW$13-($AW$14*VLOOKUP(AI17,Tabla3[[NombreEquipo]:[Rank]],3,FALSE)/100)) -> -8 | AS17: =AH17 -> 4 | AU17: =IFERROR(AR17-VLOOKUP(AI17,$AB$14:$AC$17,2,0),AR17) -> -8 | AY17: =AI17 -> Rusia | AZ17: =COUNTIF(AJ14:AJ17,AJ17) -> 4 | BA17: =(BB17*$AW$7)+(BH17*$AW$6)+(BN17*$AW$5)+(FI17*$AW$10)+(FK17*$AW$9)+(FM17*$AW$8) -> 781200000 | BB17: =RANK(BC17,BC14:BC17,1) -> 1 | BC17: =SUM(IF(AND(AJ17=AJ14),BD17,0),IF(AND(AJ17=AJ15),BE17,0),IF(AND(AJ17=AJ16),BF17,0)) -> 0 | BD17: {=SUMIFS($K$12:$K$17,$I$12:$I$17,$AY17,$K$12:$K$17,"<>",$L$12:$L$17,"<>",$N$12:$N$17,BD13)+SUMIFS($L$12:$L$17,$I$12:$I$17,BD13,$K$12:$K$17,"<>",$L$12:$L$17,"<>",$N$12:$N$17,$AY17)} -> 0 | BE17: {=SUMIFS($K$12:$K$17,$I$12:$I$17,$AY17,$K$12:$K$17,"<>",$L$12:$L$17,"<>",$N$12:$N$17,BE13)+SUMIFS($L$12:$L$17,$I$12:$I$17,BE13,$K$12:$K$17,"<>",$L$12:$L$17,"<>",$N$12:$N$17,$AY17)} -> 0 | BF17: {=SUMIFS($K$12:$K$17,$I$12:$I$17,$AY17,$K$12:$K$17,"<>",$L$12:$L$17,"<>",$N$12:$N$17,BF13)+SUMIFS($L$12:$L$17,$I$12:$I$17,BF13,$K$12:$K$17,"<>",$L$12:$L$17,"<>",$N$12:$N$17,$AY17)} -> 0 | BG17: 0 | BH17: =RANK(BI17,BI14:BI17,1) -> 1 | BI17: =SUM(IF(AND(AJ17=AJ14),BJ17,0),IF(AND(AJ17=AJ15),BK17,0),IF(AND(AJ17=AJ16),BL17,0)) -> 0 | BJ17: =BD17-BG14 -> 0 | BK17: =BE17-BG15 -> 0 | BL17: =BF17-BG16 -> 0 | BM17: 0 | BN17: =RANK(BO17,BO14:BO17,1) -> 1 | BO17: =SUM(IF(AND(AJ17=AJ14),BP17,0),IF(AND(AJ17=AJ15),BQ17,0),IF(AND(AJ17=AJ16),BR17,0)) -> 0 | BP17: {=SUM((I$4:I$49=AY17)*(N$4:N$49=BP13)*(K$4:K$49<>"")*(L$4:L$49<>"")*(K$4:K$49>L$4:L$49)*3,(N$4:N$49=AY17)*(I$4:I$49=BP13)*(K$4:K$49<>"")*(L$4:L$49<>"")*(K$4:K$49=L$4:L$49)*1,(N$4:N$49=AY17)*(I$4:I$49=BP13)*(K$4:K$49<>"")*(L$4:L$49<>"")*(K$4:K$49<L$4:L$49)*3,(I$4:I$49=AY17)*(N$4:N$49=BP13)*(K$4:K$49<>"")*(L$4:L$49<>"")*(K$4:K$49=L$4:L$49)*1)} -> 0 | BQ17: {=SUM((I$4:I$49=AY17)*(N$4:N$49=BQ13)*(K$4:K$49<>"")*(L$4:L$49<>"")*(K$4:K$49>L$4:L$49)*3,(N$4:N$49=AY17)*(I$4:I$49=BQ13)*(K$4:K$49<>"")*(L$4:L$49<>"")*(K$4:K$49=L$4:L$49)*1,(N$4:N$49=AY17)*(I$4:I$49=BQ13)*(K$4:K$49<>"")*(L$4:L$49<>"")*(K$4:K$49<L$4:L$49)*3,(I$4:I$49=AY17)*(N$4:N$49=BQ13)*(K$4:K$49<>"")*(L$4:L$49<>"")*(K$4:K$49=L$4:L$49)*1)} -> 0 | BR17: {=SUM((I$4:I$49=AY17)*(N$4:N$49=BR13)*(K$4:K$49<>"")*(L$4:L$49<>"")*(K$4:K$49>L$4:L$49)*3,(N$4:N$49=AY17)*(I$4:I$49=BR13)*(K$4:K$49<>"")*(L$4:L$49<>"")*(K$4:K$49=L$4:L$49)*1,(N$4:N$49=AY17)*(I$4:I$49=BR13)*(K$4:K$49<>"")*(L$4:L$49<>"")*(K$4:K$49<L$4:L$49)*3,(I$4:I$49=AY17)*(N$4:N$49=BR13)*(K$4:K$49<>"")*(L$4:L$49<>"")*(K$4:K$49=L$4:L$49)*1)} -> 0 | BS17: 0 | BT17: 4 | BU17: =RANK(BW17,$BW$14:$BW$17) -> 4 | BV17: =A16 -> Rusia | BW17: =IF(AK17=0,-($AW$14*VLOOKUP(AI17,Tabla3[[NombreEquipo]:[Rank]],3,FALSE)),AJ17*$AW$4+BA17+AQ17*$AW$11+AO17*$AW$12+AL17*$AW$13-($AW$14*VLOOKUP(AI17,Tabla3[[NombreEquipo]:[Rank]],3,FALSE)/100)) -> -8 | BX17: =VLOOKUP(Q17,$AH$14:$AI$17,2,0) -> Rusia | BY17: =VLOOKUP($BX17,$AI$14:$AR$17,10,FALSE) -> -8 | CA17: 4 | CB17: =VLOOKUP(CA17,$AH$14:$AI$17,2,0) -> Rusia | CC17: =VLOOKUP(CB17,$AI$14:$AR$17,2,FALSE) -> 0 | CD17: =IF(SUM($AK$14:$AK$17)=12,MIN(ABS(BY16-BY17),ABS(BY17-BY18)),100) -> 100 | CE17: =VLOOKUP($CB17,$AI$14:$AR$17,9,FALSE) -> 0 | CF17: =VLOOKUP($CB17,$AI$14:$AR$17,7,FALSE) -> 0 | CH17: {=IF($CI$14=$CL$13,$EC$13:$EC$16,IF(OR($CI$14=$CN$13,$CI$14=$CR$13),$EG$13:$EG$14,IF($CI$14=$CP$13,$EF$13:$EF$15,$EL$13)))} -> 4 | CK17: 4 | CL17: {=IF(AND($CC$14:$CC$17=$CC$17,$CD$14:$CD$17<90,$AQ$14:$AQ$17=$AQ$17,$CF$14:$CF$17=$CF$17),1,0)} -> 0 | CM17: {=IF(AND($CC$14:$CC$16=$CC$14,$CD$14:$CD$16<90,$CD$17>90,$CC$14<>$CC$17),1,0)} -> 0 | CN17: {=IF(AND($CC$16:$CC$17=$CC$16,$CD$16:$CD$17<90,$CC$16<>$CC$15),1,0)} -> 0 | CO17: {=IF(AND($CC$17<>$CC$15,$CC$17<>$CC$14),1,0)} -> 0 | CP17: {=IF(AND($CC$15:$CC$17=$CC$15,$CD$15:$CD$17<90,$CC$14<>$CC$17),1,0)} -> 0 | CQ17: {=IF(AND($CC$17<>$CC$15,$CC$17<>$CC$14),1,0)} -> 0 | CR17: {=IF(AND($CC$16:$CC$17=$CC$16,$CD$16:$CD$17<90,$CC$16<>$CC$15),1,0)} -> 0 | CS17: {=IF(AND($CC$17<>$CC$15,$CC$17<>$CC$14),1,0)} -> 0 | CT17: {=IF(AND($CC$14:$CC$17=$CC$14,$CD$14:$CD$17<90,$CE$16:$CE$17=$CE$17,$CE$15<>$CE$17),1,0)} -> 0 | CU17: {=IF(AND($CC$14:$CC$17=$CC$14,$CD$14:$CD$17<90,$CE$14:$CE$17=$CE$14,$CF$16=$CF$17,$CF$15<>$CF$16),1,0)} -> 0 | CV17: {=IF(AND($CC$14:$CC$16=$CC$14,$CD$14:$CD$15<90,$CC$16<>$CC$17),1,0)} -> 0 | CW17: {=IF(AND($CC$15<>$CC$14,$CC$15:$CC$17=$CC$16,$CD$15>90,$CD$16:$CD$17<90),1,0)} -> 0 | CX17: {=IF(AND($CC$15<>$CC$14,$CC$15:$CC$17=$CC$15,$CD$17>90,$CD$15:$CD$16<90),1,0)} -> 0 | CY17: {=IF(AND($CC$17<>$CC$15,$CC$17<>$CC$16),1,0)} -> 0 | CZ17: {=IF(AND($CC$14:$CC$17=$CC$15,$CD$15:$CD$17<90,$CD$14<>$CD$17),1,0)} -> 0 | DA17: {=IF(AND($CC$14:$CC$17=$CC$14,$CD$14:$CD$16<90,$CD$16<>$CD$17),1,0)} -> 0 | DB17: {=IF(AND($CC$14:$CC$17=$CC$17,$CD$14:$CD$15>90,$CD$16:$CD$17<90,$CE$14:$CE$17=$CE$17,$CF$14>$CF$15,$CF$15>$CF$17,$CF$16=$CF$17),1,0)} -> 0 | DC17: {=IF(AND($CC$14:$CC$17=$CC$15,$CD$14>90,$CD$15:$CD$16<90,$CD$17>90,$CE$14:$CE$17=$CE$17,$CF$14>$CF$17,$CF$15=$CF$16,$CF$15>$CF$17),1,0)} -> 0 | DD17: {=IF(AND($CC$14:$CC$17=$CC$17,$CD$14:$CD$15<90,$CD$16:$CD$17>90,$CE$14:$CE$17=$CE$17,$CF$14=$CF$15,$CF$15>$CF$16,$CF$16>$CF$17),1,0)} -> 0 | DE17: {=IF(AND($CC$14:$CC$17=$CC$17,$CD$14:$CD$15>90,$CD$16:$CD$17<90,$CE$14:$CE$17=$CE$17,$CF$14>$CF$17,$CF$15:$CF$17=$CF$17),1,0)} -> 0 | DF17: {=IF(AND($CC$14:$CC$17=$CC$17,$CD$14:$CD$15<90,$CD$16:$CD$17>90,$CE$14:$CE$17=$CE$17,$CF$14:$CF$16=$CF$16,$CF$14:$CF$16>$CF$17),1,0)} -> 0 | DG17: {=IF(AND($CC$14:$CC$17=$CC$17,$CD$14>90,$CD$17>90,$CD$15:$CD$16<90,$CE$14:$CE$17=$CE$17,$CF$14>$CF$15:$CF$17,$CF$15:$CF$17=$CF$17),1,0)} -> 0 | FI17: =RANK(FJ17,FJ14:FJ17,1) -> 1 | FJ17: =SUM(IF(AND(AJ17=AJ14,BC17=BC14,BI17=BI14,BO17=BO14),BD17,0),IF(AND(AJ17=AJ15,BC17=BC15,BI17=BI15,BO17=BO15),BE17,0),IF(AND(AJ17=AJ16,BC17=BC16,BI17=BI16,BO17=BO16),BF17,0)) -> 0 | FK17: =RANK(FL17,FL14:FL17,1) -> 1 | FL17: =SUM(IF(AND(AJ17=AJ14,BC17=BC14,BI17=BI14,BO17=BO14),BJ17,0),IF(AND(AJ17=AJ15,BC17=BC15,BI17=BI15,BO17=BO15),BK17,0),IF(AND(AJ17=AJ16,BC17=BC16,BI17=BI16,BO17=BO16),BL17,0)) -> 0 | FM17: =RANK(FN17,FN14:FN17,1) -> 1 | FN17: =SUM(IF(AND(AJ17=AJ14,BC17=BC14,BI17=BI14,BO17=BO14),BP17,0),IF(AND(AJ17=AJ15,BC17=BC15,BI17=BI15,BO17=BO15),BQ17,0),IF(AND(AJ17=AJ16,BC17=BC16,BI17=BI16,BO17=BO16),BR17,0)) -> 0
F19: =F3 -> Fecha | G19: =G3 -> Hora | H19: =H3 -> Jor. | I19: =I3 -> Casa | K19: =K3 -> Gol | L19: =L3 -> Gol | N19: =N3 -> Fuera | CL19: 1 | CM19: 12 | CN19: 18 | CO19: 19 | CP19: 13 | CQ19: 20 | CR19: 21 | CS19: 22 | CT19: 3 | CU19: 2 | CV19: 14 | CW19: 17 | CX19: 16 | CY19: 15 | CZ19: 4 | DA19: 5 | DB19: 10 | DC19: 8 | DD19: 6 | DE19: 11 | DF19: 7 | DG19: 9 | EC19: OP1 | ED19: OP2 | EE19: OP3 | EF19: OP4 | EG19: OP5 | EH19: OP6 | EI19: OP7 | EJ19: OP8 | EK19: OP9 | EL19: OP10
A20: NombreEquipo | B20: C | C20: =COUNTIF(Equipos!$C$2:$C$25,EUROCOPA!B20) -> 4 | E20: C | F20: =Horarios!A20 -> 44360.75 | G20: =Horarios!A20+VLOOKUP($G$2,Horarios!$K$4:$O$27,4,0)*VLOOKUP($G$2,Horarios!$K$4:$O$27,5,0) -> 44360.75 | H20: J1 | I20: =A23 -> Austria | N20: =A24 -> Macedonia del Norte | O20: =IF(NOT(OR(ISBLANK(K20),ISBLANK(L20))),1,0) -> 0 | Q20: =CONCATENATE("Grupo"," ",B20) -> Grupo C | AB20: ¡EMPATE! Puedes seleccionar el orden de los empatados. | AH20: =CONCATENATE("Auxiliar - ",Q20) -> Auxiliar - Grupo C | AU20: NR | AY20: =CONCATENATE(Q20," - GOLAVERAGE") -> Grupo C - GOLAVERAGE | BB20: Goles - Partidos Cruzados | BH20: Diferencia de Goles - Partidos Cruzados | CI20: Valor | CK20: Sum | CL20: =SUM(CL22:CL25) -> 0 | CM20: =SUM(CM22:CM25) -> 0 | CN20: =SUM(CN22:CN25) -> 0 | CO20: =SUM(CO22:CO25) -> 0 | CP20: =SUM(CP22:CP25) -> 0 | CQ20: =SUM(CQ22:CQ25) -> 0 | CR20: =SUM(CR22:CR25) -> 0 | CS20: =SUM(CS22:CS25) -> 0 | ... DG20: =SUM(DG22:DG25) -> 0 | EC20: 1234 | ED20: 123 | EE20: 12 | EF20: 234 | EG20: 34 | EH20: 23 | EI20: 1 | EJ20: 2 | EK20: 3 | EL20: 4 | FI20: Goles - Partidos Cruzados | FK20: Diferencia de Goles - Partidos Cruzados
A21: {=IF(ROWS(A$21:A21)<=$C$20,INDEX(INDIRECT(A$20),SMALL(IF(Nivell=$B$20,ROW(Nivell)-ROW(Equipos!$C$2)+1),ROWS(B$20:B20))),"")} -> Países Bajos | F21: =Horarios!A21 -> 44360.875 | G21: =Horarios!A21+VLOOKUP($G$2,Horarios!$K$4:$O$27,4,0)*VLOOKUP($G$2,Horarios!$K$4:$O$27,5,0) -> 44360.875 | H21: J1 | I21: =A21 -> Países Bajos | N21: =A22 -> Ucrania | O21: =IF(NOT(OR(ISBLANK(K21),ISBLANK(L21))),1,0) -> 0 | Q21: Pos | R21: Selección | S21: Pts | T21: J | U21: G | V21: E | W21: P | X21: GF | Y21: GC | Z21: DG | AA21: =COUNTIF(AA22:AA25,"<100") -> 0 | AG21: NR | AH21: Puesto | AI21: Equipo | AJ21: Ptos | AK21: J | AL21: G | AM21: E | AN21: P | AO21: GF | AP21: GC | AQ21: Dif | AR21: Rank | AS21: Puesto | AY21: Equipo | AZ21: NEquipEqual | BA21: PUNTOS | BB21: Ranking Inv | BC21: Entre Iguales | BD21: =AY22 -> Países Bajos | BE21: =AY23 -> Ucrania | BF21: =AY24 -> Austria | BG21: =AY25 -> Macedonia del Norte | BH21: Ranking Inv | BI21: Entre Iguales | BJ21: =BD21 -> Países Bajos | BK21: =BE21 -> Ucrania | BL21: =BF21 -> Austria | BM21: =BG21 -> Macedonia del Norte | BN21: Ranking Inv | BO21: Entre Iguales | BP21: =BD21 -> Países Bajos | BQ21: =BE21 -> Ucrania | BR21: =BF21 -> Austria | BS21: =BG21 -> Macedonia del Norte | BV21: Inicio | BX21: 1R | CB21: Equipo | CC21: Ptos | CD21: Signo | CE21: Dif | CF21: Gf | CK21: Com | CL21: COM_1 | CM21: COM_2 | CN21: COM_3 | CO21: COM_4 | CP21: COM_5 | CQ21: COM_6 | CR21: COM_7 | CS21: COM_8 | CT21: COM_3 | CU21: COM_3 | CV21: COM_4 | CW21: COM_7 | CX21: COM_6 | CY21: COM_6 | CZ21: COM_5 | DA21: COM_2 | DB21: COM_7 | DC21: COM_6 | DD21: COM_4 | DE21: COM_7 | DF21: COM_4 | DG21: COM_6 | EC21: 1 | ED21: 1 | EE21: 1 | EF21: 2 | EG21: 3 | EH21: 2 | EI21: 1 | EJ21: 2 | EK21: 3 | EL21: 4 | FI21: Ranking Inv | FK21: Ranking Inv | FM21: Ranking Inv
A22: {=IF(ROWS(A$21:A22)<=$C$20,INDEX(INDIRECT(A$20),SMALL(IF(Nivell=$B$20,ROW(Nivell)-ROW(Equipos!$C$2)+1),ROWS(B$20:B21))),"")} -> Ucrania | F22: =Horarios!A22 -> 44364.625 | G22: =Horarios!A22+VLOOKUP($G$2,Horarios!$K$4:$O$27,4,0)*VLOOKUP($G$2,Horarios!$K$4:$O$27,5,0) -> 44364.625 | H22: J2 | I22: =A22 -> Ucrania | N22: =A24 -> Macedonia del Norte | O22: =IF(NOT(OR(ISBLANK(K22),ISBLANK(L22))),1,0) -> 0 | Q22: 1 | R22: =VLOOKUP(Q22,$AG$22:$AI$25,3,0) -> Países Bajos | S22: =VLOOKUP(R22,$AI$22:$AR$25,2,FALSE) -> 0 | T22: =VLOOKUP($R22,$AI$22:$AR$25,3,FALSE) -> 0 | U22: =VLOOKUP($R22,$AI$22:$AR$25,4,FALSE) -> 0 | V22: =VLOOKUP($R22,$AI$22:$AR$25,5,FALSE) -> 0 | W22: =VLOOKUP($R22,$AI$22:$AR$25,6,FALSE) -> 0 | X22: =VLOOKUP($R22,$AI$22:$AR$25,7,FALSE) -> 0 | Y22: =VLOOKUP($R22,$AI$22:$AR$25,8,FALSE) -> 0 | Z22: =VLOOKUP($R22,$AI$22:$AR$25,9,FALSE) -> 0 | AA22: =IF(SUM($AK$22:$AK$25)=12,MIN(ABS(BY21-BY22),ABS(BY22-BY23)),100) -> 100 | AB22: =IF(AND(AA22>=0,AA22<90),VLOOKUP(Q22,$BU$22:$BV$25,2,0),"") | AF22: =VLOOKUP($R22,$AI$22:$AR$25,10,FALSE) -> -9 | AG22: =RANK(AU22,$AU$22:$AU$25) -> 1 | AH22: =RANK(AR22,$AR$22:$AR$25) -> 1 | AI22: =A21 -> Países Bajos | AJ22: =AL22*3+AM22*1+AN22*0 -> 0 | AK22: =COUNTIFS($I$4:$I$49,AI22,$K$4:$K$49,"<>",$L$4:$L$49,"<>")+COUNTIFS($N$4:$N$49,AI22,$L$4:$L$49,"<>",$K$4:$K$49,"<>") -> 0 | AL22: {=SUM(($I$4:$I$49=AI22)*($K$4:$K$49<>"")*($L$4:$L$49<>"")*($K$4:$K$49>$L$4:$L$49),($N$4:$N$49=AI22)*($K$4:$K$49<>"")*($L$4:$L$49<>"")*($K$4:$K$49<$L$4:$L$49))} -> 0 | AM22: {=SUM(($I$4:$I$49=AI22)*($K$4:$K$49<>"")*($L$4:$L$49<>"")*($K$4:$K$49=$L$4:$L$49),($N$4:$N$49=AI22)*($K$4:$K$49<>"")*($L$4:$L$49<>"")*($K$4:$K$49=$L$4:$L$49))} -> 0 | AN22: {=SUM(($I$4:$I$49=AI22)*($L$4:$L$49<>"")*($K$4:$K$49<>"")*($K$4:$K$49<$L$4:$L$49),($K$4:$K$49<>"")*($N$4:$N$49=AI22)*($L$4:$L$49<>"")*($K$4:$K$49>$L$4:$L$49))} -> 0 | AO22: {=SUMIFS($K$4:$K$49,$I$4:$I$49,AI22,$K$4:$K$49,"<>",$L$4:$L$49,"<>")+SUMIFS($L$4:$L$49,$N$4:$N$49,AI22,$K$4:$K$49,"<>",$L$4:$L$49,"<>")} -> 0 | AP22: {=SUMIFS($K$4:$K$49,$N$4:$N$49,AI22,$K$4:$K$49,"<>",$L$4:$L$49,"<>")+SUMIFS($L$4:$L$49,$I$4:$I$49,AI22,$K$4:$K$49,"<>",$L$4:$L$49,"<>")} -> 0 | AQ22: =AO22-AP22 -> 0 | AR22: =IF(AK22=0,-($AW$14*VLOOKUP(AI22,Tabla3[[NombreEquipo]:[Rank]],3,FALSE)),AJ22*$AW$4+BA22+AQ22*$AW$11+AO22*$AW$12+AL22*$AW$13-($AW$14*VLOOKUP(AI22,Tabla3[[NombreEquipo]:[Rank]],3,FALSE)/100)) -> -9 | AS22: =AH22 -> 1 | AU22: =IFERROR(AR22-VLOOKUP(AI22,$AB$22:$AC$25,2,0),AR22) -> -9 | AY22: =AI22 -> Países Bajos | AZ22: =COUNTIF(AJ22:AJ25,AJ22) -> 4 | BA22: =(BB22*$AW$7)+(BH22*$AW$6)+(BN22*$AW$5)+(FI22*$AW$10)+(FK22*$AW$9)+(FM22*$AW$8) -> 781200000 | BB22: =RANK(BC22,BC22:BC25,1) -> 1 | BC22: =SUM(IF(AND(AJ22=AJ23),BE22,0),IF(AND(AJ22=AJ24),BF22,0),IF(AND(AJ22=AJ25),BG22,0)) -> 0 | BD22: 0 | BE22: {=SUMIFS($K$20:$K$25,$I$20:$I$25,$AY22,$K$20:$K$25,"<>",$L$20:$L$25,"<>",$N$20:$N$25,BE21)+SUMIFS($L$20:$L$25,$I$20:$I$25,BE21,$K$20:$K$25,"<>",$L$20:$L$25,"<>",$N$20:$N$25,$AY22)} -> 0 | BF22: {=SUMIFS($K$20:$K$25,$I$20:$I$25,$AY22,$K$20:$K$25,"<>",$L$20:$L$25,"<>",$N$20:$N$25,BF21)+SUMIFS($L$20:$L$25,$I$20:$I$25,BF21,$K$20:$K$25,"<>",$L$20:$L$25,"<>",$N$20:$N$25,$AY22)} -> 0 | BG22: {=SUMIFS($K$20:$K$25,$I$20:$I$25,$AY22,$K$20:$K$25,"<>",$L$20:$L$25,"<>",$N$20:$N$25,BG21)+SUMIFS($L$20:$L$25,$I$20:$I$25,BG21,$K$20:$K$25,"<>",$L$20:$L$25,"<>",$N$20:$N$25,$AY22)} -> 0 | BH22: =RANK(BI22,BI22:BI25,1) -> 1 | BI22: =SUM(IF(AND(AJ22=AJ23),BK22,0),IF(AND(AJ22=AJ24),BL22,0),IF(AND(AJ22=AJ25),BM22,0)) -> 0 | BJ22: 0 | BK22: =BE22-BD23 -> 0 | BL22: =BF22-BD24 -> 0 | BM22: =BG22-BD25 -> 0 | BN22: =RANK(BO22,BO22:BO25,1) -> 1 | BO22: =SUM(IF(AND(AJ22=AJ23),BQ22,0),IF(AND(AJ22=AJ24),BR22,0),IF(AND(AJ22=AJ25),BS22,0)) -> 0 | BP22: 0 | BQ22: {=SUM((I$4:I$49=AY22)*(N$4:N$49=BQ21)*(K$4:K$49<>"")*(L$4:L$49<>"")*(K$4:K$49>L$4:L$49)*3,(N$4:N$49=AY22)*(I$4:I$49=BQ21)*(K$4:K$49<>"")*(L$4:L$49<>"")*(K$4:K$49=L$4:L$49)*1,(N$4:N$49=AY22)*(I$4:I$49=BQ21)*(K$4:K$49<>"")*(L$4:L$49<>"")*(K$4:K$49<L$4:L$49)*3,(I$4:I$49=AY22)*(N$4:N$49=BQ21)*(K$4:K$49<>"")*(L$4:L$49<>"")*(K$4:K$49=L$4:L$49)*1)} -> 0 | BR22: {=SUM((I$4:I$49=AY22)*(N$4:N$49=BR21)*(K$4:K$49<>"")*(L$4:L$49<>"")*(K$4:K$49>L$4:L$49)*3,(N$4:N$49=AY22)*(I$4:I$49=BR21)*(K$4:K$49<>"")*(L$4:L$49<>"")*(K$4:K$49=L$4:L$49)*1,(N$4:N$49=AY22)*(I$4:I$49=BR21)*(K$4:K$49<>"")*(L$4:L$49<>"")*(K$4:K$49<L$4:L$49)*3,(I$4:I$49=AY22)*(N$4:N$49=BR21)*(K$4:K$49<>"")*(L$4:L$49<>"")*(K$4:K$49=L$4:L$49)*1)} -> 0 | BS22: {=SUM((I$4:I$49=AY22)*(N$4:N$49=BS21)*(K$4:K$49<>"")*(L$4:L$49<>"")*(K$4:K$49>L$4:L$49)*3,(N$4:N$49=AY22)*(I$4:I$49=BS21)*(K$4:K$49<>"")*(L$4:L$49<>"")*(K$4:K$49=L$4:L$49)*1,(N$4:N$49=AY22)*(I$4:I$49=BS21)*(K$4:K$49<>"")*(L$4:L$49<>"")*(K$4:K$49<L$4:L$49)*3,(I$4:I$49=AY22)*(N$4:N$49=BS21)*(K$4:K$49<>"")*(L$4:L$49<>"")*(K$4:K$49=L$4:L$49)*1)} -> 0 | BT22: 1 | BU22: =RANK(BW22,$BW$22:$BW$25) -> 1 | BV22: =A21 -> Países Bajos | BW22: =IF(AK22=0,-($AW$14*VLOOKUP(AI22,Tabla3[[NombreEquipo]:[Rank]],3,FALSE)),AJ22*$AW$4+BA22+AQ22*$AW$11+AO22*$AW$12+AL22*$AW$13-($AW$14*VLOOKUP(AI22,Tabla3[[NombreEquipo]:[Rank]],3,FALSE)/100)) -> -9 | BX22: =VLOOKUP(Q22,$AH$22:$AI$25,2,0) -> Países Bajos | BY22: =VLOOKUP($BX22,$AI$22:$AR$25,10,FALSE) -> -9 | CA22: 1 | CB22: =VLOOKUP(CA22,$AH$22:$AI$25,2,0) -> Países Bajos | CC22: =VLOOKUP(CB22,$AI$22:$AR$25,2,FALSE) -> 0 | CD22: =IF(SUM($AK$22:$AK$25)=12,MIN(ABS(BY21-BY22),ABS(BY22-BY23)),100) -> 100 | CE22: =VLOOKUP($CB22,$AI$22:$AR$25,9,FALSE) -> 0 | CF22: =VLOOKUP($CB22,$AI$22:$AR$25,7,FALSE) -> 0 | CH22: {=IF($CI$22=$CL$21,$EC$21:$EC$24,IF($CI$22=$CM$21,$ED$21:$ED$23,IF(OR($CI$22=$CN$21,$CI$22=$CO$21),$EE$21:$EE$22,$EI$21)))} -> 1 | CI22: =IFERROR(HLOOKUP(4,CL20:DI21,2,0),CS21) -> COM_8 | CK22: 1 | CL22: {=IF(AND($CC$22:$CC$25=$CC$22,$CD$22:$CD$25<90,$AQ$22:$AQ$25=$AQ$22,$CF$22:$CF$25=$CF$22),1,0)} -> 0 | CM22: {=IF(AND($CC$22:$CC$24=$CC$22,$CD$22:$CD$24<90,$CC$22<>$CC$25),1,0)} -> 0 | CN22: {=IF(AND($CC$22:$CC$23=$CC$22,$CD$22:$CD$23<90,$CC$22<>$CC$24),1,0)} -> 0 | CO22: {=IF(AND($CC$22:$CC$23=$CC$22,$CD$22:$CD$23<90,$CC$22<>$CC$24),1,0)} -> 0 | CP22: {=IF(AND($CC$23:$CC$25=$CC$23,$CD$23:$CD$25<90,$CC$22<>$CC$23),1,0)} -> 0 | CQ22: {=IF(AND($CC$22<>$CC$23,$CC$22<>$CC$25),1,0)} -> 0 | CR22: {=IF(AND($CC$22<>$CC$23,$CC$22<>$CC$25),1,0)} -> 0 | CS22: {=IF(AND($CC$22<>$CC$23,$CC$22<>$CC$25),1,0)} -> 0 | CT22: {=IF(AND($CC$22:$CC$25=$CC$22,$CD$22:$CD$25<90,$CE$22:$CE$23=$CE$22,$CE$22<>$CE$24),1,0)} -> 0 | CU22: {=IF(AND($CC$22:$CC$25=$CC$22,$CD$22:$CD$25<90,$CE$22:$CE$25=$CE$22,$CF$22=$CF$23,$CF$22<>$CF$24),1,0)} -> 0 | CV22: {=IF(AND($CC$22:$CC$24=$CC$22,$CD$22:$CD$23<90,$CD$24>90),1,0)} -> 0 | CW22: {=IF(AND($CC$22<>$CC$23,$CC$22<>$CC$24),1,0)} -> 0 | CX22: {=IF(AND($CC$22<>$CC$23,$CC$22<>$CC$24),1,0)} -> 0 | CY22: {=IF(AND($CC$22<>$CC$25,$CC$22:$CC$24=$CC$22,$CD$22>90,$CD$23:$CD$24<90),1,0)} -> 0 | CZ22: {=IF(AND($CC$22:$CC$25=$CC$22,$CD$23:$CD$25<90,$CD$22<>$CD$23),1,0)} -> 0 | DA22: {=IF(AND($CC$22:$CC$25=$CC$22,$CD$22:$CD$24<90,$CD$22<>$CD$25),1,0)} -> 0 | DB22: {=IF(AND($CC$22:$CC$25=$CC$22,$CD$22:$CD$23>90,$CD$24:$CD$25<90,$CE$22:$CE$25=$CE$22,$CF$22>$CF$23,$CF$22>$CF$24,$CF$22>$CF$25),1,0)} -> 0 | DC22: {=IF(AND($CC$22:$CC$25=$CC$22,$CD$22>90,$CD$23:$CD$24<90,$CD$25>90,$CE$22:$CE$25=$CE$22,$CF$22>$CF$23,$CF$22>$CF$24,$CF$22>$CF$25),1,0)} -> 0 | DD22: {=IF(AND($CC$22:$CC$25=$CC$22,$CD$22:$CD$23<90,$CD$24:$CD$25>90,$CE$22:$CE$25=$CE$22,$CF$22=$CF$23,$CF$22>$CF$24,$CF$22>$CF$25),1,0)} -> 0 | DE22: {=IF(AND($CC$22:$CC$25=$CC$22,$CD$22:$CD$23>90,$CD$24:$CD$25<90,$CE$22:$CE$25=$CE$22,$CF$22>$CF$23,$CF$23:$CF$25=$CF$23),1,0)} -> 0 | DF22: {=IF(AND($CC$22:$CC$25=$CC$22,$CD$22:$CD$23<90,$CD$24:$CD$25>90,$CE$22:$CE$25=$CE$22,$CF$22:$CF$24=$CF$22,$CF$22>$CF$25),1,0)} -> 0 | DG22: {=IF(AND($CC$22:$CC$25=$CC$22,$CD$22>90,$CD$25>90,$CD$23:$CD$24<90,$CE$22:$CE$25=$CE$22,$CF$22>$CF$23:$CF$25),1,0)} -> 0 | EC22: 2 | ED22: 2 | EE22: 2 | EF22: 3 | EG22: 4 | EH22: 3 | FI22: =RANK(FJ22,FJ22:FJ25,1) -> 1 | FJ22: =SUM(IF(AND(AJ22=AJ23,BC22=BC23,BI22=BI23,BO22=BO23),BE22,0),IF(AND(AJ22=AJ24,BC22=BC24,BI22=BI24,BO22=BO24),BF22,0),IF(AND(AJ22=AJ25,BC22=BC25,BI22=BI25,BO22=BO25),BG22,0)) -> 0 | FK22: =RANK(FL22,FL22:FL25,1) -> 1 | FL22: =SUM(IF(AND(AJ22=AJ23,BC22=BC23,BI22=BI23,BO22=BO23),BK22,0),IF(AND(AJ22=AJ24,BC22=BC24,BI22=BI24,BO22=BO24),BL22,0),IF(AND(AJ22=AJ25,BC22=BC25,BI22=BI25,BO22=BO25),BM22,0)) -> 0 | FM22: =RANK(FN22,FN22:FN25,1) -> 1 | FN22: =SUM(IF(AND(AJ22=AJ23,BC22=BC23,BI22=BI23,BO22=BO23),BQ22,0),IF(AND(AJ22=AJ24,BC22=BC24,BI22=BI24,BO22=BO24),BR22,0),IF(AND(AJ22=AJ25,BC22=BC25,BI22=BI25,BO22=BO25),BS22,0)) -> 0
A23: {=IF(ROWS(A$21:A23)<=$C$20,INDEX(INDIRECT(A$20),SMALL(IF(Nivell=$B$20,ROW(Nivell)-ROW(Equipos!$C$2)+1),ROWS(B$20:B22))),"")} -> Austria | F23: =Horarios!A23 -> 44364.875 | G23: =Horarios!A23+VLOOKUP($G$2,Horarios!$K$4:$O$27,4,0)*VLOOKUP($G$2,Horarios!$K$4:$O$27,5,0) -> 44364.875 | H23: J2 | I23: =A21 -> Países Bajos | N23: =A23 -> Austria | O23: =IF(NOT(OR(ISBLANK(K23),ISBLANK(L23))),1,0) -> 0 | Q23: 2 | R23: =VLOOKUP(Q23,$AG$22:$AI$25,3,0) -> Ucrania | S23: =VLOOKUP(R23,$AI$22:$AR$25,2,FALSE) -> 0 | T23: =VLOOKUP($R23,$AI$22:$AR$25,3,FALSE) -> 0 | U23: =VLOOKUP($R23,$AI$22:$AR$25,4,FALSE) -> 0 | V23: =VLOOKUP($R23,$AI$22:$AR$25,5,FALSE) -> 0 | W23: =VLOOKUP($R23,$AI$22:$AR$25,6,FALSE) -> 0 | X23: =VLOOKUP($R23,$AI$22:$AR$25,7,FALSE) -> 0 | Y23: =VLOOKUP($R23,$AI$22:$AR$25,8,FALSE) -> 0 | Z23: =VLOOKUP($R23,$AI$22:$AR$25,9,FALSE) -> 0 | AA23: =IF(SUM($AK$22:$AK$25)=12,MIN(ABS(BY22-BY23),ABS(BY23-BY24)),100) -> 100 | AB23: =IF(AND(AA23>=0,AA23<90),VLOOKUP(Q23,$BU$22:$BV$25,2,0),"") | AF23: =VLOOKUP($R23,$AI$22:$AR$25,10,FALSE) -> -10 | AG23: =RANK(AU23,$AU$22:$AU$25) -> 2 | AH23: =RANK(AR23,$AR$22:$AR$25) -> 2 | AI23: =A22 -> Ucrania | AJ23: =AL23*3+AM23*1+AN23*0 -> 0 | AK23: =COUNTIFS($I$4:$I$49,AI23,$K$4:$K$49,"<>",$L$4:$L$49,"<>")+COUNTIFS($N$4:$N$49,AI23,$L$4:$L$49,"<>",$K$4:$K$49,"<>") -> 0 | AL23: {=SUM(($I$4:$I$49=AI23)*($K$4:$K$49<>"")*($L$4:$L$49<>"")*($K$4:$K$49>$L$4:$L$49),($N$4:$N$49=AI23)*($K$4:$K$49<>"")*($L$4:$L$49<>"")*($K$4:$K$49<$L$4:$L$49))} -> 0 | AM23: {=SUM(($I$4:$I$49=AI23)*($K$4:$K$49<>"")*($L$4:$L$49<>"")*($K$4:$K$49=$L$4:$L$49),($N$4:$N$49=AI23)*($K$4:$K$49<>"")*($L$4:$L$49<>"")*($K$4:$K$49=$L$4:$L$49))} -> 0 | AN23: {=SUM(($I$4:$I$49=AI23)*($L$4:$L$49<>"")*($K$4:$K$49<>"")*($K$4:$K$49<$L$4:$L$49),($K$4:$K$49<>"")*($N$4:$N$49=AI23)*($L$4:$L$49<>"")*($K$4:$K$49>$L$4:$L$49))} -> 0 | AO23: {=SUMIFS($K$4:$K$49,$I$4:$I$49,AI23,$K$4:$K$49,"<>",$L$4:$L$49,"<>")+SUMIFS($L$4:$L$49,$N$4:$N$49,AI23,$K$4:$K$49,"<>",$L$4:$L$49,"<>")} -> 0 | AP23: {=SUMIFS($K$4:$K$49,$N$4:$N$49,AI23,$K$4:$K$49,"<>",$L$4:$L$49,"<>")+SUMIFS($L$4:$L$49,$I$4:$I$49,AI23,$K$4:$K$49,"<>",$L$4:$L$49,"<>")} -> 0 | AQ23: =AO23-AP23 -> 0 | AR23: =IF(AK23=0,-($AW$14*VLOOKUP(AI23,Tabla3[[NombreEquipo]:[Rank]],3,FALSE)),AJ23*$AW$4+BA23+AQ23*$AW$11+AO23*$AW$12+AL23*$AW$13-($AW$14*VLOOKUP(AI23,Tabla3[[NombreEquipo]:[Rank]],3,FALSE)/100)) -> -10 | AS23: =AH23 -> 2 | AU23: =IFERROR(AR23-VLOOKUP(AI23,$AB$22:$AC$25,2,0),AR23) -> -10 | AY23: =AI23 -> Ucrania | AZ23: =COUNTIF(AJ22:AJ25,AJ23) -> 4 | BA23: =(BB23*$AW$7)+(BH23*$AW$6)+(BN23*$AW$5)+(FI23*$AW$10)+(FK23*$AW$9)+(FM23*$AW$8) -> 781200000 | BB23: =RANK(BC23,BC22:BC25,1) -> 1 | BC23: =SUM(IF(AND(AJ23=AJ24),BF23,0),IF(AND(AJ23=AJ25),BG23,0),IF(AND(AJ23=AJ22),BD23,0)) -> 0 | BD23: {=SUMIFS($K$20:$K$25,$I$20:$I$25,$AY23,$K$20:$K$25,"<>",$L$20:$L$25,"<>",$N$20:$N$25,BD21)+SUMIFS($L$20:$L$25,$I$20:$I$25,BD21,$K$20:$K$25,"<>",$L$20:$L$25,"<>",$N$20:$N$25,$AY23)} -> 0 | BE23: 0 | BF23: {=SUMIFS($K$20:$K$25,$I$20:$I$25,$AY23,$K$20:$K$25,"<>",$L$20:$L$25,"<>",$N$20:$N$25,BF21)+SUMIFS($L$20:$L$25,$I$20:$I$25,BF21,$K$20:$K$25,"<>",$L$20:$L$25,"<>",$N$20:$N$25,$AY23)} -> 0 | BG23: {=SUMIFS($K$20:$K$25,$I$20:$I$25,$AY23,$K$20:$K$25,"<>",$L$20:$L$25,"<>",$N$20:$N$25,BG21)+SUMIFS($L$20:$L$25,$I$20:$I$25,BG21,$K$20:$K$25,"<>",$L$20:$L$25,"<>",$N$20:$N$25,$AY23)} -> 0 | BH23: =RANK(BI23,BI22:BI25,1) -> 1 | BI23: =SUM(IF(AND(AJ23=AJ24),BL23,0),IF(AND(AJ23=AJ25),BM23,0),IF(AND(AJ23=AJ22),BJ23,0)) -> 0 | BJ23: =BD23-BE22 -> 0 | BK23: 0 | BL23: =BF23-BE24 -> 0 | BM23: =BG23-BE25 -> 0 | BN23: =RANK(BO23,BO22:BO25,1) -> 1 | BO23: =SUM(IF(AND(AJ23=AJ24),BR23,0),IF(AND(AJ23=AJ25),BS23,0),IF(AND(AJ23=AJ22),BP23,0)) -> 0 | BP23: {=SUM((I$4:I$49=AY23)*(N$4:N$49=BP21)*(K$4:K$49<>"")*(L$4:L$49<>"")*(K$4:K$49>L$4:L$49)*3,(N$4:N$49=AY23)*(I$4:I$49=BP21)*(K$4:K$49<>"")*(L$4:L$49<>"")*(K$4:K$49=L$4:L$49)*1,(N$4:N$49=AY23)*(I$4:I$49=BP21)*(K$4:K$49<>"")*(L$4:L$49<>"")*(K$4:K$49<L$4:L$49)*3,(I$4:I$49=AY23)*(N$4:N$49=BP21)*(K$4:K$49<>"")*(L$4:L$49<>"")*(K$4:K$49=L$4:L$49)*1)} -> 0 | BQ23: 0 | BR23: {=SUM((I$4:I$49=AY23)*(N$4:N$49=BR21)*(K$4:K$49<>"")*(L$4:L$49<>"")*(K$4:K$49>L$4:L$49)*3,(N$4:N$49=AY23)*(I$4:I$49=BR21)*(K$4:K$49<>"")*(L$4:L$49<>"")*(K$4:K$49=L$4:L$49)*1,(N$4:N$49=AY23)*(I$4:I$49=BR21)*(K$4:K$49<>"")*(L$4:L$49<>"")*(K$4:K$49<L$4:L$49)*3,(I$4:I$49=AY23)*(N$4:N$49=BR21)*(K$4:K$49<>"")*(L$4:L$49<>"")*(K$4:K$49=L$4:L$49)*1)} -> 0 | BS23: {=SUM((I$4:I$49=AY23)*(N$4:N$49=BS21)*(K$4:K$49<>"")*(L$4:L$49<>"")*(K$4:K$49>L$4:L$49)*3,(N$4:N$49=AY23)*(I$4:I$49=BS21)*(K$4:K$49<>"")*(L$4:L$49<>"")*(K$4:K$49=L$4:L$49)*1,(N$4:N$49=AY23)*(I$4:I$49=BS21)*(K$4:K$49<>"")*(L$4:L$49<>"")*(K$4:K$49<L$4:L$49)*3,(I$4:I$49=AY23)*(N$4:N$49=BS21)*(K$4:K$49<>"")*(L$4:L$49<>"")*(K$4:K$49=L$4:L$49)*1)} -> 0 | BT23: 2 | BU23: =RANK(BW23,$BW$22:$BW$25) -> 2 | BV23: =A22 -> Ucrania | BW23: =IF(AK23=0,-($AW$14*VLOOKUP(AI23,Tabla3[[NombreEquipo]:[Rank]],3,FALSE)),AJ23*$AW$4+BA23+AQ23*$AW$11+AO23*$AW$12+AL23*$AW$13-($AW$14*VLOOKUP(AI23,Tabla3[[NombreEquipo]:[Rank]],3,FALSE)/100)) -> -10 | BX23: =VLOOKUP(Q23,$AH$22:$AI$25,2,0) -> Ucrania | BY23: =VLOOKUP($BX23,$AI$22:$AR$25,10,FALSE) -> -10 | CA23: 2 | CB23: =VLOOKUP(CA23,$AH$22:$AI$25,2,0) -> Ucrania | CC23: =VLOOKUP(CB23,$AI$22:$AR$25,2,FALSE) -> 0 | CD23: =IF(SUM($AK$22:$AK$25)=12,MIN(ABS(BY22-BY23),ABS(BY23-BY24)),100) -> 100 | CE23: =VLOOKUP($CB23,$AI$22:$AR$25,9,FALSE) -> 0 | CF23: =VLOOKUP($CB23,$AI$22:$AR$25,7,FALSE) -> 0 | CH23: {=IF($CI$22=$CL$21,$EC$21:$EC$24,IF($CI$22=$CM$21,$ED$21:$ED$23,IF(OR($CI$22=$CN$21,$CI$22=$CO$21),$EE$21:$EE$22,IF($CI$22=$CP$21,$EF$21:$EF$23,(IF($CI$22=$CQ$21,$EH$21:$EH$22,$EJ$21))))))} -> 2 | CK23: 2 | CL23: {=IF(AND($CC$22:$CC$25=$CC$23,$CD$22:$CD$25<90,$AQ$22:$AQ$25=$AQ$23,$CF$22:$CF$25=$CF$23),1,0)} -> 0 | CM23: {=IF(AND($CC$22:$CC$24=$CC$23,$CD$22:$CD$24<90,$CC$23<>$CC$25),1,0)} -> 0 | CN23: {=IF(AND($CC$22:$CC$23=$CC$22,$CD$22:$CD$23<90,$CC$22<>$CC$24),1,0)} -> 0 | CO23: {=IF(AND($CC$22:$CC$23=$CC$22,$CD$22:$CD$23<90,$CC$22<>$CC$24),1,0)} -> 0 | CP23: {=IF(AND($CC$23:$CC$25=$CC$23,$CD$23:$CD$25<90,$CC$22<>$CC$23),1,0)} -> 0 | CQ23: {=IF(AND($CC$23:$CC$24=$CC$23,$CD$23:$CD$24<90,$CC$23<>$CC$22,$CC$23<>$CC$25),1,0)} -> 0 | CR23: {=IF(AND($CC$23<>$CC$22,$CC$23<>$CC$24),1,0)} -> 0 | CS23: {=IF(AND($CC$23<>$CC$22,$CC$23<>$CC$24),1,0)} -> 0 | CT23: {=IF(AND($CC$22:$CC$25=$CC$22,$CD$22:$CD$25<90,$CE$22:$CE$23=$CE$22,$CE$23<>$CE$24),1,0)} -> 0 | CU23: {=IF(AND($CC$22:$CC$25=$CC$22,$CD$22:$CD$25<90,$CE$22:$CE$25=$CE$22,$CF$22=$CF$23,$CF$23<>$CF$24),1,0)} -> 0 | CV23: {=IF(AND($CC$22:$CC$24=$CC$23,$CD$22:$CD$23<90,$CD$24>90),1,0)} -> 0 | CW23: {=IF(AND($CC$23<>$CC$22,$CC$23:$CC$25=$CC$23,$CD$23>90,$CD$24:$CD$25<90),1,0)} -> 0 | CX23: {=IF(AND($CC$23<>$CC$22,$CC$23:$CC$25=$CC$23,$CD$25>90,$CD$23:$CD$24<90),1,0)} -> 0 | CY23: {=IF(AND($CC$23<>$CC$25,$CC$22:$CC$24=$CC$23,$CD$22>90,$CD$23:$CD$24<90),1,0)} -> 0 | CZ23: {=IF(AND($CC$22:$CC$25=$CC$23,$CD$23:$CD$25<90,$CD$22<>$CD$23),1,0)} -> 0 | DA23: {=IF(AND($CC$22:$CC$25=$CC$23,$CD$22:$CD$24<90,$CD$23<>$CD$25),1,0)} -> 0 | DB23: {=IF(AND($CC$22:$CC$25=$CC$23,$CD$22:$CD$23>90,$CD$24:$CD$25<90,$CE$22:$CE$25=$CE$23,$CF$22>$CF$23,$CF$23>$CF$24,$CF$23>$CF$25),1,0)} -> 0 | DC23: {=IF(AND($CC$22:$CC$25=$CC$23,$CD$22>90,$CD$23:$CD$24<90,$CD$25>90,$CE$22:$CE$25=$CE$23,$CF$22>$CF$23,$CF$23=$CF$24,$CF$23>$CF$25),1,0)} -> 0 | DD23: {=IF(AND($CC$22:$CC$25=$CC$23,$CD$22:$CD$23<90,$CD$24:$CD$25>90,$CE$22:$CE$25=$CE$23,$CF$22=$CF$23,$CF$23>$CF$24,$CF$23>$CF$25),1,0)} -> 0 | DE23: {=IF(AND($CC$22:$CC$25=$CC$23,$CD$22:$CD$23>90,$CD$24:$CD$25<90,$CE$22:$CE$25=$CE$23,$CF$22>$CF$23,$CF$23:$CF$25=$CF$23),1,0)} -> 0 | DF23: {=IF(AND($CC$22:$CC$25=$CC$23,$CD$22:$CD$23<90,$CD$24:$CD$25>90,$CE$22:$CE$25=$CE$23,$CF$22:$CF$24=$CF$23,$CF$23>$CF$25),1,0)} -> 0 | DG23: {=IF(AND($CC$22:$CC$25=$CC$23,$CD$22>90,$CD$25>90,$CD$23:$CD$24<90,$CE$22:$CE$25=$CE$23,$CF$22>$CF$23:$CF$25,$CF$23:$CF$25=$CF$23),1,0)} -> 0 | EC23: 3 | ED23: 3 | EF23: 4 | FI23: =RANK(FJ23,FJ22:FJ25,1) -> 1 | FJ23: =SUM(IF(AND(AJ23=AJ24,BC23=BC24,BI23=BI24,BO23=BO24),BF23,0),IF(AND(AJ23=AJ25,BC23=BC25,BI23=BI25,BO23=BO25),BG23,0),IF(AND(AJ23=AJ22,BC23=BC22,BI23=BI22,BO23=BO22),BD23,0)) -> 0 | FK23: =RANK(FL23,FL22:FL25,1) -> 1 | FL23: =SUM(IF(AND(AJ23=AJ24,BC23=BC24,BI23=BI24,BO23=BO24),BL23,0),IF(AND(AJ23=AJ25,BC23=BC25,BI23=BI25,BO23=BO25),BM23,0),IF(AND(AJ23=AJ22,BC23=BC22,BI23=BI22,BO23=BO22),BJ23,0)) -> 0 | FM23: =RANK(FN23,FN22:FN25,1) -> 1 | FN23: =SUM(IF(AND(AJ23=AJ24,BC23=BC24,BI23=BI24,BO23=BO24),BR23,0),IF(AND(AJ23=AJ25,BC23=BC25,BI23=BI25,BO23=BO25),BS23,0),IF(AND(AJ23=AJ22,BC23=BC22,BI23=BI22,BO23=BO22),BP23,0)) -> 0
A24: {=IF(ROWS(A$21:A24)<=$C$20,INDEX(INDIRECT(A$20),SMALL(IF(Nivell=$B$20,ROW(Nivell)-ROW(Equipos!$C$2)+1),ROWS(B$20:B23))),"")} -> Macedonia del Norte | F24: =Horarios!A24 -> 44368.75 | G24: =Horarios!A24+VLOOKUP($G$2,Horarios!$K$4:$O$27,4,0)*VLOOKUP($G$2,Horarios!$K$4:$O$27,5,0) -> 44368.75 | H24: J3 | I24: =A22 -> Ucrania | N24: =A23 -> Austria | O24: =IF(NOT(OR(ISBLANK(K24),ISBLANK(L24))),1,0) -> 0 | Q24: 3 | R24: =VLOOKUP(Q24,$AG$22:$AI$25,3,0) -> Austria | S24: =VLOOKUP(R24,$AI$22:$AR$25,2,FALSE) -> 0 | T24: =VLOOKUP($R24,$AI$22:$AR$25,3,FALSE) -> 0 | U24: =VLOOKUP($R24,$AI$22:$AR$25,4,FALSE) -> 0 | V24: =VLOOKUP($R24,$AI$22:$AR$25,5,FALSE) -> 0 | W24: =VLOOKUP($R24,$AI$22:$AR$25,6,FALSE) -> 0 | X24: =VLOOKUP($R24,$AI$22:$AR$25,7,FALSE) -> 0 | Y24: =VLOOKUP($R24,$AI$22:$AR$25,8,FALSE) -> 0 | Z24: =VLOOKUP($R24,$AI$22:$AR$25,9,FALSE) -> 0 | AA24: =IF(SUM($AK$22:$AK$25)=12,MIN(ABS(BY23-BY24),ABS(BY24-BY25)),100) -> 100 | AB24: =IF(AND(AA24>=0,AA24<90),VLOOKUP(Q24,$BU$22:$BV$25,2,0),"") | AF24: =VLOOKUP($R24,$AI$22:$AR$25,10,FALSE) -> -11 | AG24: =RANK(AU24,$AU$22:$AU$25) -> 3 | AH24: =RANK(AR24,$AR$22:$AR$25) -> 3 | AI24: =A23 -> Austria | AJ24: =AL24*3+AM24*1+AN24*0 -> 0 | AK24: =COUNTIFS($I$4:$I$49,AI24,$K$4:$K$49,"<>",$L$4:$L$49,"<>")+COUNTIFS($N$4:$N$49,AI24,$L$4:$L$49,"<>",$K$4:$K$49,"<>") -> 0 | AL24: {=SUM(($I$4:$I$49=AI24)*($K$4:$K$49<>"")*($L$4:$L$49<>"")*($K$4:$K$49>$L$4:$L$49),($N$4:$N$49=AI24)*($K$4:$K$49<>"")*($L$4:$L$49<>"")*($K$4:$K$49<$L$4:$L$49))} -> 0 | AM24: {=SUM(($I$4:$I$49=AI24)*($K$4:$K$49<>"")*($L$4:$L$49<>"")*($K$4:$K$49=$L$4:$L$49),($N$4:$N$49=AI24)*($K$4:$K$49<>"")*($L$4:$L$49<>"")*($K$4:$K$49=$L$4:$L$49))} -> 0 | AN24: {=SUM(($I$4:$I$49=AI24)*($L$4:$L$49<>"")*($K$4:$K$49<>"")*($K$4:$K$49<$L$4:$L$49),($K$4:$K$49<>"")*($N$4:$N$49=AI24)*($L$4:$L$49<>"")*($K$4:$K$49>$L$4:$L$49))} -> 0 | AO24: {=SUMIFS($K$4:$K$49,$I$4:$I$49,AI24,$K$4:$K$49,"<>",$L$4:$L$49,"<>")+SUMIFS($L$4:$L$49,$N$4:$N$49,AI24,$K$4:$K$49,"<>",$L$4:$L$49,"<>")} -> 0 | AP24: {=SUMIFS($K$4:$K$49,$N$4:$N$49,AI24,$K$4:$K$49,"<>",$L$4:$L$49,"<>")+SUMIFS($L$4:$L$49,$I$4:$I$49,AI24,$K$4:$K$49,"<>",$L$4:$L$49,"<>")} -> 0 | AQ24: =AO24-AP24 -> 0 | AR24: =IF(AK24=0,-($AW$14*VLOOKUP(AI24,Tabla3[[NombreEquipo]:[Rank]],3,FALSE)),AJ24*$AW$4+BA24+AQ24*$AW$11+AO24*$AW$12+AL24*$AW$13-($AW$14*VLOOKUP(AI24,Tabla3[[NombreEquipo]:[Rank]],3,FALSE)/100)) -> -11 | AS24: =AH24 -> 3 | AU24: =IFERROR(AR24-VLOOKUP(AI24,$AB$22:$AC$25,2,0),AR24) -> -11 | AY24: =AI24 -> Austria | AZ24: =COUNTIF(AJ22:AJ25,AJ24) -> 4 | BA24: =(BB24*$AW$7)+(BH24*$AW$6)+(BN24*$AW$5)+(FI24*$AW$10)+(FK24*$AW$9)+(FM24*$AW$8) -> 781200000 | BB24: =RANK(BC24,BC22:BC25,1) -> 1 | BC24: =SUM(IF(AND(AJ24=AJ25),BG24,0),IF(AND(AJ24=AJ22),BD24,0),IF(AND(AJ24=AJ23),BE24,0)) -> 0 | BD24: {=SUMIFS($K$20:$K$25,$I$20:$I$25,$AY24,$K$20:$K$25,"<>",$L$20:$L$25,"<>",$N$20:$N$25,BD21)+SUMIFS($L$20:$L$25,$I$20:$I$25,BD21,$K$20:$K$25,"<>",$L$20:$L$25,"<>",$N$20:$N$25,$AY24)} -> 0 | BE24: {=SUMIFS($K$20:$K$25,$I$20:$I$25,$AY24,$K$20:$K$25,"<>",$L$20:$L$25,"<>",$N$20:$N$25,BE21)+SUMIFS($L$20:$L$25,$I$20:$I$25,BE21,$K$20:$K$25,"<>",$L$20:$L$25,"<>",$N$20:$N$25,$AY24)} -> 0 | BF24: 0 | BG24: {=SUMIFS($K$20:$K$25,$I$20:$I$25,$AY24,$K$20:$K$25,"<>",$L$20:$L$25,"<>",$N$20:$N$25,BG21)+SUMIFS($L$20:$L$25,$I$20:$I$25,BG21,$K$20:$K$25,"<>",$L$20:$L$25,"<>",$N$20:$N$25,$AY24)} -> 0 | BH24: =RANK(BI24,BI22:BI25,1) -> 1 | BI24: =SUM(IF(AND(AJ24=AJ25),BM24,0),IF(AND(AJ24=AJ22),BJ24,0),IF(AND(AJ24=AJ23),BK24,0)) -> 0 | BJ24: =BD24-BF22 -> 0 | BK24: =BE24-BF23 -> 0 | BL24: 0 | BM24: =BG24-BF25 -> 0 | BN24: =RANK(BO24,BO22:BO25,1) -> 1 | BO24: =SUM(IF(AND(AJ24=AJ25),BS24,0),IF(AND(AJ24=AJ22),BP24,0),IF(AND(AJ24=AJ23),BQ24,0)) -> 0 | BP24: {=SUM((I$4:I$49=AY24)*(N$4:N$49=BP21)*(K$4:K$49<>"")*(L$4:L$49<>"")*(K$4:K$49>L$4:L$49)*3,(N$4:N$49=AY24)*(I$4:I$49=BP21)*(K$4:K$49<>"")*(L$4:L$49<>"")*(K$4:K$49=L$4:L$49)*1,(N$4:N$49=AY24)*(I$4:I$49=BP21)*(K$4:K$49<>"")*(L$4:L$49<>"")*(K$4:K$49<L$4:L$49)*3,(I$4:I$49=AY24)*(N$4:N$49=BP21)*(K$4:K$49<>"")*(L$4:L$49<>"")*(K$4:K$49=L$4:L$49)*1)} -> 0 | BQ24: {=SUM((I$4:I$49=AY24)*(N$4:N$49=BQ21)*(K$4:K$49<>"")*(L$4:L$49<>"")*(K$4:K$49>L$4:L$49)*3,(N$4:N$49=AY24)*(I$4:I$49=BQ21)*(K$4:K$49<>"")*(L$4:L$49<>"")*(K$4:K$49=L$4:L$49)*1,(N$4:N$49=AY24)*(I$4:I$49=BQ21)*(K$4:K$49<>"")*(L$4:L$49<>"")*(K$4:K$49<L$4:L$49)*3,(I$4:I$49=AY24)*(N$4:N$49=BQ21)*(K$4:K$49<>"")*(L$4:L$49<>"")*(K$4:K$49=L$4:L$49)*1)} -> 0 | BR24: 0 | BS24: {=SUM((I$4:I$49=AY24)*(N$4:N$49=BS21)*(K$4:K$49<>"")*(L$4:L$49<>"")*(K$4:K$49>L$4:L$49)*3,(N$4:N$49=AY24)*(I$4:I$49=BS21)*(K$4:K$49<>"")*(L$4:L$49<>"")*(K$4:K$49=L$4:L$49)*1,(N$4:N$49=AY24)*(I$4:I$49=BS21)*(K$4:K$49<>"")*(L$4:L$49<>"")*(K$4:K$49<L$4:L$49)*3,(I$4:I$49=AY24)*(N$4:N$49=BS21)*(K$4:K$49<>"")*(L$4:L$49<>"")*(K$4:K$49=L$4:L$49)*1)} -> 0 | BT24: 3 | BU24: =RANK(BW24,$BW$22:$BW$25) -> 3 | BV24: =A23 -> Austria | BW24: =IF(AK24=0,-($AW$14*VLOOKUP(AI24,Tabla3[[NombreEquipo]:[Rank]],3,FALSE)),AJ24*$AW$4+BA24+AQ24*$AW$11+AO24*$AW$12+AL24*$AW$13-($AW$14*VLOOKUP(AI24,Tabla3[[NombreEquipo]:[Rank]],3,FALSE)/100)) -> -11 | BX24: =VLOOKUP(Q24,$AH$22:$AI$25,2,0) -> Austria | BY24: =VLOOKUP($BX24,$AI$22:$AR$25,10,FALSE) -> -11 | CA24: 3 | CB24: =VLOOKUP(CA24,$AH$22:$AI$25,2,0) -> Austria | CC24: =VLOOKUP(CB24,$AI$22:$AR$25,2,FALSE) -> 0 | CD24: =IF(SUM($AK$22:$AK$25)=12,MIN(ABS(BY23-BY24),ABS(BY24-BY25)),100) -> 100 | CE24: =VLOOKUP($CB24,$AI$22:$AR$25,9,FALSE) -> 0 | CF24: =VLOOKUP($CB24,$AI$22:$AR$25,7,FALSE) -> 0 | CH24: {=IF($CI$22=$CL$21,$EC$21:$EC$24,IF($CI$22=$CM$21,$ED$21:$ED$23,IF(OR($CI$22=$CN$21,$CI$22=$CR$21),$EG$21:$EG$22,IF($CI$22=$CP$21,$EF$21:$EF$23,(IF($CI$22=$CQ$21,$EH$21:$EH$22,$EK$21))))))} -> 3 | CK24: 3 | CL24: {=IF(AND($CC$22:$CC$25=$CC$24,$CD$22:$CD$25<90,$AQ$22:$AQ$25=$AQ$24,$CF$22:$CF$25=$CF$24),1,0)} -> 0 | CM24: {=IF(AND($CC$22:$CC$24=$CC$24,$CD$22:$CD$24<90,$CC$24<>$CC$25),1,0)} -> 0 | CN24: {=IF(AND($CC$24:$CC$25=$CC$24,$CD$24:$CD$25<90,$CC$24<>$CC$23),1,0)} -> 0 | CO24: {=IF(OR(AND($CC$24<>$CC$23,$CC$24<>$CC$25),AND($CC$24<>$CC$23,$CC$24=$CC$25,$CD$24>90,$CD$25>90)),1,0)} -> 0 | CP24: {=IF(AND($CC$23:$CC$25=$CC$23,$CD$23:$CD$25<90,$CC$22<>$CC$24),1,0)} -> 0 | CQ24: {=IF(AND($CC$23:$CC$24=$CC$24,$CD$23:$CD$24<90,$CC$24<>$CC$22,$CC$24<>$CC$25),1,0)} -> 0 | CR24: {=IF(AND($CC$24:$CC$25=$CC$24,$CD$24:$CD$25<90,$CC$24<>$CC$23),1,0)} -> 0 | CS24: {=IF(AND($CC$24<>$CC$23,$CC$24<>$CC$25),1,0)} -> 0 | CT24: {=IF(AND($CC$22:$CC$25=$CC$22,$CD$22:$CD$25<90,$CE$24:$CE$25=$CE$24,$CE$23<>$CE$24),1,0)} -> 0 | CU24: {=IF(AND($CC$22:$CC$25=$CC$22,$CD$22:$CD$25<90,$CE$22:$CE$25=$CE$22,$CF$24=$CF$25,$CF$23<>$CF$24),1,0)} -> 0 | CV24: {=IF(AND($CC$22:$CC$24=$CC$24,$CD$22:$CD$23<90,$CD$24>90),1,0)} -> 0 | CW24: {=IF(AND($CC$23<>$CC$22,$CC$23:$CC$25=$CC$24,$CD$23>90,$CD$24:$CD$25<90),1,0)} -> 0 | CX24: {=IF(AND($CC$23<>$CC$22,$CC$23:$CC$25=$CC$23,$CD$25>90,$CD$23:$CD$24<90),1,0)} -> 0 | CY24: {=IF(AND($CC$24<>$CC$25,$CC$22:$CC$24=$CC$24,$CD$22>90,$CD$23:$CD$24<90),1,0)} -> 0 | CZ24: {=IF(AND($CC$22:$CC$25=$CC$23,$CD$23:$CD$25<90,$CD$22<>$CD$24),1,0)} -> 0 | DA24: {=IF(AND($CC$22:$CC$25=$CC$24,$CD$22:$CD$24<90,$CD$24<>$CD$25),1,0)} -> 0 | DB24: {=IF(AND($CC$22:$CC$25=$CC$24,$CD$22:$CD$23>90,$CD$24:$CD$25<90,$CE$22:$CE$25=$CE$24,$CF$22>$CF$23,$CF$23>$CF$24,$CF$24=$CF$25),1,0)} -> 0 | DC24: {=IF(AND($CC$22:$CC$25=$CC$24,$CD$22>90,$CD$23:$CD$24<90,$CD$25>90,$CE$22:$CE$25=$CE$24,$CF$22>$CF$23,$CF$23=$CF$24,$CF$24>$CF$25),1,0)} -> 0 | DD24: {=IF(AND($CC$22:$CC$25=$CC$24,$CD$22:$CD$23<90,$CD$24:$CD$25>90,$CE$22:$CE$25=$CE$24,$CF$22=$CF$23,$CF$23>$CF$24,$CF$24>$CF$25),1,0)} -> 0 | DE24: {=IF(AND($CC$22:$CC$25=$CC$24,$CD$22:$CD$23>90,$CD$24:$CD$25<90,$CE$22:$CE$25=$CE$23,$CF$22>$CF$24,$CF$23:$CF$25=$CF$24),1,0)} -> 0 | DF24: {=IF(AND($CC$22:$CC$25=$CC$24,$CD$22:$CD$23<90,$CD$24:$CD$25>90,$CE$22:$CE$25=$CE$24,$CF$22:$CF$24=$CF$24,$CF$24>$CF$25),1,0)} -> 0 | DG24: {=IF(AND($CC$22:$CC$25=$CC$24,$CD$22>90,$CD$25>90,$CD$23:$CD$24<90,$CE$22:$CE$25=$CE$24,$CF$22>$CF$23:$CF$25,$CF$23:$CF$25=$CF$24),1,0)} -> 0 | EC24: 4 | FI24: =RANK(FJ24,FJ22:FJ25,1) -> 1 | FJ24: =SUM(IF(AND(AJ24=AJ25,BC24=BC25,BI24=BI25,BO24=BO25),BG24,0),IF(AND(AJ24=AJ22,BC24=BC22,BI24=BI22,BO24=BO22),BD24,0),IF(AND(AJ24=AJ23,BC24=BC23,BI24=BI23,BO24=BO23),BE24,0)) -> 0 | FK24: =RANK(FL24,FL22:FL25,1) -> 1 | FL24: =SUM(IF(AND(AJ24=AJ25,BC24=BC25,BI24=BI25,BO24=BO25),BM24,0),IF(AND(AJ24=AJ22,BC24=BC22,BI24=BI22,BO24=BO22),BJ24,0),IF(AND(AJ24=AJ23,BC24=BC23,BI24=BI23,BO24=BO23),BK24,0)) -> 0 | FM24: =RANK(FN24,FN22:FN25,1) -> 1 | FN24: =SUM(IF(AND(AJ24=AJ25,BC24=BC25,BI24=BI25,BO24=BO25),BS24,0),IF(AND(AJ24=AJ22,BC24=BC22,BI24=BI22,BO24=BO22),BP24,0),IF(AND(AJ24=AJ23,BC24=BC23,BI24=BI23,BO24=BO23),BQ24,0)) -> 0
F25: =Horarios!A25 -> 44368.75 | G25: =Horarios!A25+VLOOKUP($G$2,Horarios!$K$4:$O$27,4,0)*VLOOKUP($G$2,Horarios!$K$4:$O$27,5,0) -> 44368.75 | H25: J3 | I25: =A24 -> Macedonia del Norte | N25: =A21 -> Países Bajos | O25: =IF(NOT(OR(ISBLANK(K25),ISBLANK(L25))),1,0) -> 0 | Q25: 4 | R25: =VLOOKUP(Q25,$AG$22:$AI$25,3,0) -> Macedonia del Norte | S25: =VLOOKUP(R25,$AI$22:$AR$25,2,FALSE) -> 0 | T25: =VLOOKUP($R25,$AI$22:$AR$25,3,FALSE) -> 0 | U25: =VLOOKUP($R25,$AI$22:$AR$25,4,FALSE) -> 0 | V25: =VLOOKUP($R25,$AI$22:$AR$25,5,FALSE) -> 0 | W25: =VLOOKUP($R25,$AI$22:$AR$25,6,FALSE) -> 0 | X25: =VLOOKUP($R25,$AI$22:$AR$25,7,FALSE) -> 0 | Y25: =VLOOKUP($R25,$AI$22:$AR$25,8,FALSE) -> 0 | Z25: =VLOOKUP($R25,$AI$22:$AR$25,9,FALSE) -> 0 | AA25: =IF(SUM($AK$22:$AK$25)=12,MIN(ABS(BY24-BY25),ABS(BY25-BY26)),100) -> 100 | AB25: =IF(AND(AA25>=0,AA25<90),VLOOKUP(Q25,$BU$22:$BV$25,2,0),"") | AF25: =VLOOKUP($R25,$AI$22:$AR$25,10,FALSE) -> -12 | AG25: =RANK(AU25,$AU$22:$AU$25) -> 4 | AH25: =RANK(AR25,$AR$22:$AR$25) -> 4 | AI25: =A24 -> Macedonia del Norte | AJ25: =AL25*3+AM25*1+AN25*0 -> 0 | AK25: =COUNTIFS($I$4:$I$49,AI25,$K$4:$K$49,"<>",$L$4:$L$49,"<>")+COUNTIFS($N$4:$N$49,AI25,$L$4:$L$49,"<>",$K$4:$K$49,"<>") -> 0 | AL25: {=SUM(($I$4:$I$49=AI25)*($K$4:$K$49<>"")*($L$4:$L$49<>"")*($K$4:$K$49>$L$4:$L$49),($N$4:$N$49=AI25)*($K$4:$K$49<>"")*($L$4:$L$49<>"")*($K$4:$K$49<$L$4:$L$49))} -> 0 | AM25: {=SUM(($I$4:$I$49=AI25)*($K$4:$K$49<>"")*($L$4:$L$49<>"")*($K$4:$K$49=$L$4:$L$49),($N$4:$N$49=AI25)*($K$4:$K$49<>"")*($L$4:$L$49<>"")*($K$4:$K$49=$L$4:$L$49))} -> 0 | AN25: {=SUM(($I$4:$I$49=AI25)*($L$4:$L$49<>"")*($K$4:$K$49<>"")*($K$4:$K$49<$L$4:$L$49),($K$4:$K$49<>"")*($N$4:$N$49=AI25)*($L$4:$L$49<>"")*($K$4:$K$49>$L$4:$L$49))} -> 0 | AO25: {=SUMIFS($K$4:$K$49,$I$4:$I$49,AI25,$K$4:$K$49,"<>",$L$4:$L$49,"<>")+SUMIFS($L$4:$L$49,$N$4:$N$49,AI25,$K$4:$K$49,"<>",$L$4:$L$49,"<>")} -> 0 | AP25: {=SUMIFS($K$4:$K$49,$N$4:$N$49,AI25,$K$4:$K$49,"<>",$L$4:$L$49,"<>")+SUMIFS($L$4:$L$49,$I$4:$I$49,AI25,$K$4:$K$49,"<>",$L$4:$L$49,"<>")} -> 0 | AQ25: =AO25-AP25 -> 0 | AR25: =IF(AK25=0,-($AW$14*VLOOKUP(AI25,Tabla3[[NombreEquipo]:[Rank]],3,FALSE)),AJ25*$AW$4+BA25+AQ25*$AW$11+AO25*$AW$12+AL25*$AW$13-($AW$14*VLOOKUP(AI25,Tabla3[[NombreEquipo]:[Rank]],3,FALSE)/100)) -> -12 | AS25: =AH25 -> 4 | AU25: =IFERROR(AR25-VLOOKUP(AI25,$AB$22:$AC$25,2,0),AR25) -> -12 | AY25: =AI25 -> Macedonia del Norte | AZ25: =COUNTIF(AJ22:AJ25,AJ25) -> 4 | BA25: =(BB25*$AW$7)+(BH25*$AW$6)+(BN25*$AW$5)+(FI25*$AW$10)+(FK25*$AW$9)+(FM25*$AW$8) -> 781200000 | BB25: =RANK(BC25,BC22:BC25,1) -> 1 | BC25: =SUM(IF(AND(AJ25=AJ22),BD25,0),IF(AND(AJ25=AJ23),BE25,0),IF(AND(AJ25=AJ24),BF25,0)) -> 0 | BD25: {=SUMIFS($K$20:$K$25,$I$20:$I$25,$AY25,$K$20:$K$25,"<>",$L$20:$L$25,"<>",$N$20:$N$25,BD21)+SUMIFS($L$20:$L$25,$I$20:$I$25,BD21,$K$20:$K$25,"<>",$L$20:$L$25,"<>",$N$20:$N$25,$AY25)} -> 0 | BE25: {=SUMIFS($K$20:$K$25,$I$20:$I$25,$AY25,$K$20:$K$25,"<>",$L$20:$L$25,"<>",$N$20:$N$25,BE21)+SUMIFS($L$20:$L$25,$I$20:$I$25,BE21,$K$20:$K$25,"<>",$L$20:$L$25,"<>",$N$20:$N$25,$AY25)} -> 0 | BF25: {=SUMIFS($K$20:$K$25,$I$20:$I$25,$AY25,$K$20:$K$25,"<>",$L$20:$L$25,"<>",$N$20:$N$25,BF21)+SUMIFS($L$20:$L$25,$I$20:$I$25,BF21,$K$20:$K$25,"<>",$L$20:$L$25,"<>",$N$20:$N$25,$AY25)} -> 0 | BG25: 0 | BH25: =RANK(BI25,BI22:BI25,1) -> 1 | BI25: =SUM(IF(AND(AJ25=AJ22),BJ25,0),IF(AND(AJ25=AJ23),BK25,0),IF(AND(AJ25=AJ24),BL25,0)) -> 0 | BJ25: =BD25-BG22 -> 0 | BK25: =BE25-BG23 -> 0 | BL25: =BF25-BG24 -> 0 | BM25: 0 | BN25: =RANK(BO25,BO22:BO25,1) -> 1 | BO25: =SUM(IF(AND(AJ25=AJ22),BP25,0),IF(AND(AJ25=AJ23),BQ25,0),IF(AND(AJ25=AJ24),BR25,0)) -> 0 | BP25: {=SUM((I$4:I$49=AY25)*(N$4:N$49=BP21)*(K$4:K$49<>"")*(L$4:L$49<>"")*(K$4:K$49>L$4:L$49)*3,(N$4:N$49=AY25)*(I$4:I$49=BP21)*(K$4:K$49<>"")*(L$4:L$49<>"")*(K$4:K$49=L$4:L$49)*1,(N$4:N$49=AY25)*(I$4:I$49=BP21)*(K$4:K$49<>"")*(L$4:L$49<>"")*(K$4:K$49<L$4:L$49)*3,(I$4:I$49=AY25)*(N$4:N$49=BP21)*(K$4:K$49<>"")*(L$4:L$49<>"")*(K$4:K$49=L$4:L$49)*1)} -> 0 | BQ25: {=SUM((I$4:I$49=AY25)*(N$4:N$49=BQ21)*(K$4:K$49<>"")*(L$4:L$49<>"")*(K$4:K$49>L$4:L$49)*3,(N$4:N$49=AY25)*(I$4:I$49=BQ21)*(K$4:K$49<>"")*(L$4:L$49<>"")*(K$4:K$49=L$4:L$49)*1,(N$4:N$49=AY25)*(I$4:I$49=BQ21)*(K$4:K$49<>"")*(L$4:L$49<>"")*(K$4:K$49<L$4:L$49)*3,(I$4:I$49=AY25)*(N$4:N$49=BQ21)*(K$4:K$49<>"")*(L$4:L$49<>"")*(K$4:K$49=L$4:L$49)*1)} -> 0 | BR25: {=SUM((I$4:I$49=AY25)*(N$4:N$49=BR21)*(K$4:K$49<>"")*(L$4:L$49<>"")*(K$4:K$49>L$4:L$49)*3,(N$4:N$49=AY25)*(I$4:I$49=BR21)*(K$4:K$49<>"")*(L$4:L$49<>"")*(K$4:K$49=L$4:L$49)*1,(N$4:N$49=AY25)*(I$4:I$49=BR21)*(K$4:K$49<>"")*(L$4:L$49<>"")*(K$4:K$49<L$4:L$49)*3,(I$4:I$49=AY25)*(N$4:N$49=BR21)*(K$4:K$49<>"")*(L$4:L$49<>"")*(K$4:K$49=L$4:L$49)*1)} -> 0 | BS25: 0 | BT25: 4 | BU25: =RANK(BW25,$BW$22:$BW$25) -> 4 | BV25: =A24 -> Macedonia del Norte | BW25: =IF(AK25=0,-($AW$14*VLOOKUP(AI25,Tabla3[[NombreEquipo]:[Rank]],3,FALSE)),AJ25*$AW$4+BA25+AQ25*$AW$11+AO25*$AW$12+AL25*$AW$13-($AW$14*VLOOKUP(AI25,Tabla3[[NombreEquipo]:[Rank]],3,FALSE)/100)) -> -12 | BX25: =VLOOKUP(Q25,$AH$22:$AI$25,2,0) -> Macedonia del Norte | BY25: =VLOOKUP($BX25,$AI$22:$AR$25,10,FALSE) -> -12 | CA25: 4 | CB25: =VLOOKUP(CA25,$AH$22:$AI$25,2,0) -> Macedonia del Norte | CC25: =VLOOKUP(CB25,$AI$22:$AR$25,2,FALSE) -> 0 | CD25: =IF(SUM($AK$22:$AK$25)=12,MIN(ABS(BY24-BY25),ABS(BY25-BY26)),100) -> 100 | CE25: =VLOOKUP($CB25,$AI$22:$AR$25,9,FALSE) -> 0 | CF25: =VLOOKUP($CB25,$AI$22:$AR$25,7,FALSE) -> 0 | CH25: {=IF($CI$22=$CL$21,$EC$21:$EC$24,IF(OR($CI$22=$CN$21,$CI$22=$CR$21),$EG$21:$EG$22,IF($CI$22=$CP$21,$EF$21:$EF$23,$EL$21)))} -> 4 | CK25: 4 | CL25: {=IF(AND($CC$22:$CC$25=$CC$25,$CD$22:$CD$25<90,$AQ$22:$AQ$25=$AQ$25,$CF$22:$CF$25=$CF$25),1,0)} -> 0 | CM25: {=IF(AND($CC$22:$CC$24=$CC$22,$CD$22:$CD$24<90,$CD$25>90,$CC$22<>$CC$25),1,0)} -> 0 | CN25: {=IF(AND($CC$24:$CC$25=$CC$24,$CD$24:$CD$25<90,$CC$24<>$CC$23),1,0)} -> 0 | CO25: {=IF(AND($CC$25<>$CC$23,$CC$25<>$CC$22),1,0)} -> 0 | CP25: {=IF(AND($CC$23:$CC$25=$CC$23,$CD$23:$CD$25<90,$CC$22<>$CC$25),1,0)} -> 0 | CQ25: {=IF(AND($CC$25<>$CC$23,$CC$25<>$CC$22),1,0)} -> 0 | CR25: {=IF(AND($CC$24:$CC$25=$CC$24,$CD$24:$CD$25<90,$CC$24<>$CC$23),1,0)} -> 0 | CS25: {=IF(AND($CC$25<>$CC$23,$CC$25<>$CC$22),1,0)} -> 0 | CT25: {=IF(AND($CC$22:$CC$25=$CC$22,$CD$22:$CD$25<90,$CE$24:$CE$25=$CE$25,$CE$23<>$CE$25),1,0)} -> 0 | CU25: {=IF(AND($CC$22:$CC$25=$CC$22,$CD$22:$CD$25<90,$CE$22:$CE$25=$CE$22,$CF$24=$CF$25,$CF$23<>$CF$24),1,0)} -> 0 | CV25: {=IF(AND($CC$22:$CC$24=$CC$22,$CD$22:$CD$23<90,$CC$24<>$CC$25),1,0)} -> 0 | CW25: {=IF(AND($CC$23<>$CC$22,$CC$23:$CC$25=$CC$24,$CD$23>90,$CD$24:$CD$25<90),1,0)} -> 0 | CX25: {=IF(AND($CC$23<>$CC$22,$CC$23:$CC$25=$CC$23,$CD$25>90,$CD$23:$CD$24<90),1,0)} -> 0 | CY25: {=IF(AND($CC$25<>$CC$23,$CC$25<>$CC$24),1,0)} -> 0 | CZ25: {=IF(AND($CC$22:$CC$25=$CC$23,$CD$23:$CD$25<90,$CD$22<>$CD$25),1,0)} -> 0 | DA25: {=IF(AND($CC$22:$CC$25=$CC$22,$CD$22:$CD$24<90,$CD$24<>$CD$25),1,0)} -> 0 | DB25: {=IF(AND($CC$22:$CC$25=$CC$25,$CD$22:$CD$23>90,$CD$24:$CD$25<90,$CE$22:$CE$25=$CE$25,$CF$22>$CF$23,$CF$23>$CF$25,$CF$24=$CF$25),1,0)} -> 0 | DC25: {=IF(AND($CC$22:$CC$25=$CC$23,$CD$22>90,$CD$23:$CD$24<90,$CD$25>90,$CE$22:$CE$25=$CE$25,$CF$22>$CF$25,$CF$23=$CF$24,$CF$23>$CF$25),1,0)} -> 0 | DD25: {=IF(AND($CC$22:$CC$25=$CC$25,$CD$22:$CD$23<90,$CD$24:$CD$25>90,$CE$22:$CE$25=$CE$25,$CF$22=$CF$23,$CF$23>$CF$24,$CF$24>$CF$25),1,0)} -> 0 | DE25: {=IF(AND($CC$22:$CC$25=$CC$25,$CD$22:$CD$23>90,$CD$24:$CD$25<90,$CE$22:$CE$25=$CE$25,$CF$22>$CF$25,$CF$23:$CF$25=$CF$25),1,0)} -> 0 | DF25: {=IF(AND($CC$22:$CC$25=$CC$25,$CD$22:$CD$23<90,$CD$24:$CD$25>90,$CE$22:$CE$25=$CE$25,$CF$22:$CF$24=$CF$24,$CF$22:$CF$24>$CF$25),1,0)} -> 0 | DG25: {=IF(AND($CC$22:$CC$25=$CC$25,$CD$22>90,$CD$25>90,$CD$23:$CD$24<90,$CE$22:$CE$25=$CE$25,$CF$22>$CF$23:$CF$25,$CF$23:$CF$25=$CF$25),1,0)} -> 0 | FI25: =RANK(FJ25,FJ22:FJ25,1) -> 1 | FJ25: =SUM(IF(AND(AJ25=AJ22,BC25=BC22,BI25=BI22,BO25=BO22),BD25,0),IF(AND(AJ25=AJ23,BC25=BC23,BI25=BI23,BO25=BO23),BE25,0),IF(AND(AJ25=AJ24,BC25=BC24,BI25=BI24,BO25=BO24),BF25,0)) -> 0 | FK25: =RANK(FL25,FL22:FL25,1) -> 1 | FL25: =SUM(IF(AND(AJ25=AJ22,BC25=BC22,BI25=BI22,BO25=BO22),BJ25,0),IF(AND(AJ25=AJ23,BC25=BC23,BI25=BI23,BO25=BO23),BK25,0),IF(AND(AJ25=AJ24,BC25=BC24,BI25=BI24,BO25=BO24),BL25,0)) -> 0 | FM25: =RANK(FN25,FN22:FN25,1) -> 1 | FN25: =SUM(IF(AND(AJ25=AJ22,BC25=BC22,BI25=BI22,BO25=BO22),BP25,0),IF(AND(AJ25=AJ23,BC25=BC23,BI25=BI23,BO25=BO23),BQ25,0),IF(AND(AJ25=AJ24,BC25=BC24,BI25=BI24,BO25=BO24),BR25,0)) -> 0
F27: =F11 -> Fecha | G27: =G11 -> Hora | H27: =H11 -> Jor. | I27: =I11 -> Casa | K27: =K11 -> Gol | L27: =L11 -> Gol | N27: =N11 -> Fuera | CL27: 1 | CM27: 12 | CN27: 18 | CO27: 19 | CP27: 13 | CQ27: 20 | CR27: 21 | CS27: 22 | CT27: 3 | CU27: 2 | CV27: 14 | CW27: 17 | CX27: 16 | CY27: 15 | CZ27: 4 | DA27: 5 | DB27: 10 | DC27: 8 | DD27: 6 | DE27: 11 | DF27: 7 | DG27: 9 | EC27: OP1 | ED27: OP2 | EE27: OP3 | EF27: OP4 | EG27: OP5 | EH27: OP6 | EI27: OP7 | EJ27: OP8 | EK27: OP9 | EL27: OP10
A28: NombreEquipo | B28: D | C28: =COUNTIF(Equipos!$C$2:$C$25,EUROCOPA!B28) -> 4 | E28: D | F28: =Horarios!A28 -> 44360.625 | G28: =Horarios!A28+VLOOKUP($G$2,Horarios!$K$4:$O$27,4,0)*VLOOKUP($G$2,Horarios!$K$4:$O$27,5,0) -> 44360.625 | H28: J1 | I28: =A29 -> Inglaterra | N28: =A30 -> Croacia | O28: =IF(NOT(OR(ISBLANK(K28),ISBLANK(L28))),1,0) -> 0 | Q28: =CONCATENATE("Grupo"," ",B28) -> Grupo D | AB28: ¡EMPATE! Puedes seleccionar el orden de los empatados. | AH28: =CONCATENATE("Auxiliar - ",Q28) -> Auxiliar - Grupo D | AU28: NR | AY28: =CONCATENATE(Q28," - GOLAVERAGE") -> Grupo D - GOLAVERAGE | BB28: Goles - Partidos Cruzados | BH28: Diferencia de Goles - Partidos Cruzados | CI28: Valor | CK28: Sum | CL28: =SUM(CL30:CL33) -> 0 | CM28: =SUM(CM30:CM33) -> 0 | CN28: =SUM(CN30:CN33) -> 0 | CO28: =SUM(CO30:CO33) -> 0 | CP28: =SUM(CP30:CP33) -> 0 | CQ28: =SUM(CQ30:CQ33) -> 0 | CR28: =SUM(CR30:CR33) -> 0 | CS28: =SUM(CS30:CS33) -> 0 | ... DG28: =SUM(DG30:DG33) -> 0 | EC28: 1234 | ED28: 123 | EE28: 12 | EF28: 234 | EG28: 34 | EH28: 23 | EI28: 1 | EJ28: 2 | EK28: 3 | EL28: 4 | FI28: Goles - Partidos Cruzados | FK28: Diferencia de Goles - Partidos Cruzados
A29: {=IF(ROWS(A$29:A29)<=$C$28,INDEX(INDIRECT(A$28),SMALL(IF(Nivell=$B$28,ROW(Nivell)-ROW(Equipos!$C$2)+1),ROWS(B$28:B28))),"")} -> Inglaterra | F29: =Horarios!A29 -> 44361.625 | G29: =Horarios!A29+VLOOKUP($G$2,Horarios!$K$4:$O$27,4,0)*VLOOKUP($G$2,Horarios!$K$4:$O$27,5,0) -> 44361.625 | H29: J1 | I29: =A31 -> Escocia | N29: =A32 -> República Checa | O29: =IF(NOT(OR(ISBLANK(K29),ISBLANK(L29))),1,0) -> 0 | Q29: Pos | R29: Selección | S29: Pts | T29: J | U29: G | V29: E | W29: P | X29: GF | Y29: GC | Z29: DG | AA29: =COUNTIF(AA30:AA33,"<100") -> 0 | AG29: NR | AH29: Puesto | AI29: Equipo | AJ29: Ptos | AK29: J | AL29: G | AM29: E | AN29: P | AO29: GF | AP29: GC | AQ29: Dif | AR29: Rank | AS29: Puesto | AY29: Equipo | AZ29: NEquipEqual | BA29: PUNTOS | BB29: Ranking Inv | BC29: Entre Iguales | BD29: =AY30 -> Inglaterra | BE29: =AY31 -> Croacia | BF29: =AY32 -> Escocia | BG29: =AY33 -> República Checa | BH29: Ranking Inv | BI29: Entre Iguales | BJ29: =BD29 -> Inglaterra | BK29: =BE29 -> Croacia | BL29: =BF29 -> Escocia | BM29: =BG29 -> República Checa | BN29: Ranking Inv | BO29: Entre Iguales | BP29: =BD29 -> Inglaterra | BQ29: =BE29 -> Croacia | BR29: =BF29 -> Escocia | BS29: =BG29 -> República Checa | BV29: Inicio | BX29: 1R | CB29: Equipo | CC29: Ptos | CD29: Signo | CE29: Dif | CF29: Gf | CK29: Com | CL29: COM_1 | CM29: COM_2 | CN29: COM_3 | CO29: COM_4 | CP29: COM_5 | CQ29: COM_6 | CR29: COM_7 | CS29: COM_8 | CT29: COM_3 | CU29: COM_3 | CV29: COM_4 | CW29: COM_7 | CX29: COM_6 | CY29: COM_6 | CZ29: COM_5 | DA29: COM_2 | DB29: COM_7 | DC29: COM_6 | DD29: COM_4 | DE29: COM_7 | DF29: COM_4 | DG29: COM_6 | EC29: 1 | ED29: 1 | EE29: 1 | EF29: 2 | EG29: 3 | EH29: 2 | EI29: 1 | EJ29: 2 | EK29: 3 | EL29: 4 | FI29: Ranking Inv | FK29: Ranking Inv | FM29: Ranking Inv
A30: {=IF(ROWS(A$29:A30)<=$C$28,INDEX(INDIRECT(A$28),SMALL(IF(Nivell=$B$28,ROW(Nivell)-ROW(Equipos!$C$2)+1),ROWS(B$28:B29))),"")} -> Croacia | F30: =Horarios!A30 -> 44365.75 | G30: =Horarios!A30+VLOOKUP($G$2,Horarios!$K$4:$O$27,4,0)*VLOOKUP($G$2,Horarios!$K$4:$O$27,5,0) -> 44365.75 | H30: J2 | I30: =A30 -> Croacia | N30: =A32 -> República Checa | O30: =IF(NOT(OR(ISBLANK(K30),ISBLANK(L30))),1,0) -> 0 | Q30: 1 | R30: =VLOOKUP(Q30,$AG$30:$AI$33,3,0) -> Inglaterra | S30: =VLOOKUP(R30,$AI$30:$AR$33,2,FALSE) -> 0 | T30: =VLOOKUP($R30,$AI$30:$AR$33,3,FALSE) -> 0 | U30: =VLOOKUP($R30,$AI$30:$AR$33,4,FALSE) -> 0 | V30: =VLOOKUP($R30,$AI$30:$AR$33,5,FALSE) -> 0 | W30: =VLOOKUP($R30,$AI$30:$AR$33,6,FALSE) -> 0 | X30: =VLOOKUP($R30,$AI$30:$AR$33,7,FALSE) -> 0 | Y30: =VLOOKUP($R30,$AI$30:$AR$33,8,FALSE) -> 0 | Z30: =VLOOKUP($R30,$AI$30:$AR$33,9,FALSE) -> 0 | AA30: =IF(SUM($AK$30:$AK$33)=12,MIN(ABS(BY29-BY30),ABS(BY30-BY31)),100) -> 100 | AB30: =IF(AND(AA30>=0,AA30<90),VLOOKUP(Q30,$BU$30:$BV$33,2,0),"") | AF30: =VLOOKUP($R30,$AI$30:$AR$33,10,FALSE) -> -13 | AG30: =RANK(AU30,$AU$30:$AU$33) -> 1 | AH30: =RANK(AR30,$AR$30:$AR$33) -> 1 | AI30: =A29 -> Inglaterra | AJ30: =AL30*3+AM30*1+AN30*0 -> 0 | AK30: =COUNTIFS($I$4:$I$49,AI30,$K$4:$K$49,"<>",$L$4:$L$49,"<>")+COUNTIFS($N$4:$N$49,AI30,$L$4:$L$49,"<>",$K$4:$K$49,"<>") -> 0 | AL30: {=SUM(($I$4:$I$49=AI30)*($K$4:$K$49<>"")*($L$4:$L$49<>"")*($K$4:$K$49>$L$4:$L$49),($N$4:$N$49=AI30)*($K$4:$K$49<>"")*($L$4:$L$49<>"")*($K$4:$K$49<$L$4:$L$49))} -> 0 | AM30: {=SUM(($I$4:$I$49=AI30)*($K$4:$K$49<>"")*($L$4:$L$49<>"")*($K$4:$K$49=$L$4:$L$49),($N$4:$N$49=AI30)*($K$4:$K$49<>"")*($L$4:$L$49<>"")*($K$4:$K$49=$L$4:$L$49))} -> 0 | AN30: {=SUM(($I$4:$I$49=AI30)*($L$4:$L$49<>"")*($K$4:$K$49<>"")*($K$4:$K$49<$L$4:$L$49),($K$4:$K$49<>"")*($N$4:$N$49=AI30)*($L$4:$L$49<>"")*($K$4:$K$49>$L$4:$L$49))} -> 0 | AO30: {=SUMIFS($K$4:$K$49,$I$4:$I$49,AI30,$K$4:$K$49,"<>",$L$4:$L$49,"<>")+SUMIFS($L$4:$L$49,$N$4:$N$49,AI30,$K$4:$K$49,"<>",$L$4:$L$49,"<>")} -> 0 | AP30: {=SUMIFS($K$4:$K$49,$N$4:$N$49,AI30,$K$4:$K$49,"<>",$L$4:$L$49,"<>")+SUMIFS($L$4:$L$49,$I$4:$I$49,AI30,$K$4:$K$49,"<>",$L$4:$L$49,"<>")} -> 0 | AQ30: =AO30-AP30 -> 0 | AR30: =IF(AK30=0,-($AW$14*VLOOKUP(AI30,Tabla3[[NombreEquipo]:[Rank]],3,FALSE)),AJ30*$AW$4+BA30+AQ30*$AW$11+AO30*$AW$12+AL30*$AW$13-($AW$14*VLOOKUP(AI30,Tabla3[[NombreEquipo]:[Rank]],3,FALSE)/100)) -> -13 | AS30: =AH30 -> 1 | AU30: =IFERROR(AR30-VLOOKUP(AI30,$AB$30:$AC$33,2,0),AR30) -> -13 | AY30: =AI30 -> Inglaterra | AZ30: =COUNTIF(AJ30:AJ33,AJ30) -> 4 | BA30: =(BB30*$AW$7)+(BH30*$AW$6)+(BN30*$AW$5)+(FI30*$AW$10)+(FK30*$AW$9)+(FM30*$AW$8) -> 781200000 | BB30: =RANK(BC30,BC30:BC33,1) -> 1 | BC30: =SUM(IF(AND(AJ30=AJ31),BE30,0),IF(AND(AJ30=AJ32),BF30,0),IF(AND(AJ30=AJ33),BG30,0)) -> 0 | BD30: 0 | BE30: {=SUMIFS($K$28:$K$33,$I$28:$I$33,$AY30,$K$28:$K$33,"<>",$L$28:$L$33,"<>",$N$28:$N$33,BE29)+SUMIFS($L$28:$L$33,$I$28:$I$33,BE29,$K$28:$K$33,"<>",$L$28:$L$33,"<>",$N$28:$N$33,$AY30)} -> 0 | BF30: {=SUMIFS($K$28:$K$33,$I$28:$I$33,$AY30,$K$28:$K$33,"<>",$L$28:$L$33,"<>",$N$28:$N$33,BF29)+SUMIFS($L$28:$L$33,$I$28:$I$33,BF29,$K$28:$K$33,"<>",$L$28:$L$33,"<>",$N$28:$N$33,$AY30)} -> 0 | BG30: {=SUMIFS($K$28:$K$33,$I$28:$I$33,$AY30,$K$28:$K$33,"<>",$L$28:$L$33,"<>",$N$28:$N$33,BG29)+SUMIFS($L$28:$L$33,$I$28:$I$33,BG29,$K$28:$K$33,"<>",$L$28:$L$33,"<>",$N$28:$N$33,$AY30)} -> 0 | BH30: =RANK(BI30,BI30:BI33,1) -> 1 | BI30: =SUM(IF(AND(AJ30=AJ31),BK30,0),IF(AND(AJ30=AJ32),BL30,0),IF(AND(AJ30=AJ33),BM30,0)) -> 0 | BJ30: 0 | BK30: =BE30-BD31 -> 0 | BL30: =BF30-BD32 -> 0 | BM30: =BG30-BD33 -> 0 | BN30: =RANK(BO30,BO30:BO33,1) -> 1 | BO30: =SUM(IF(AND(AJ30=AJ31),BQ30,0),IF(AND(AJ30=AJ32),BR30,0),IF(AND(AJ30=AJ33),BS30,0)) -> 0 | BP30: 0 | BQ30: {=SUM((I$4:I$49=AY30)*(N$4:N$49=BQ29)*(K$4:K$49<>"")*(L$4:L$49<>"")*(K$4:K$49>L$4:L$49)*3,(N$4:N$49=AY30)*(I$4:I$49=BQ29)*(K$4:K$49<>"")*(L$4:L$49<>"")*(K$4:K$49=L$4:L$49)*1,(N$4:N$49=AY30)*(I$4:I$49=BQ29)*(K$4:K$49<>"")*(L$4:L$49<>"")*(K$4:K$49<L$4:L$49)*3,(I$4:I$49=AY30)*(N$4:N$49=BQ29)*(K$4:K$49<>"")*(L$4:L$49<>"")*(K$4:K$49=L$4:L$49)*1)} -> 0 | BR30: {=SUM((I$4:I$49=AY30)*(N$4:N$49=BR29)*(K$4:K$49<>"")*(L$4:L$49<>"")*(K$4:K$49>L$4:L$49)*3,(N$4:N$49=AY30)*(I$4:I$49=BR29)*(K$4:K$49<>"")*(L$4:L$49<>"")*(K$4:K$49=L$4:L$49)*1,(N$4:N$49=AY30)*(I$4:I$49=BR29)*(K$4:K$49<>"")*(L$4:L$49<>"")*(K$4:K$49<L$4:L$49)*3,(I$4:I$49=AY30)*(N$4:N$49=BR29)*(K$4:K$49<>"")*(L$4:L$49<>"")*(K$4:K$49=L$4:L$49)*1)} -> 0 | BS30: {=SUM((I$4:I$49=AY30)*(N$4:N$49=BS29)*(K$4:K$49<>"")*(L$4:L$49<>"")*(K$4:K$49>L$4:L$49)*3,(N$4:N$49=AY30)*(I$4:I$49=BS29)*(K$4:K$49<>"")*(L$4:L$49<>"")*(K$4:K$49=L$4:L$49)*1,(N$4:N$49=AY30)*(I$4:I$49=BS29)*(K$4:K$49<>"")*(L$4:L$49<>"")*(K$4:K$49<L$4:L$49)*3,(I$4:I$49=AY30)*(N$4:N$49=BS29)*(K$4:K$49<>"")*(L$4:L$49<>"")*(K$4:K$49=L$4:L$49)*1)} -> 0 | BT30: 1 | BU30: =RANK(BW30,$BW$30:$BW$33) -> 1 | BV30: =A29 -> Inglaterra | BW30: =IF(AK30=0,-($AW$14*VLOOKUP(AI30,Tabla3[[NombreEquipo]:[Rank]],3,FALSE)),AJ30*$AW$4+BA30+AQ30*$AW$11+AO30*$AW$12+AL30*$AW$13-($AW$14*VLOOKUP(AI30,Tabla3[[NombreEquipo]:[Rank]],3,FALSE)/100)) -> -13 | BX30: =VLOOKUP(Q30,$AH$30:$AI$33,2,0) -> Inglaterra | BY30: =VLOOKUP($BX30,$AI$30:$AR$33,10,FALSE) -> -13 | CA30: 1 | CB30: =VLOOKUP(CA30,$AH$30:$AI$33,2,0) -> Inglaterra | CC30: =VLOOKUP(CB30,$AI$30:$AR$33,2,FALSE) -> 0 | CD30: =IF(SUM($AK$30:$AK$33)=12,MIN(ABS(BY29-BY30),ABS(BY30-BY31)),100) -> 100 | CE30: =VLOOKUP($CB30,$AI$30:$AR$33,9,FALSE) -> 0 | CF30: =VLOOKUP($CB30,$AI$30:$AR$33,7,FALSE) -> 0 | CH30: {=IF($CI$30=$CL$29,$EC$29:$EC$32,IF($CI$30=$CM$29,$ED$29:$ED$31,IF(OR($CI$30=$CN$29,$CI$30=$CO$29),$EE$29:$EE$30,$EI$29)))} -> 1 | CI30: =IFERROR(HLOOKUP(4,CL28:DI29,2,0),CS29) -> COM_8 | CK30: 1 | CL30: {=IF(AND($CC$30:$CC$33=$CC$30,$CD$30:$CD$33<90,$AQ$30:$AQ$33=$AQ$30,$CF$30:$CF$33=$CF$30),1,0)} -> 0 | CM30: {=IF(AND($CC$30:$CC$32=$CC$30,$CD$30:$CD$32<90,$CC$30<>$CC$33),1,0)} -> 0 | CN30: {=IF(AND($CC$30:$CC$31=$CC$30,$CD$30:$CD$31<90,$CC$30<>$CC$32),1,0)} -> 0 | CO30: {=IF(AND($CC$30:$CC$31=$CC$30,$CD$30:$CD$31<90,$CC$30<>$CC$32),1,0)} -> 0 | CP30: {=IF(AND($CC$31:$CC$33=$CC$31,$CD$31:$CD$33<90,$CC$30<>$CC$31),1,0)} -> 0 | CQ30: {=IF(AND($CC$30<>$CC$31,$CC$30<>$CC$33),1,0)} -> 0 | CR30: {=IF(AND($CC$30<>$CC$31,$CC$30<>$CC$33),1,0)} -> 0 | CS30: {=IF(AND($CC$30<>$CC$31,$CC$30<>$CC$33),1,0)} -> 0 | CT30: {=IF(AND($CC$30:$CC$33=$CC$30,$CD$30:$CD$33<90,$CE$30:$CE$31=$CE$30,$CE$30<>$CE$32),1,0)} -> 0 | CU30: {=IF(AND($CC$30:$CC$33=$CC$30,$CD$30:$CD$33<90,$CE$30:$CE$33=$CE$30,$CF$30=$CF$31,$CF$30<>$CF$32),1,0)} -> 0 | CV30: {=IF(AND($CC$30:$CC$32=$CC$30,$CD$30:$CD$31<90,$CD$32>90),1,0)} -> 0 | CW30: {=IF(AND($CC$30<>$CC$31,$CC$30<>$CC$32),1,0)} -> 0 | CX30: {=IF(AND($CC$30<>$CC$31,$CC$30<>$CC$32),1,0)} -> 0 | CY30: {=IF(AND($CC$30<>$CC$33,$CC$30:$CC$32=$CC$30,$CD$30>90,$CD$31:$CD$32<90),1,0)} -> 0 | CZ30: {=IF(AND($CC$30:$CC$33=$CC$30,$CD$31:$CD$33<90,$CD$30<>$CD$31),1,0)} -> 0 | DA30: {=IF(AND($CC$30:$CC$33=$CC$30,$CD$30:$CD$32<90,$CD$30<>$CD$33),1,0)} -> 0 | DB30: {=IF(AND($CC$30:$CC$33=$CC$30,$CD$30:$CD$31>90,$CD$32:$CD$33<90,$CE$30:$CE$33=$CE$30,$CF$30>$CF$31,$CF$30>$CF$32,$CF$30>$CF$33),1,0)} -> 0 | DC30: {=IF(AND($CC$30:$CC$33=$CC$30,$CD$30>90,$CD$31:$CD$32<90,$CD$33>90,$CE$30:$CE$33=$CE$30,$CF$30>$CF$31,$CF$30>$CF$32,$CF$30>$CF$33),1,0)} -> 0 | DD30: {=IF(AND($CC$30:$CC$33=$CC$30,$CD$30:$CD$31<90,$CD$32:$CD$33>90,$CE$30:$CE$33=$CE$30,$CF$30=$CF$31,$CF$30>$CF$32,$CF$30>$CF$33),1,0)} -> 0 | DE30: {=IF(AND($CC$30:$CC$33=$CC$30,$CD$30:$CD$31>90,$CD$32:$CD$33<90,$CE$30:$CE$33=$CE$30,$CF$30>$CF$31,$CF$31:$CF$33=$CF$31),1,0)} -> 0 | DF30: {=IF(AND($CC$30:$CC$33=$CC$30,$CD$30:$CD$31<90,$CD$32:$CD$33>90,$CE$30:$CE$33=$CE$30,$CF$30:$CF$32=$CF$30,$CF$30>$CF$33),1,0)} -> 0 | DG30: {=IF(AND($CC$30:$CC$33=$CC$30,$CD$30>90,$CD$33>90,$CD$31:$CD$32<90,$CE$30:$CE$33=$CE$30,$CF$30>$CF$31:$CF$33),1,0)} -> 0 | EC30: 2 | ED30: 2 | EE30: 2 | EF30: 3 | EG30: 4 | EH30: 3 | FI30: =RANK(FJ30,FJ30:FJ33,1) -> 1 | FJ30: =SUM(IF(AND(AJ30=AJ31,BC30=BC31,BI30=BI31,BO30=BO31),BE30,0),IF(AND(AJ30=AJ32,BC30=BC32,BI30=BI32,BO30=BO32),BF30,0),IF(AND(AJ30=AJ33,BC30=BC33,BI30=BI33,BO30=BO33),BG30,0)) -> 0 | FK30: =RANK(FL30,FL30:FL33,1) -> 1 | FL30: =SUM(IF(AND(AJ30=AJ31,BC30=BC31,BI30=BI31,BO30=BO31),BK30,0),IF(AND(AJ30=AJ32,BC30=BC32,BI30=BI32,BO30=BO32),BL30,0),IF(AND(AJ30=AJ33,BC30=BC33,BI30=BI33,BO30=BO33),BM30,0)) -> 0 | FM30: =RANK(FN30,FN30:FN33,1) -> 1 | FN30: =SUM(IF(AND(AJ30=AJ31,BC30=BC31,BI30=BI31,BO30=BO31),BQ30,0),IF(AND(AJ30=AJ32,BC30=BC32,BI30=BI32,BO30=BO32),BR30,0),IF(AND(AJ30=AJ33,BC30=BC33,BI30=BI33,BO30=BO33),BS30,0)) -> 0
A31: {=IF(ROWS(A$29:A31)<=$C$28,INDEX(INDIRECT(A$28),SMALL(IF(Nivell=$B$28,ROW(Nivell)-ROW(Equipos!$C$2)+1),ROWS(B$28:B30))),"")} -> Escocia | F31: =Horarios!A31 -> 44365.875 | G31: =Horarios!A31+VLOOKUP($G$2,Horarios!$K$4:$O$27,4,0)*VLOOKUP($G$2,Horarios!$K$4:$O$27,5,0) -> 44365.875 | H31: J2 | I31: =A29 -> Inglaterra | N31: =A31 -> Escocia | O31: =IF(NOT(OR(ISBLANK(K31),ISBLANK(L31))),1,0) -> 0 | Q31: 2 | R31: =VLOOKUP(Q31,$AG$30:$AI$33,3,0) -> Croacia | S31: =VLOOKUP(R31,$AI$30:$AR$33,2,FALSE) -> 0 | T31: =VLOOKUP($R31,$AI$30:$AR$33,3,FALSE) -> 0 | U31: =VLOOKUP($R31,$AI$30:$AR$33,4,FALSE) -> 0 | V31: =VLOOKUP($R31,$AI$30:$AR$33,5,FALSE) -> 0 | W31: =VLOOKUP($R31,$AI$30:$AR$33,6,FALSE) -> 0 | X31: =VLOOKUP($R31,$AI$30:$AR$33,7,FALSE) -> 0 | Y31: =VLOOKUP($R31,$AI$30:$AR$33,8,FALSE) -> 0 | Z31: =VLOOKUP($R31,$AI$30:$AR$33,9,FALSE) -> 0 | AA31: =IF(SUM($AK$30:$AK$33)=12,MIN(ABS(BY30-BY31),ABS(BY31-BY32)),100) -> 100 | AB31: =IF(AND(AA31>=0,AA31<90),VLOOKUP(Q31,$BU$30:$BV$33,2,0),"") | AF31: =VLOOKUP($R31,$AI$30:$AR$33,10,FALSE) -> -14 | AG31: =RANK(AU31,$AU$30:$AU$33) -> 2 | AH31: =RANK(AR31,$AR$30:$AR$33) -> 2 | AI31: =A30 -> Croacia | AJ31: =AL31*3+AM31*1+AN31*0 -> 0 | AK31: =COUNTIFS($I$4:$I$49,AI31,$K$4:$K$49,"<>",$L$4:$L$49,"<>")+COUNTIFS($N$4:$N$49,AI31,$L$4:$L$49,"<>",$K$4:$K$49,"<>") -> 0 | AL31: {=SUM(($I$4:$I$49=AI31)*($K$4:$K$49<>"")*($L$4:$L$49<>"")*($K$4:$K$49>$L$4:$L$49),($N$4:$N$49=AI31)*($K$4:$K$49<>"")*($L$4:$L$49<>"")*($K$4:$K$49<$L$4:$L$49))} -> 0 | AM31: {=SUM(($I$4:$I$49=AI31)*($K$4:$K$49<>"")*($L$4:$L$49<>"")*($K$4:$K$49=$L$4:$L$49),($N$4:$N$49=AI31)*($K$4:$K$49<>"")*($L$4:$L$49<>"")*($K$4:$K$49=$L$4:$L$49))} -> 0 | AN31: {=SUM(($I$4:$I$49=AI31)*($L$4:$L$49<>"")*($K$4:$K$49<>"")*($K$4:$K$49<$L$4:$L$49),($K$4:$K$49<>"")*($N$4:$N$49=AI31)*($L$4:$L$49<>"")*($K$4:$K$49>$L$4:$L$49))} -> 0 | AO31: {=SUMIFS($K$4:$K$49,$I$4:$I$49,AI31,$K$4:$K$49,"<>",$L$4:$L$49,"<>")+SUMIFS($L$4:$L$49,$N$4:$N$49,AI31,$K$4:$K$49,"<>",$L$4:$L$49,"<>")} -> 0 | AP31: {=SUMIFS($K$4:$K$49,$N$4:$N$49,AI31,$K$4:$K$49,"<>",$L$4:$L$49,"<>")+SUMIFS($L$4:$L$49,$I$4:$I$49,AI31,$K$4:$K$49,"<>",$L$4:$L$49,"<>")} -> 0 | AQ31: =AO31-AP31 -> 0 | AR31: =IF(AK31=0,-($AW$14*VLOOKUP(AI31,Tabla3[[NombreEquipo]:[Rank]],3,FALSE)),AJ31*$AW$4+BA31+AQ31*$AW$11+AO31*$AW$12+AL31*$AW$13-($AW$14*VLOOKUP(AI31,Tabla3[[NombreEquipo]:[Rank]],3,FALSE)/100)) -> -14 | AS31: =AH31 -> 2 | AU31: =IFERROR(AR31-VLOOKUP(AI31,$AB$30:$AC$33,2,0),AR31) -> -14 | AY31: =AI31 -> Croacia | AZ31: =COUNTIF(AJ30:AJ33,AJ31) -> 4 | BA31: =(BB31*$AW$7)+(BH31*$AW$6)+(BN31*$AW$5)+(FI31*$AW$10)+(FK31*$AW$9)+(FM31*$AW$8) -> 781200000 | BB31: =RANK(BC31,BC30:BC33,1) -> 1 | BC31: =SUM(IF(AND(AJ31=AJ32),BF31,0),IF(AND(AJ31=AJ33),BG31,0),IF(AND(AJ31=AJ30),BD31,0)) -> 0 | BD31: {=SUMIFS($K$28:$K$33,$I$28:$I$33,$AY31,$K$28:$K$33,"<>",$L$28:$L$33,"<>",$N$28:$N$33,BD29)+SUMIFS($L$28:$L$33,$I$28:$I$33,BD29,$K$28:$K$33,"<>",$L$28:$L$33,"<>",$N$28:$N$33,$AY31)} -> 0 | BE31: 0 | BF31: {=SUMIFS($K$28:$K$33,$I$28:$I$33,$AY31,$K$28:$K$33,"<>",$L$28:$L$33,"<>",$N$28:$N$33,BF29)+SUMIFS($L$28:$L$33,$I$28:$I$33,BF29,$K$28:$K$33,"<>",$L$28:$L$33,"<>",$N$28:$N$33,$AY31)} -> 0 | BG31: {=SUMIFS($K$28:$K$33,$I$28:$I$33,$AY31,$K$28:$K$33,"<>",$L$28:$L$33,"<>",$N$28:$N$33,BG29)+SUMIFS($L$28:$L$33,$I$28:$I$33,BG29,$K$28:$K$33,"<>",$L$28:$L$33,"<>",$N$28:$N$33,$AY31)} -> 0 | BH31: =RANK(BI31,BI30:BI33,1) -> 1 | BI31: =SUM(IF(AND(AJ31=AJ32),BL31,0),IF(AND(AJ31=AJ33),BM31,0),IF(AND(AJ31=AJ30),BJ31,0)) -> 0 | BJ31: =BD31-BE30 -> 0 | BK31: 0 | BL31: =BF31-BE32 -> 0 | BM31: =BG31-BE33 -> 0 | BN31: =RANK(BO31,BO30:BO33,1) -> 1 | BO31: =SUM(IF(AND(AJ31=AJ32),BR31,0),IF(AND(AJ31=AJ33),BS31,0),IF(AND(AJ31=AJ30),BP31,0)) -> 0 | BP31: {=SUM((I$4:I$49=AY31)*(N$4:N$49=BP29)*(K$4:K$49<>"")*(L$4:L$49<>"")*(K$4:K$49>L$4:L$49)*3,(N$4:N$49=AY31)*(I$4:I$49=BP29)*(K$4:K$49<>"")*(L$4:L$49<>"")*(K$4:K$49=L$4:L$49)*1,(N$4:N$49=AY31)*(I$4:I$49=BP29)*(K$4:K$49<>"")*(L$4:L$49<>"")*(K$4:K$49<L$4:L$49)*3,(I$4:I$49=AY31)*(N$4:N$49=BP29)*(K$4:K$49<>"")*(L$4:L$49<>"")*(K$4:K$49=L$4:L$49)*1)} -> 0 | BQ31: 0 | BR31: {=SUM((I$4:I$49=AY31)*(N$4:N$49=BR29)*(K$4:K$49<>"")*(L$4:L$49<>"")*(K$4:K$49>L$4:L$49)*3,(N$4:N$49=AY31)*(I$4:I$49=BR29)*(K$4:K$49<>"")*(L$4:L$49<>"")*(K$4:K$49=L$4:L$49)*1,(N$4:N$49=AY31)*(I$4:I$49=BR29)*(K$4:K$49<>"")*(L$4:L$49<>"")*(K$4:K$49<L$4:L$49)*3,(I$4:I$49=AY31)*(N$4:N$49=BR29)*(K$4:K$49<>"")*(L$4:L$49<>"")*(K$4:K$49=L$4:L$49)*1)} -> 0 | BS31: {=SUM((I$4:I$49=AY31)*(N$4:N$49=BS29)*(K$4:K$49<>"")*(L$4:L$49<>"")*(K$4:K$49>L$4:L$49)*3,(N$4:N$49=AY31)*(I$4:I$49=BS29)*(K$4:K$49<>"")*(L$4:L$49<>"")*(K$4:K$49=L$4:L$49)*1,(N$4:N$49=AY31)*(I$4:I$49=BS29)*(K$4:K$49<>"")*(L$4:L$49<>"")*(K$4:K$49<L$4:L$49)*3,(I$4:I$49=AY31)*(N$4:N$49=BS29)*(K$4:K$49<>"")*(L$4:L$49<>"")*(K$4:K$49=L$4:L$49)*1)} -> 0 | BT31: 2 | BU31: =RANK(BW31,$BW$30:$BW$33) -> 2 | BV31: =A30 -> Croacia | BW31: =IF(AK31=0,-($AW$14*VLOOKUP(AI31,Tabla3[[NombreEquipo]:[Rank]],3,FALSE)),AJ31*$AW$4+BA31+AQ31*$AW$11+AO31*$AW$12+AL31*$AW$13-($AW$14*VLOOKUP(AI31,Tabla3[[NombreEquipo]:[Rank]],3,FALSE)/100)) -> -14 | BX31: =VLOOKUP(Q31,$AH$30:$AI$33,2,0) -> Croacia | BY31: =VLOOKUP($BX31,$AI$30:$AR$33,10,FALSE) -> -14 | CA31: 2 | CB31: =VLOOKUP(CA31,$AH$30:$AI$33,2,0) -> Croacia | CC31: =VLOOKUP(CB31,$AI$30:$AR$33,2,FALSE) -> 0 | CD31: =IF(SUM($AK$30:$AK$33)=12,MIN(ABS(BY30-BY31),ABS(BY31-BY32)),100) -> 100 | CE31: =VLOOKUP($CB31,$AI$30:$AR$33,9,FALSE) -> 0 | CF31: =VLOOKUP($CB31,$AI$30:$AR$33,7,FALSE) -> 0 | CH31: {=IF($CI$30=$CL$29,$EC$29:$EC$32,IF($CI$30=$CM$29,$ED$29:$ED$31,IF(OR($CI$30=$CN$29,$CI$30=$CO$29),$EE$29:$EE$30,IF($CI$30=$CP$29,$EF$29:$EF$31,(IF($CI$30=$CQ$29,$EH$29:$EH$30,$EJ$29))))))} -> 2 | CK31: 2 | CL31: {=IF(AND($CC$30:$CC$33=$CC$31,$CD$30:$CD$33<90,$AQ$30:$AQ$33=$AQ$31,$CF$30:$CF$33=$CF$31),1,0)} -> 0 | CM31: {=IF(AND($CC$30:$CC$32=$CC$31,$CD$30:$CD$32<90,$CC$31<>$CC$33),1,0)} -> 0 | CN31: {=IF(AND($CC$30:$CC$31=$CC$30,$CD$30:$CD$31<90,$CC$30<>$CC$32),1,0)} -> 0 | CO31: {=IF(AND($CC$30:$CC$31=$CC$30,$CD$30:$CD$31<90,$CC$30<>$CC$32),1,0)} -> 0 | CP31: {=IF(AND($CC$31:$CC$33=$CC$31,$CD$31:$CD$33<90,$CC$30<>$CC$31),1,0)} -> 0 | CQ31: {=IF(AND($CC$31:$CC$32=$CC$31,$CD$31:$CD$32<90,$CC$31<>$CC$30,$CC$31<>$CC$33),1,0)} -> 0 | CR31: {=IF(AND($CC$31<>$CC$30,$CC$31<>$CC$32),1,0)} -> 0 | CS31: {=IF(AND($CC$31<>$CC$30,$CC$31<>$CC$32),1,0)} -> 0 | CT31: {=IF(AND($CC$30:$CC$33=$CC$30,$CD$30:$CD$33<90,$CE$30:$CE$31=$CE$30,$CE$31<>$CE$32),1,0)} -> 0 | CU31: {=IF(AND($CC$30:$CC$33=$CC$30,$CD$30:$CD$33<90,$CE$30:$CE$33=$CE$30,$CF$30=$CF$31,$CF$31<>$CF$32),1,0)} -> 0 | CV31: {=IF(AND($CC$30:$CC$32=$CC$31,$CD$30:$CD$31<90,$CD$32>90),1,0)} -> 0 | CW31: {=IF(AND($CC$31<>$CC$30,$CC$31:$CC$33=$CC$31,$CD$31>90,$CD$32:$CD$33<90),1,0)} -> 0 | CX31: {=IF(AND($CC$31<>$CC$30,$CC$31:$CC$33=$CC$31,$CD$33>90,$CD$31:$CD$32<90),1,0)} -> 0 | CY31: {=IF(AND($CC$31<>$CC$33,$CC$30:$CC$32=$CC$31,$CD$30>90,$CD$31:$CD$32<90),1,0)} -> 0 | CZ31: {=IF(AND($CC$30:$CC$33=$CC$31,$CD$31:$CD$33<90,$CD$30<>$CD$31),1,0)} -> 0 | DA31: {=IF(AND($CC$30:$CC$33=$CC$31,$CD$30:$CD$32<90,$CD$31<>$CD$33),1,0)} -> 0 | DB31: {=IF(AND($CC$30:$CC$33=$CC$31,$CD$30:$CD$31>90,$CD$32:$CD$33<90,$CE$30:$CE$33=$CE$31,$CF$30>$CF$31,$CF$31>$CF$32,$CF$31>$CF$33),1,0)} -> 0 | DC31: {=IF(AND($CC$30:$CC$33=$CC$31,$CD$30>90,$CD$31:$CD$32<90,$CD$33>90,$CE$30:$CE$33=$CE$31,$CF$30>$CF$31,$CF$31=$CF$32,$CF$31>$CF$33),1,0)} -> 0 | DD31: {=IF(AND($CC$30:$CC$33=$CC$31,$CD$30:$CD$31<90,$CD$32:$CD$33>90,$CE$30:$CE$33=$CE$31,$CF$30=$CF$31,$CF$31>$CF$32,$CF$31>$CF$33),1,0)} -> 0 | DE31: {=IF(AND($CC$30:$CC$33=$CC$31,$CD$30:$CD$31>90,$CD$32:$CD$33<90,$CE$30:$CE$33=$CE$31,$CF$30>$CF$31,$CF$31:$CF$33=$CF$31),1,0)} -> 0 | DF31: {=IF(AND($CC$30:$CC$33=$CC$31,$CD$30:$CD$31<90,$CD$32:$CD$33>90,$CE$30:$CE$33=$CE$31,$CF$30:$CF$32=$CF$31,$CF$31>$CF$33),1,0)} -> 0 | DG31: {=IF(AND($CC$30:$CC$33=$CC$31,$CD$30>90,$CD$33>90,$CD$31:$CD$32<90,$CE$30:$CE$33=$CE$31,$CF$30>$CF$31:$CF$33,$CF$31:$CF$33=$CF$31),1,0)} -> 0 | EC31: 3 | ED31: 3 | EF31: 4 | FI31: =RANK(FJ31,FJ30:FJ33,1) -> 1 | FJ31: =SUM(IF(AND(AJ31=AJ32,BC31=BC32,BI31=BI32,BO31=BO32),BF31,0),IF(AND(AJ31=AJ33,BC31=BC33,BI31=BI33,BO31=BO33),BG31,0),IF(AND(AJ31=AJ30,BC31=BC30,BI31=BI30,BO31=BO30),BD31,0)) -> 0 | FK31: =RANK(FL31,FL30:FL33,1) -> 1 | FL31: =SUM(IF(AND(AJ31=AJ32,BC31=BC32,BI31=BI32,BO31=BO32),BL31,0),IF(AND(AJ31=AJ33,BC31=BC33,BI31=BI33,BO31=BO33),BM31,0),IF(AND(AJ31=AJ30,BC31=BC30,BI31=BI30,BO31=BO30),BJ31,0)) -> 0 | FM31: =RANK(FN31,FN30:FN33,1) -> 1 | FN31: =SUM(IF(AND(AJ31=AJ32,BC31=BC32,BI31=BI32,BO31=BO32),BR31,0),IF(AND(AJ31=AJ33,BC31=BC33,BI31=BI33,BO31=BO33),BS31,0),IF(AND(AJ31=AJ30,BC31=BC30,BI31=BI30,BO31=BO30),BP31,0)) -> 0
A32: {=IF(ROWS(A$29:A32)<=$C$28,INDEX(INDIRECT(A$28),SMALL(IF(Nivell=$B$28,ROW(Nivell)-ROW(Equipos!$C$2)+1),ROWS(B$28:B31))),"")} -> República Checa | F32: =Horarios!A32 -> 44369.875 | G32: =Horarios!A32+VLOOKUP($G$2,Horarios!$K$4:$O$27,4,0)*VLOOKUP($G$2,Horarios!$K$4:$O$27,5,0) -> 44369.875 | H32: J3 | I32: =A32 -> República Checa | N32: =A29 -> Inglaterra | O32: =IF(NOT(OR(ISBLANK(K32),ISBLANK(L32))),1,0) -> 0 | Q32: 3 | R32: =VLOOKUP(Q32,$AG$30:$AI$33,3,0) -> Escocia | S32: =VLOOKUP(R32,$AI$30:$AR$33,2,FALSE) -> 0 | T32: =VLOOKUP($R32,$AI$30:$AR$33,3,FALSE) -> 0 | U32: =VLOOKUP($R32,$AI$30:$AR$33,4,FALSE) -> 0 | V32: =VLOOKUP($R32,$AI$30:$AR$33,5,FALSE) -> 0 | W32: =VLOOKUP($R32,$AI$30:$AR$33,6,FALSE) -> 0 | X32: =VLOOKUP($R32,$AI$30:$AR$33,7,FALSE) -> 0 | Y32: =VLOOKUP($R32,$AI$30:$AR$33,8,FALSE) -> 0 | Z32: =VLOOKUP($R32,$AI$30:$AR$33,9,FALSE) -> 0 | AA32: =IF(SUM($AK$30:$AK$33)=12,MIN(ABS(BY31-BY32),ABS(BY32-BY33)),100) -> 100 | AB32: =IF(AND(AA32>=0,AA32<90),VLOOKUP(Q32,$BU$30:$BV$33,2,0),"") | AF32: =VLOOKUP($R32,$AI$30:$AR$33,10,FALSE) -> -15 | AG32: =RANK(AU32,$AU$30:$AU$33) -> 3 | AH32: =RANK(AR32,$AR$30:$AR$33) -> 3 | AI32: =A31 -> Escocia | AJ32: =AL32*3+AM32*1+AN32*0 -> 0 | AK32: =COUNTIFS($I$4:$I$49,AI32,$K$4:$K$49,"<>",$L$4:$L$49,"<>")+COUNTIFS($N$4:$N$49,AI32,$L$4:$L$49,"<>",$K$4:$K$49,"<>") -> 0 | AL32: {=SUM(($I$4:$I$49=AI32)*($K$4:$K$49<>"")*($L$4:$L$49<>"")*($K$4:$K$49>$L$4:$L$49),($N$4:$N$49=AI32)*($K$4:$K$49<>"")*($L$4:$L$49<>"")*($K$4:$K$49<$L$4:$L$49))} -> 0 | AM32: {=SUM(($I$4:$I$49=AI32)*($K$4:$K$49<>"")*($L$4:$L$49<>"")*($K$4:$K$49=$L$4:$L$49),($N$4:$N$49=AI32)*($K$4:$K$49<>"")*($L$4:$L$49<>"")*($K$4:$K$49=$L$4:$L$49))} -> 0 | AN32: {=SUM(($I$4:$I$49=AI32)*($L$4:$L$49<>"")*($K$4:$K$49<>"")*($K$4:$K$49<$L$4:$L$49),($K$4:$K$49<>"")*($N$4:$N$49=AI32)*($L$4:$L$49<>"")*($K$4:$K$49>$L$4:$L$49))} -> 0 | AO32: {=SUMIFS($K$4:$K$49,$I$4:$I$49,AI32,$K$4:$K$49,"<>",$L$4:$L$49,"<>")+SUMIFS($L$4:$L$49,$N$4:$N$49,AI32,$K$4:$K$49,"<>",$L$4:$L$49,"<>")} -> 0 | AP32: {=SUMIFS($K$4:$K$49,$N$4:$N$49,AI32,$K$4:$K$49,"<>",$L$4:$L$49,"<>")+SUMIFS($L$4:$L$49,$I$4:$I$49,AI32,$K$4:$K$49,"<>",$L$4:$L$49,"<>")} -> 0 | AQ32: =AO32-AP32 -> 0 | AR32: =IF(AK32=0,-($AW$14*VLOOKUP(AI32,Tabla3[[NombreEquipo]:[Rank]],3,FALSE)),AJ32*$AW$4+BA32+AQ32*$AW$11+AO32*$AW$12+AL32*$AW$13-($AW$14*VLOOKUP(AI32,Tabla3[[NombreEquipo]:[Rank]],3,FALSE)/100)) -> -15 | AS32: =AH32 -> 3 | AU32: =IFERROR(AR32-VLOOKUP(AI32,$AB$30:$AC$33,2,0),AR32) -> -15 | AY32: =AI32 -> Escocia | AZ32: =COUNTIF(AJ30:AJ33,AJ32) -> 4 | BA32: =(BB32*$AW$7)+(BH32*$AW$6)+(BN32*$AW$5)+(FI32*$AW$10)+(FK32*$AW$9)+(FM32*$AW$8) -> 781200000 | BB32: =RANK(BC32,BC30:BC33,1) -> 1 | BC32: =SUM(IF(AND(AJ32=AJ33),BG32,0),IF(AND(AJ32=AJ30),BD32,0),IF(AND(AJ32=AJ31),BE32,0)) -> 0 | BD32: {=SUMIFS($K$28:$K$33,$I$28:$I$33,$AY32,$K$28:$K$33,"<>",$L$28:$L$33,"<>",$N$28:$N$33,BD29)+SUMIFS($L$28:$L$33,$I$28:$I$33,BD29,$K$28:$K$33,"<>",$L$28:$L$33,"<>",$N$28:$N$33,$AY32)} -> 0 | BE32: {=SUMIFS($K$28:$K$33,$I$28:$I$33,$AY32,$K$28:$K$33,"<>",$L$28:$L$33,"<>",$N$28:$N$33,BE29)+SUMIFS($L$28:$L$33,$I$28:$I$33,BE29,$K$28:$K$33,"<>",$L$28:$L$33,"<>",$N$28:$N$33,$AY32)} -> 0 | BF32: 0 | BG32: {=SUMIFS($K$28:$K$33,$I$28:$I$33,$AY32,$K$28:$K$33,"<>",$L$28:$L$33,"<>",$N$28:$N$33,BG29)+SUMIFS($L$28:$L$33,$I$28:$I$33,BG29,$K$28:$K$33,"<>",$L$28:$L$33,"<>",$N$28:$N$33,$AY32)} -> 0 | BH32: =RANK(BI32,BI30:BI33,1) -> 1 | BI32: =SUM(IF(AND(AJ32=AJ33),BM32,0),IF(AND(AJ32=AJ30),BJ32,0),IF(AND(AJ32=AJ31),BK32,0)) -> 0 | BJ32: =BD32-BF30 -> 0 | BK32: =BE32-BF31 -> 0 | BL32: 0 | BM32: =BG32-BF33 -> 0 | BN32: =RANK(BO32,BO30:BO33,1) -> 1 | BO32: =SUM(IF(AND(AJ32=AJ33),BS32,0),IF(AND(AJ32=AJ30),BP32,0),IF(AND(AJ32=AJ31),BQ32,0)) -> 0 | BP32: {=SUM((I$4:I$49=AY32)*(N$4:N$49=BP29)*(K$4:K$49<>"")*(L$4:L$49<>"")*(K$4:K$49>L$4:L$49)*3,(N$4:N$49=AY32)*(I$4:I$49=BP29)*(K$4:K$49<>"")*(L$4:L$49<>"")*(K$4:K$49=L$4:L$49)*1,(N$4:N$49=AY32)*(I$4:I$49=BP29)*(K$4:K$49<>"")*(L$4:L$49<>"")*(K$4:K$49<L$4:L$49)*3,(I$4:I$49=AY32)*(N$4:N$49=BP29)*(K$4:K$49<>"")*(L$4:L$49<>"")*(K$4:K$49=L$4:L$49)*1)} -> 0 | BQ32: {=SUM((I$4:I$49=AY32)*(N$4:N$49=BQ29)*(K$4:K$49<>"")*(L$4:L$49<>"")*(K$4:K$49>L$4:L$49)*3,(N$4:N$49=AY32)*(I$4:I$49=BQ29)*(K$4:K$49<>"")*(L$4:L$49<>"")*(K$4:K$49=L$4:L$49)*1,(N$4:N$49=AY32)*(I$4:I$49=BQ29)*(K$4:K$49<>"")*(L$4:L$49<>"")*(K$4:K$49<L$4:L$49)*3,(I$4:I$49=AY32)*(N$4:N$49=BQ29)*(K$4:K$49<>"")*(L$4:L$49<>"")*(K$4:K$49=L$4:L$49)*1)} -> 0 | BR32: 0 | BS32: {=SUM((I$4:I$49=AY32)*(N$4:N$49=BS29)*(K$4:K$49<>"")*(L$4:L$49<>"")*(K$4:K$49>L$4:L$49)*3,(N$4:N$49=AY32)*(I$4:I$49=BS29)*(K$4:K$49<>"")*(L$4:L$49<>"")*(K$4:K$49=L$4:L$49)*1,(N$4:N$49=AY32)*(I$4:I$49=BS29)*(K$4:K$49<>"")*(L$4:L$49<>"")*(K$4:K$49<L$4:L$49)*3,(I$4:I$49=AY32)*(N$4:N$49=BS29)*(K$4:K$49<>"")*(L$4:L$49<>"")*(K$4:K$49=L$4:L$49)*1)} -> 0 | BT32: 3 | BU32: =RANK(BW32,$BW$30:$BW$33) -> 3 | BV32: =A31 -> Escocia | BW32: =IF(AK32=0,-($AW$14*VLOOKUP(AI32,Tabla3[[NombreEquipo]:[Rank]],3,FALSE)),AJ32*$AW$4+BA32+AQ32*$AW$11+AO32*$AW$12+AL32*$AW$13-($AW$14*VLOOKUP(AI32,Tabla3[[NombreEquipo]:[Rank]],3,FALSE)/100)) -> -15 | BX32: =VLOOKUP(Q32,$AH$30:$AI$33,2,0) -> Escocia | BY32: =VLOOKUP($BX32,$AI$30:$AR$33,10,FALSE) -> -15 | CA32: 3 | CB32: =VLOOKUP(CA32,$AH$30:$AI$33,2,0) -> Escocia | CC32: =VLOOKUP(CB32,$AI$30:$AR$33,2,FALSE) -> 0 | CD32: =IF(SUM($AK$30:$AK$33)=12,MIN(ABS(BY31-BY32),ABS(BY32-BY33)),100) -> 100 | CE32: =VLOOKUP($CB32,$AI$30:$AR$33,9,FALSE) -> 0 | CF32: =VLOOKUP($CB32,$AI$30:$AR$33,7,FALSE) -> 0 | CH32: {=IF($CI$30=$CL$29,$EC$29:$EC$32,IF($CI$30=$CM$29,$ED$29:$ED$31,IF(OR($CI$30=$CN$29,$CI$30=$CR$29),$EG$29:$EG$30,IF($CI$30=$CP$29,$EF$29:$EF$31,(IF($CI$30=$CQ$29,$EH$29:$EH$30,$EK$29))))))} -> 3 | CK32: 3 | CL32: {=IF(AND($CC$30:$CC$33=$CC$32,$CD$30:$CD$33<90,$AQ$30:$AQ$33=$AQ$32,$CF$30:$CF$33=$CF$32),1,0)} -> 0 | CM32: {=IF(AND($CC$30:$CC$32=$CC$32,$CD$30:$CD$32<90,$CC$32<>$CC$33),1,0)} -> 0 | CN32: {=IF(AND($CC$32:$CC$33=$CC$32,$CD$32:$CD$33<90,$CC$32<>$CC$31),1,0)} -> 0 | CO32: {=IF(OR(AND($CC$32<>$CC$31,$CC$32<>$CC$33),AND($CC$32<>$CC$31,$CC$32=$CC$33,$CD$32>90,$CD$33>90)),1,0)} -> 0 | CP32: {=IF(AND($CC$31:$CC$33=$CC$31,$CD$31:$CD$33<90,$CC$30<>$CC$32),1,0)} -> 0 | CQ32: {=IF(AND($CC$31:$CC$32=$CC$32,$CD$31:$CD$32<90,$CC$32<>$CC$30,$CC$32<>$CC$33),1,0)} -> 0 | CR32: {=IF(AND($CC$32:$CC$33=$CC$32,$CD$32:$CD$33<90,$CC$32<>$CC$31),1,0)} -> 0 | CS32: {=IF(AND($CC$32<>$CC$31,$CC$32<>$CC$33),1,0)} -> 0 | CT32: {=IF(AND($CC$30:$CC$33=$CC$30,$CD$30:$CD$33<90,$CE$32:$CE$33=$CE$32,$CE$31<>$CE$32),1,0)} -> 0 | CU32: {=IF(AND($CC$30:$CC$33=$CC$30,$CD$30:$CD$33<90,$CE$30:$CE$33=$CE$30,$CF$32=$CF$33,$CF$31<>$CF$32),1,0)} -> 0 | CV32: {=IF(AND($CC$30:$CC$32=$CC$32,$CD$30:$CD$31<90,$CD$32>90),1,0)} -> 0 | CW32: {=IF(AND($CC$31<>$CC$30,$CC$31:$CC$33=$CC$32,$CD$31>90,$CD$32:$CD$33<90),1,0)} -> 0 | CX32: {=IF(AND($CC$31<>$CC$30,$CC$31:$CC$33=$CC$31,$CD$33>90,$CD$31:$CD$32<90),1,0)} -> 0 | CY32: {=IF(AND($CC$32<>$CC$33,$CC$30:$CC$32=$CC$32,$CD$30>90,$CD$31:$CD$32<90),1,0)} -> 0 | CZ32: {=IF(AND($CC$30:$CC$33=$CC$31,$CD$31:$CD$33<90,$CD$30<>$CD$32),1,0)} -> 0 | DA32: {=IF(AND($CC$30:$CC$33=$CC$32,$CD$30:$CD$32<90,$CD$32<>$CD$33),1,0)} -> 0 | DB32: {=IF(AND($CC$30:$CC$33=$CC$32,$CD$30:$CD$31>90,$CD$32:$CD$33<90,$CE$30:$CE$33=$CE$32,$CF$30>$CF$31,$CF$31>$CF$32,$CF$32=$CF$33),1,0)} -> 0 | DC32: {=IF(AND($CC$30:$CC$33=$CC$32,$CD$30>90,$CD$31:$CD$32<90,$CD$33>90,$CE$30:$CE$33=$CE$32,$CF$30>$CF$31,$CF$31=$CF$32,$CF$32>$CF$33),1,0)} -> 0 | DD32: {=IF(AND($CC$30:$CC$33=$CC$32,$CD$30:$CD$31<90,$CD$32:$CD$33>90,$CE$30:$CE$33=$CE$32,$CF$30=$CF$31,$CF$31>$CF$32,$CF$32>$CF$33),1,0)} -> 0 | DE32: {=IF(AND($CC$30:$CC$33=$CC$32,$CD$30:$CD$31>90,$CD$32:$CD$33<90,$CE$30:$CE$33=$CE$31,$CF$30>$CF$32,$CF$31:$CF$33=$CF$32),1,0)} -> 0 | DF32: {=IF(AND($CC$30:$CC$33=$CC$32,$CD$30:$CD$31<90,$CD$32:$CD$33>90,$CE$30:$CE$33=$CE$32,$CF$30:$CF$32=$CF$32,$CF$32>$CF$33),1,0)} -> 0 | DG32: {=IF(AND($CC$30:$CC$33=$CC$32,$CD$30>90,$CD$33>90,$CD$31:$CD$32<90,$CE$30:$CE$33=$CE$32,$CF$30>$CF$31:$CF$33,$CF$31:$CF$33=$CF$32),1,0)} -> 0 | EC32: 4 | FI32: =RANK(FJ32,FJ30:FJ33,1) -> 1 | FJ32: =SUM(IF(AND(AJ32=AJ33,BC32=BC33,BI32=BI33,BO32=BO33),BG32,0),IF(AND(AJ32=AJ30,BC32=BC30,BI32=BI30,BO32=BO30),BD32,0),IF(AND(AJ32=AJ31,BC32=BC31,BI32=BI31,BO32=BO31),BE32,0)) -> 0 | FK32: =RANK(FL32,FL30:FL33,1) -> 1 | FL32: =SUM(IF(AND(AJ32=AJ33,BC32=BC33,BI32=BI33,BO32=BO33),BM32,0),IF(AND(AJ32=AJ30,BC32=BC30,BI32=BI30,BO32=BO30),BJ32,0),IF(AND(AJ32=AJ31,BC32=BC31,BI32=BI31,BO32=BO31),BK32,0)) -> 0 | FM32: =RANK(FN32,FN30:FN33,1) -> 1 | FN32: =SUM(IF(AND(AJ32=AJ33,BC32=BC33,BI32=BI33,BO32=BO33),BS32,0),IF(AND(AJ32=AJ30,BC32=BC30,BI32=BI30,BO32=BO30),BP32,0),IF(AND(AJ32=AJ31,BC32=BC31,BI32=BI31,BO32=BO31),BQ32,0)) -> 0
F33: =Horarios!A33 -> 44369.875 | G33: =Horarios!A33+VLOOKUP($G$2,Horarios!$K$4:$O$27,4,0)*VLOOKUP($G$2,Horarios!$K$4:$O$27,5,0) -> 44369.875 | H33: J3 | I33: =A30 -> Croacia | N33: =A31 -> Escocia | O33: =IF(NOT(OR(ISBLANK(K33),ISBLANK(L33))),1,0) -> 0 | Q33: 4 | R33: =VLOOKUP(Q33,$AG$30:$AI$33,3,0) -> República Checa | S33: =VLOOKUP(R33,$AI$30:$AR$33,2,FALSE) -> 0 | T33: =VLOOKUP($R33,$AI$30:$AR$33,3,FALSE) -> 0 | U33: =VLOOKUP($R33,$AI$30:$AR$33,4,FALSE) -> 0 | V33: =VLOOKUP($R33,$AI$30:$AR$33,5,FALSE) -> 0 | W33: =VLOOKUP($R33,$AI$30:$AR$33,6,FALSE) -> 0 | X33: =VLOOKUP($R33,$AI$30:$AR$33,7,FALSE) -> 0 | Y33: =VLOOKUP($R33,$AI$30:$AR$33,8,FALSE) -> 0 | Z33: =VLOOKUP($R33,$AI$30:$AR$33,9,FALSE) -> 0 | AA33: =IF(SUM($AK$30:$AK$33)=12,MIN(ABS(BY32-BY33),ABS(BY33-BY34)),100) -> 100 | AB33: =IF(AND(AA33>=0,AA33<90),VLOOKUP(Q33,$BU$30:$BV$33,2,0),"") | AF33: =VLOOKUP($R33,$AI$30:$AR$33,10,FALSE) -> -16 | AG33: =RANK(AU33,$AU$30:$AU$33) -> 4 | AH33: =RANK(AR33,$AR$30:$AR$33) -> 4 | AI33: =A32 -> República Checa | AJ33: =AL33*3+AM33*1+AN33*0 -> 0 | AK33: =COUNTIFS($I$4:$I$49,AI33,$K$4:$K$49,"<>",$L$4:$L$49,"<>")+COUNTIFS($N$4:$N$49,AI33,$L$4:$L$49,"<>",$K$4:$K$49,"<>") -> 0 | AL33: {=SUM(($I$4:$I$49=AI33)*($K$4:$K$49<>"")*($L$4:$L$49<>"")*($K$4:$K$49>$L$4:$L$49),($N$4:$N$49=AI33)*($K$4:$K$49<>"")*($L$4:$L$49<>"")*($K$4:$K$49<$L$4:$L$49))} -> 0 | AM33: {=SUM(($I$4:$I$49=AI33)*($K$4:$K$49<>"")*($L$4:$L$49<>"")*($K$4:$K$49=$L$4:$L$49),($N$4:$N$49=AI33)*($K$4:$K$49<>"")*($L$4:$L$49<>"")*($K$4:$K$49=$L$4:$L$49))} -> 0 | AN33: {=SUM(($I$4:$I$49=AI33)*($L$4:$L$49<>"")*($K$4:$K$49<>"")*($K$4:$K$49<$L$4:$L$49),($K$4:$K$49<>"")*($N$4:$N$49=AI33)*($L$4:$L$49<>"")*($K$4:$K$49>$L$4:$L$49))} -> 0 | AO33: {=SUMIFS($K$4:$K$49,$I$4:$I$49,AI33,$K$4:$K$49,"<>",$L$4:$L$49,"<>")+SUMIFS($L$4:$L$49,$N$4:$N$49,AI33,$K$4:$K$49,"<>",$L$4:$L$49,"<>")} -> 0 | AP33: {=SUMIFS($K$4:$K$49,$N$4:$N$49,AI33,$K$4:$K$49,"<>",$L$4:$L$49,"<>")+SUMIFS($L$4:$L$49,$I$4:$I$49,AI33,$K$4:$K$49,"<>",$L$4:$L$49,"<>")} -> 0 | AQ33: =AO33-AP33 -> 0 | AR33: =IF(AK33=0,-($AW$14*VLOOKUP(AI33,Tabla3[[NombreEquipo]:[Rank]],3,FALSE)),AJ33*$AW$4+BA33+AQ33*$AW$11+AO33*$AW$12+AL33*$AW$13-($AW$14*VLOOKUP(AI33,Tabla3[[NombreEquipo]:[Rank]],3,FALSE)/100)) -> -16 | AS33: =AH33 -> 4 | AU33: =IFERROR(AR33-VLOOKUP(AI33,$AB$30:$AC$33,2,0),AR33) -> -16 | AY33: =AI33 -> República Checa | AZ33: =COUNTIF(AJ30:AJ33,AJ33) -> 4 | BA33: =(BB33*$AW$7)+(BH33*$AW$6)+(BN33*$AW$5)+(FI33*$AW$10)+(FK33*$AW$9)+(FM33*$AW$8) -> 781200000 | BB33: =RANK(BC33,BC30:BC33,1) -> 1 | BC33: =SUM(IF(AND(AJ33=AJ30),BD33,0),IF(AND(AJ33=AJ31),BE33,0),IF(AND(AJ33=AJ32),BF33,0)) -> 0 | BD33: {=SUMIFS($K$28:$K$33,$I$28:$I$33,$AY33,$K$28:$K$33,"<>",$L$28:$L$33,"<>",$N$28:$N$33,BD29)+SUMIFS($L$28:$L$33,$I$28:$I$33,BD29,$K$28:$K$33,"<>",$L$28:$L$33,"<>",$N$28:$N$33,$AY33)} -> 0 | BE33: {=SUMIFS($K$28:$K$33,$I$28:$I$33,$AY33,$K$28:$K$33,"<>",$L$28:$L$33,"<>",$N$28:$N$33,BE29)+SUMIFS($L$28:$L$33,$I$28:$I$33,BE29,$K$28:$K$33,"<>",$L$28:$L$33,"<>",$N$28:$N$33,$AY33)} -> 0 | BF33: {=SUMIFS($K$28:$K$33,$I$28:$I$33,$AY33,$K$28:$K$33,"<>",$L$28:$L$33,"<>",$N$28:$N$33,BF29)+SUMIFS($L$28:$L$33,$I$28:$I$33,BF29,$K$28:$K$33,"<>",$L$28:$L$33,"<>",$N$28:$N$33,$AY33)} -> 0 | BG33: 0 | BH33: =RANK(BI33,BI30:BI33,1) -> 1 | BI33: =SUM(IF(AND(AJ33=AJ30),BJ33,0),IF(AND(AJ33=AJ31),BK33,0),IF(AND(AJ33=AJ32),BL33,0)) -> 0 | BJ33: =BD33-BG30 -> 0 | BK33: =BE33-BG31 -> 0 | BL33: =BF33-BG32 -> 0 | BM33: 0 | BN33: =RANK(BO33,BO30:BO33,1) -> 1 | BO33: =SUM(IF(AND(AJ33=AJ30),BP33,0),IF(AND(AJ33=AJ31),BQ33,0),IF(AND(AJ33=AJ32),BR33,0)) -> 0 | BP33: {=SUM((I$4:I$49=AY33)*(N$4:N$49=BP29)*(K$4:K$49<>"")*(L$4:L$49<>"")*(K$4:K$49>L$4:L$49)*3,(N$4:N$49=AY33)*(I$4:I$49=BP29)*(K$4:K$49<>"")*(L$4:L$49<>"")*(K$4:K$49=L$4:L$49)*1,(N$4:N$49=AY33)*(I$4:I$49=BP29)*(K$4:K$49<>"")*(L$4:L$49<>"")*(K$4:K$49<L$4:L$49)*3,(I$4:I$49=AY33)*(N$4:N$49=BP29)*(K$4:K$49<>"")*(L$4:L$49<>"")*(K$4:K$49=L$4:L$49)*1)} -> 0 | BQ33: {=SUM((I$4:I$49=AY33)*(N$4:N$49=BQ29)*(K$4:K$49<>"")*(L$4:L$49<>"")*(K$4:K$49>L$4:L$49)*3,(N$4:N$49=AY33)*(I$4:I$49=BQ29)*(K$4:K$49<>"")*(L$4:L$49<>"")*(K$4:K$49=L$4:L$49)*1,(N$4:N$49=AY33)*(I$4:I$49=BQ29)*(K$4:K$49<>"")*(L$4:L$49<>"")*(K$4:K$49<L$4:L$49)*3,(I$4:I$49=AY33)*(N$4:N$49=BQ29)*(K$4:K$49<>"")*(L$4:L$49<>"")*(K$4:K$49=L$4:L$49)*1)} -> 0 | BR33: {=SUM((I$4:I$49=AY33)*(N$4:N$49=BR29)*(K$4:K$49<>"")*(L$4:L$49<>"")*(K$4:K$49>L$4:L$49)*3,(N$4:N$49=AY33)*(I$4:I$49=BR29)*(K$4:K$49<>"")*(L$4:L$49<>"")*(K$4:K$49=L$4:L$49)*1,(N$4:N$49=AY33)*(I$4:I$49=BR29)*(K$4:K$49<>"")*(L$4:L$49<>"")*(K$4:K$49<L$4:L$49)*3,(I$4:I$49=AY33)*(N$4:N$49=BR29)*(K$4:K$49<>"")*(L$4:L$49<>"")*(K$4:K$49=L$4:L$49)*1)} -> 0 | BS33: 0 | BT33: 4 | BU33: =RANK(BW33,$BW$30:$BW$33) -> 4 | BV33: =A32 -> República Checa | BW33: =IF(AK33=0,-($AW$14*VLOOKUP(AI33,Tabla3[[NombreEquipo]:[Rank]],3,FALSE)),AJ33*$AW$4+BA33+AQ33*$AW$11+AO33*$AW$12+AL33*$AW$13-($AW$14*VLOOKUP(AI33,Tabla3[[NombreEquipo]:[Rank]],3,FALSE)/100)) -> -16 | BX33: =VLOOKUP(Q33,$AH$30:$AI$33,2,0) -> República Checa | BY33: =VLOOKUP($BX33,$AI$30:$AR$33,10,FALSE) -> -16 | CA33: 4 | CB33: =VLOOKUP(CA33,$AH$30:$AI$33,2,0) -> República Checa | CC33: =VLOOKUP(CB33,$AI$30:$AR$33,2,FALSE) -> 0 | CD33: =IF(SUM($AK$30:$AK$33)=12,MIN(ABS(BY32-BY33),ABS(BY33-BY34)),100) -> 100 | CE33: =VLOOKUP($CB33,$AI$30:$AR$33,9,FALSE) -> 0 | CF33: =VLOOKUP($CB33,$AI$30:$AR$33,7,FALSE) -> 0 | CH33: {=IF($CI$30=$CL$29,$EC$29:$EC$32,IF(OR($CI$30=$CN$29,$CI$30=$CR$29),$EG$29:$EG$30,IF($CI$30=$CP$29,$EF$29:$EF$31,$EL$29)))} -> 4 | CK33: 4 | CL33: {=IF(AND($CC$30:$CC$33=$CC$33,$CD$30:$CD$33<90,$AQ$30:$AQ$33=$AQ$33,$CF$30:$CF$33=$CF$33),1,0)} -> 0 | CM33: {=IF(AND($CC$30:$CC$32=$CC$30,$CD$30:$CD$32<90,$CD$33>90,$CC$30<>$CC$33),1,0)} -> 0 | CN33: {=IF(AND($CC$32:$CC$33=$CC$32,$CD$32:$CD$33<90,$CC$32<>$CC$31),1,0)} -> 0 | CO33: {=IF(AND($CC$33<>$CC$31,$CC$33<>$CC$30),1,0)} -> 0 | CP33: {=IF(AND($CC$31:$CC$33=$CC$31,$CD$31:$CD$33<90,$CC$30<>$CC$33),1,0)} -> 0 | CQ33: {=IF(AND($CC$33<>$CC$31,$CC$33<>$CC$30),1,0)} -> 0 | CR33: {=IF(AND($CC$32:$CC$33=$CC$32,$CD$32:$CD$33<90,$CC$32<>$CC$31),1,0)} -> 0 | CS33: {=IF(AND($CC$33<>$CC$31,$CC$33<>$CC$30),1,0)} -> 0 | CT33: {=IF(AND($CC$30:$CC$33=$CC$30,$CD$30:$CD$33<90,$CE$32:$CE$33=$CE$33,$CE$31<>$CE$33),1,0)} -> 0 | CU33: {=IF(AND($CC$30:$CC$33=$CC$30,$CD$30:$CD$33<90,$CE$30:$CE$33=$CE$30,$CF$32=$CF$33,$CF$31<>$CF$32),1,0)} -> 0 | CV33: {=IF(AND($CC$30:$CC$32=$CC$30,$CD$30:$CD$31<90,$CC$32<>$CC$33),1,0)} -> 0 | CW33: {=IF(AND($CC$31<>$CC$30,$CC$31:$CC$33=$CC$32,$CD$31>90,$CD$32:$CD$33<90),1,0)} -> 0 | CX33: {=IF(AND($CC$31<>$CC$30,$CC$31:$CC$33=$CC$31,$CD$33>90,$CD$31:$CD$32<90),1,0)} -> 0 | CY33: {=IF(AND($CC$33<>$CC$31,$CC$33<>$CC$32),1,0)} -> 0 | CZ33: {=IF(AND($CC$30:$CC$33=$CC$31,$CD$31:$CD$33<90,$CD$30<>$CD$33),1,0)} -> 0 | DA33: {=IF(AND($CC$30:$CC$33=$CC$30,$CD$30:$CD$32<90,$CD$32<>$CD$33),1,0)} -> 0 | DB33: {=IF(AND($CC$30:$CC$33=$CC$33,$CD$30:$CD$31>90,$CD$32:$CD$33<90,$CE$30:$CE$33=$CE$33,$CF$30>$CF$31,$CF$31>$CF$33,$CF$32=$CF$33),1,0)} -> 0 | DC33: {=IF(AND($CC$30:$CC$33=$CC$31,$CD$30>90,$CD$31:$CD$32<90,$CD$33>90,$CE$30:$CE$33=$CE$33,$CF$30>$CF$33,$CF$31=$CF$32,$CF$31>$CF$33),1,0)} -> 0 | DD33: {=IF(AND($CC$30:$CC$33=$CC$33,$CD$30:$CD$31<90,$CD$32:$CD$33>90,$CE$30:$CE$33=$CE$33,$CF$30=$CF$31,$CF$31>$CF$32,$CF$32>$CF$33),1,0)} -> 0 | DE33: {=IF(AND($CC$30:$CC$33=$CC$33,$CD$30:$CD$31>90,$CD$32:$CD$33<90,$CE$30:$CE$33=$CE$33,$CF$30>$CF$33,$CF$31:$CF$33=$CF$33),1,0)} -> 0 | DF33: {=IF(AND($CC$30:$CC$33=$CC$33,$CD$30:$CD$31<90,$CD$32:$CD$33>90,$CE$30:$CE$33=$CE$33,$CF$30:$CF$32=$CF$32,$CF$30:$CF$32>$CF$33),1,0)} -> 0 | DG33: {=IF(AND($CC$30:$CC$33=$CC$33,$CD$30>90,$CD$33>90,$CD$31:$CD$32<90,$CE$30:$CE$33=$CE$33,$CF$30>$CF$31:$CF$33,$CF$31:$CF$33=$CF$33),1,0)} -> 0 | FI33: =RANK(FJ33,FJ30:FJ33,1) -> 1 | FJ33: =SUM(IF(AND(AJ33=AJ30,BC33=BC30,BI33=BI30,BO33=BO30),BD33,0),IF(AND(AJ33=AJ31,BC33=BC31,BI33=BI31,BO33=BO31),BE33,0),IF(AND(AJ33=AJ32,BC33=BC32,BI33=BI32,BO33=BO32),BF33,0)) -> 0 | FK33: =RANK(FL33,FL30:FL33,1) -> 1 | FL33: =SUM(IF(AND(AJ33=AJ30,BC33=BC30,BI33=BI30,BO33=BO30),BJ33,0),IF(AND(AJ33=AJ31,BC33=BC31,BI33=BI31,BO33=BO31),BK33,0),IF(AND(AJ33=AJ32,BC33=BC32,BI33=BI32,BO33=BO32),BL33,0)) -> 0 | FM33: =RANK(FN33,FN30:FN33,1) -> 1 | FN33: =SUM(IF(AND(AJ33=AJ30,BC33=BC30,BI33=BI30,BO33=BO30),BP33,0),IF(AND(AJ33=AJ31,BC33=BC31,BI33=BI31,BO33=BO31),BQ33,0),IF(AND(AJ33=AJ32,BC33=BC32,BI33=BI32,BO33=BO32),BR33,0)) -> 0
F35: =F19 -> Fecha | G35: =G19 -> Hora | H35: =H19 -> Jor. | I35: =I19 -> Casa | K35: =K19 -> Gol | L35: =L19 -> Gol | N35: =N19 -> Fuera | CL35: 1 | CM35: 12 | CN35: 18 | CO35: 19 | CP35: 13 | CQ35: 20 | CR35: 21 | CS35: 22 | CT35: 3 | CU35: 2 | CV35: 14 | CW35: 17 | CX35: 16 | CY35: 15 | CZ35: 4 | DA35: 5 | DB35: 10 | DC35: 8 | DD35: 6 | DE35: 11 | DF35: 7 | DG35: 9 | EC35: OP1 | ED35: OP2 | EE35: OP3 | EF35: OP4 | EG35: OP5 | EH35: OP6 | EI35: OP7 | EJ35: OP8 | EK35: OP9 | EL35: OP10
A36: NombreEquipo | B36: E | C36: =COUNTIF(Equipos!$C$2:$C$25,EUROCOPA!B36) -> 4 | E36: E | F36: =Horarios!A36 -> 44361.75 | G36: =Horarios!A36+VLOOKUP($G$2,Horarios!$K$4:$O$27,4,0)*VLOOKUP($G$2,Horarios!$K$4:$O$27,5,0) -> 44361.75 | H36: J1 | I36: =A39 -> Polonia | N36: =A40 -> Eslovaquia | O36: =IF(NOT(OR(ISBLANK(K36),ISBLANK(L36))),1,0) -> 0 | Q36: =CONCATENATE("Grupo"," ",B36) -> Grupo E | AB36: ¡EMPATE! Puedes seleccionar el orden de los empatados. | AH36: =CONCATENATE("Auxiliar - ",Q36) -> Auxiliar - Grupo E | AU36: NR | AY36: =CONCATENATE(Q36," - GOLAVERAGE") -> Grupo E - GOLAVERAGE | BB36: Goles - Partidos Cruzados | BH36: Diferencia de Goles - Partidos Cruzados | CI36: Valor | CK36: Sum | CL36: =SUM(CL38:CL41) -> 0 | CM36: =SUM(CM38:CM41) -> 0 | CN36: =SUM(CN38:CN41) -> 0 | CO36: =SUM(CO38:CO41) -> 0 | CP36: =SUM(CP38:CP41) -> 0 | CQ36: =SUM(CQ38:CQ41) -> 0 | CR36: =SUM(CR38:CR41) -> 0 | CS36: =SUM(CS38:CS41) -> 0 | ... DG36: =SUM(DG38:DG41) -> 0 | EC36: 1234 | ED36: 123 | EE36: 12 | EF36: 234 | EG36: 34 | EH36: 23 | EI36: 1 | EJ36: 2 | EK36: 3 | EL36: 4 | FI36: Goles - Partidos Cruzados | FK36: Diferencia de Goles - Partidos Cruzados
A37: {=IF(ROWS(A$37:A37)<=$C$36,INDEX(INDIRECT(A$36),SMALL(IF(Nivell=$B$36,ROW(Nivell)-ROW(Equipos!$C$2)+1),ROWS(B$36:B36))),"")} -> España | F37: =Horarios!A37 -> 44361.875 | G37: =Horarios!A37+VLOOKUP($G$2,Horarios!$K$4:$O$27,4,0)*VLOOKUP($G$2,Horarios!$K$4:$O$27,5,0) -> 44361.875 | H37: J1 | I37: =A37 -> España | N37: =A38 -> Suecia | O37: =IF(NOT(OR(ISBLANK(K37),ISBLANK(L37))),1,0) -> 0 | Q37: Pos | R37: Selección | S37: Pts | T37: J | U37: G | V37: E | W37: P | X37: GF | Y37: GC | Z37: DG | AA37: =COUNTIF(AA38:AA41,"<100") -> 0 | AG37: NR | AH37: Puesto | AI37: Equipo | AJ37: Ptos | AK37: J | AL37: G | AM37: E | AN37: P | AO37: GF | AP37: GC | AQ37: Dif | AR37: Rank | AS37: Puesto | AY37: Equipo | AZ37: NEquipEqual | BA37: PUNTOS | BB37: Ranking Inv | BC37: Entre Iguales | BD37: =AY38 -> España | BE37: =AY39 -> Suecia | BF37: =AY40 -> Polonia | BG37: =AY41 -> Eslovaquia | BH37: Ranking Inv | BI37: Entre Iguales | BJ37: =BD37 -> España | BK37: =BE37 -> Suecia | BL37: =BF37 -> Polonia | BM37: =BG37 -> Eslovaquia | BN37: Ranking Inv | BO37: Entre Iguales | BP37: =BD37 -> España | BQ37: =BE37 -> Suecia | BR37: =BF37 -> Polonia | BS37: =BG37 -> Eslovaquia | BV37: Inicio | BX37: 1R | CB37: Equipo | CC37: Ptos | CD37: Signo | CE37: Dif | CF37: Gf | CK37: Com | CL37: COM_1 | CM37: COM_2 | CN37: COM_3 | CO37: COM_4 | CP37: COM_5 | CQ37: COM_6 | CR37: COM_7 | CS37: COM_8 | CT37: COM_3 | CU37: COM_3 | CV37: COM_4 | CW37: COM_7 | CX37: COM_6 | CY37: COM_6 | CZ37: COM_5 | DA37: COM_2 | DB37: COM_7 | DC37: COM_6 | DD37: COM_4 | DE37: COM_7 | DF37: COM_4 | DG37: COM_6 | EC37: 1 | ED37: 1 | EE37: 1 | EF37: 2 | EG37: 3 | EH37: 2 | EI37: 1 | EJ37: 2 | EK37: 3 | EL37: 4 | FI37: Ranking Inv | FK37: Ranking Inv | FM37: Ranking Inv
A38: {=IF(ROWS(A$37:A38)<=$C$36,INDEX(INDIRECT(A$36),SMALL(IF(Nivell=$B$36,ROW(Nivell)-ROW(Equipos!$C$2)+1),ROWS(B$36:B37))),"")} -> Suecia | F38: =Horarios!A38 -> 44365.625 | G38: =Horarios!A38+VLOOKUP($G$2,Horarios!$K$4:$O$27,4,0)*VLOOKUP($G$2,Horarios!$K$4:$O$27,5,0) -> 44365.625 | H38: J2 | I38: =A38 -> Suecia | N38: =A40 -> Eslovaquia | O38: =IF(NOT(OR(ISBLANK(K38),ISBLANK(L38))),1,0) -> 0 | Q38: 1 | R38: =VLOOKUP(Q38,$AG$38:$AI$41,3,0) -> España | S38: =VLOOKUP(R38,$AI$38:$AR$41,2,FALSE) -> 0 | T38: =VLOOKUP($R38,$AI$38:$AR$41,3,FALSE) -> 0 | U38: =VLOOKUP($R38,$AI$38:$AR$41,4,FALSE) -> 0 | V38: =VLOOKUP($R38,$AI$38:$AR$41,5,FALSE) -> 0 | W38: =VLOOKUP($R38,$AI$38:$AR$41,6,FALSE) -> 0 | X38: =VLOOKUP($R38,$AI$38:$AR$41,7,FALSE) -> 0 | Y38: =VLOOKUP($R38,$AI$38:$AR$41,8,FALSE) -> 0 | Z38: =VLOOKUP($R38,$AI$38:$AR$41,9,FALSE) -> 0 | AA38: =IF(SUM($AK$38:$AK$41)=12,MIN(ABS(BY37-BY38),ABS(BY38-BY39)),100) -> 100 | AB38: =IF(AND(AA38>=0,AA38<90),VLOOKUP(Q38,$BU$38:$BV$41,2,0),"") | AF38: =VLOOKUP($R38,$AI$38:$AR$41,10,FALSE) -> -17 | AG38: =RANK(AU38,$AU$38:$AU$41) -> 1 | AH38: =RANK(AR38,$AR$38:$AR$41) -> 1 | AI38: =A37 -> España | AJ38: =AL38*3+AM38*1+AN38*0 -> 0 | AK38: =COUNTIFS($I$4:$I$49,AI38,$K$4:$K$49,"<>",$L$4:$L$49,"<>")+COUNTIFS($N$4:$N$49,AI38,$L$4:$L$49,"<>",$K$4:$K$49,"<>") -> 0 | AL38: {=SUM(($I$4:$I$49=AI38)*($K$4:$K$49<>"")*($L$4:$L$49<>"")*($K$4:$K$49>$L$4:$L$49),($N$4:$N$49=AI38)*($K$4:$K$49<>"")*($L$4:$L$49<>"")*($K$4:$K$49<$L$4:$L$49))} -> 0 | AM38: {=SUM(($I$4:$I$49=AI38)*($K$4:$K$49<>"")*($L$4:$L$49<>"")*($K$4:$K$49=$L$4:$L$49),($N$4:$N$49=AI38)*($K$4:$K$49<>"")*($L$4:$L$49<>"")*($K$4:$K$49=$L$4:$L$49))} -> 0 | AN38: {=SUM(($I$4:$I$49=AI38)*($L$4:$L$49<>"")*($K$4:$K$49<>"")*($K$4:$K$49<$L$4:$L$49),($K$4:$K$49<>"")*($N$4:$N$49=AI38)*($L$4:$L$49<>"")*($K$4:$K$49>$L$4:$L$49))} -> 0 | AO38: {=SUMIFS($K$4:$K$49,$I$4:$I$49,AI38,$K$4:$K$49,"<>",$L$4:$L$49,"<>")+SUMIFS($L$4:$L$49,$N$4:$N$49,AI38,$K$4:$K$49,"<>",$L$4:$L$49,"<>")} -> 0 | AP38: {=SUMIFS($K$4:$K$49,$N$4:$N$49,AI38,$K$4:$K$49,"<>",$L$4:$L$49,"<>")+SUMIFS($L$4:$L$49,$I$4:$I$49,AI38,$K$4:$K$49,"<>",$L$4:$L$49,"<>")} -> 0 | AQ38: =AO38-AP38 -> 0 | AR38: =IF(AK38=0,-($AW$14*VLOOKUP(AI38,Tabla3[[NombreEquipo]:[Rank]],3,FALSE)),AJ38*$AW$4+BA38+AQ38*$AW$11+AO38*$AW$12+AL38*$AW$13-($AW$14*VLOOKUP(AI38,Tabla3[[NombreEquipo]:[Rank]],3,FALSE)/100)) -> -17 | AS38: =AH38 -> 1 | AU38: =IFERROR(AR38-VLOOKUP(AI38,$AB$38:$AC$41,2,0),AR38) -> -17 | AY38: =AI38 -> España | AZ38: =COUNTIF(AJ38:AJ41,AJ38) -> 4 | BA38: =(BB38*$AW$7)+(BH38*$AW$6)+(BN38*$AW$5)+(FI38*$AW$10)+(FK38*$AW$9)+(FM38*$AW$8) -> 781200000 | BB38: =RANK(BC38,BC38:BC41,1) -> 1 | BC38: =SUM(IF(AND(AJ38=AJ39),BE38,0),IF(AND(AJ38=AJ40),BF38,0),IF(AND(AJ38=AJ41),BG38,0)) -> 0 | BD38: 0 | BE38: {=SUMIFS($K$36:$K$41,$I$36:$I$41,$AY38,$K$36:$K$41,"<>",$L$36:$L$41,"<>",$N$36:$N$41,BE37)+SUMIFS($L$36:$L$41,$I$36:$I$41,BE37,$K$36:$K$41,"<>",$L$36:$L$41,"<>",$N$36:$N$41,$AY38)} -> 0 | BF38: {=SUMIFS($K$36:$K$41,$I$36:$I$41,$AY38,$K$36:$K$41,"<>",$L$36:$L$41,"<>",$N$36:$N$41,BF37)+SUMIFS($L$36:$L$41,$I$36:$I$41,BF37,$K$36:$K$41,"<>",$L$36:$L$41,"<>",$N$36:$N$41,$AY38)} -> 0 | BG38: {=SUMIFS($K$36:$K$41,$I$36:$I$41,$AY38,$K$36:$K$41,"<>",$L$36:$L$41,"<>",$N$36:$N$41,BG37)+SUMIFS($L$36:$L$41,$I$36:$I$41,BG37,$K$36:$K$41,"<>",$L$36:$L$41,"<>",$N$36:$N$41,$AY38)} -> 0 | BH38: =RANK(BI38,BI38:BI41,1) -> 1 | BI38: =SUM(IF(AND(AJ38=AJ39),BK38,0),IF(AND(AJ38=AJ40),BL38,0),IF(AND(AJ38=AJ41),BM38,0)) -> 0 | BJ38: 0 | BK38: =BE38-BD39 -> 0 | BL38: =BF38-BD40 -> 0 | BM38: =BG38-BD41 -> 0 | BN38: =RANK(BO38,BO38:BO41,1) -> 1 | BO38: =SUM(IF(AND(AJ38=AJ39),BQ38,0),IF(AND(AJ38=AJ40),BR38,0),IF(AND(AJ38=AJ41),BS38,0)) -> 0 | BP38: 0 | BQ38: {=SUM((I$4:I$49=AY38)*(N$4:N$49=BQ37)*(K$4:K$49<>"")*(L$4:L$49<>"")*(K$4:K$49>L$4:L$49)*3,(N$4:N$49=AY38)*(I$4:I$49=BQ37)*(K$4:K$49<>"")*(L$4:L$49<>"")*(K$4:K$49=L$4:L$49)*1,(N$4:N$49=AY38)*(I$4:I$49=BQ37)*(K$4:K$49<>"")*(L$4:L$49<>"")*(K$4:K$49<L$4:L$49)*3,(I$4:I$49=AY38)*(N$4:N$49=BQ37)*(K$4:K$49<>"")*(L$4:L$49<>"")*(K$4:K$49=L$4:L$49)*1)} -> 0 | BR38: {=SUM((I$4:I$49=AY38)*(N$4:N$49=BR37)*(K$4:K$49<>"")*(L$4:L$49<>"")*(K$4:K$49>L$4:L$49)*3,(N$4:N$49=AY38)*(I$4:I$49=BR37)*(K$4:K$49<>"")*(L$4:L$49<>"")*(K$4:K$49=L$4:L$49)*1,(N$4:N$49=AY38)*(I$4:I$49=BR37)*(K$4:K$49<>"")*(L$4:L$49<>"")*(K$4:K$49<L$4:L$49)*3,(I$4:I$49=AY38)*(N$4:N$49=BR37)*(K$4:K$49<>"")*(L$4:L$49<>"")*(K$4:K$49=L$4:L$49)*1)} -> 0 | BS38: {=SUM((I$4:I$49=AY38)*(N$4:N$49=BS37)*(K$4:K$49<>"")*(L$4:L$49<>"")*(K$4:K$49>L$4:L$49)*3,(N$4:N$49=AY38)*(I$4:I$49=BS37)*(K$4:K$49<>"")*(L$4:L$49<>"")*(K$4:K$49=L$4:L$49)*1,(N$4:N$49=AY38)*(I$4:I$49=BS37)*(K$4:K$49<>"")*(L$4:L$49<>"")*(K$4:K$49<L$4:L$49)*3,(I$4:I$49=AY38)*(N$4:N$49=BS37)*(K$4:K$49<>"")*(L$4:L$49<>"")*(K$4:K$49=L$4:L$49)*1)} -> 0 | BT38: 1 | BU38: =RANK(BW38,$BW$38:$BW$41) -> 1 | BV38: =A37 -> España | BW38: =IF(AK38=0,-($AW$14*VLOOKUP(AI38,Tabla3[[NombreEquipo]:[Rank]],3,FALSE)),AJ38*$AW$4+BA38+AQ38*$AW$11+AO38*$AW$12+AL38*$AW$13-($AW$14*VLOOKUP(AI38,Tabla3[[NombreEquipo]:[Rank]],3,FALSE)/100)) -> -17 | BX38: =VLOOKUP(Q38,$AH$38:$AI$41,2,0) -> España | BY38: =VLOOKUP($BX38,$AI$38:$AR$41,10,FALSE) -> -17 | CA38: 1 | CB38: =VLOOKUP(CA38,$AH$38:$AI$41,2,0) -> España | CC38: =VLOOKUP(CB38,$AI$38:$AR$41,2,FALSE) -> 0 | CD38: =IF(SUM($AK$38:$AK$41)=12,MIN(ABS(BY37-BY38),ABS(BY38-BY39)),100) -> 100 | CE38: =VLOOKUP($CB38,$AI$38:$AR$41,9,FALSE) -> 0 | CF38: =VLOOKUP($CB38,$AI$38:$AR$41,7,FALSE) -> 0 | CH38: {=IF($CI$38=$CL$37,$EC$37:$EC$40,IF($CI$38=$CM$37,$ED$37:$ED$39,IF(OR($CI$38=$CN$37,$CI$38=$CO$37),$EE$37:$EE$38,$EI$37)))} -> 1 | CI38: =IFERROR(HLOOKUP(4,CL36:DI37,2,0),CS37) -> COM_8 | CK38: 1 | CL38: {=IF(AND($CC$38:$CC$41=$CC$38,$CD$38:$CD$41<90,$AQ$38:$AQ$41=$AQ$38,$CF$38:$CF$41=$CF$38),1,0)} -> 0 | CM38: {=IF(AND($CC$38:$CC$40=$CC$38,$CD$38:$CD$40<90,$CC$38<>$CC$41),1,0)} -> 0 | CN38: {=IF(AND($CC$38:$CC$39=$CC$38,$CD$38:$CD$39<90,$CC$38<>$CC$40),1,0)} -> 0 | CO38: {=IF(AND($CC$38:$CC$39=$CC$38,$CD$38:$CD$39<90,$CC$38<>$CC$40),1,0)} -> 0 | CP38: {=IF(AND($CC$39:$CC$41=$CC$39,$CD$39:$CD$41<90,$CC$38<>$CC$39),1,0)} -> 0 | CQ38: {=IF(AND($CC$38<>$CC$39,$CC$38<>$CC$41),1,0)} -> 0 | CR38: {=IF(AND($CC$38<>$CC$39,$CC$38<>$CC$41),1,0)} -> 0 | CS38: {=IF(AND($CC$38<>$CC$39,$CC$38<>$CC$41),1,0)} -> 0 | CT38: {=IF(AND($CC$38:$CC$41=$CC$38,$CD$38:$CD$41<90,$CE$38:$CE$39=$CE$38,$CE$38<>$CE$40),1,0)} -> 0 | CU38: {=IF(AND($CC$38:$CC$41=$CC$38,$CD$38:$CD$41<90,$CE$38:$CE$41=$CE$38,$CF$38=$CF$39,$CF$38<>$CF$40),1,0)} -> 0 | CV38: {=IF(AND($CC$38:$CC$40=$CC$38,$CD$38:$CD$39<90,$CD$40>90),1,0)} -> 0 | CW38: {=IF(AND($CC$38<>$CC$39,$CC$38<>$CC$40),1,0)} -> 0 | CX38: {=IF(AND($CC$38<>$CC$39,$CC$38<>$CC$40),1,0)} -> 0 | CY38: {=IF(AND($CC$38<>$CC$41,$CC$38:$CC$40=$CC$38,$CD$38>90,$CD$39:$CD$40<90),1,0)} -> 0 | CZ38: {=IF(AND($CC$38:$CC$41=$CC$38,$CD$39:$CD$41<90,$CD$38<>$CD$39),1,0)} -> 0 | DA38: {=IF(AND($CC$38:$CC$41=$CC$38,$CD$38:$CD$40<90,$CD$38<>$CD$41),1,0)} -> 0 | DB38: {=IF(AND($CC$38:$CC$41=$CC$38,$CD$38:$CD$39>90,$CD$40:$CD$41<90,$CE$38:$CE$41=$CE$38,$CF$38>$CF$39,$CF$38>$CF$40,$CF$38>$CF$41),1,0)} -> 0 | DC38: {=IF(AND($CC$38:$CC$41=$CC$38,$CD$38>90,$CD$39:$CD$40<90,$CD$41>90,$CE$38:$CE$41=$CE$38,$CF$38>$CF$39,$CF$38>$CF$40,$CF$38>$CF$41),1,0)} -> 0 | DD38: {=IF(AND($CC$38:$CC$41=$CC$38,$CD$38:$CD$39<90,$CD$40:$CD$41>90,$CE$38:$CE$41=$CE$38,$CF$38=$CF$39,$CF$38>$CF$40,$CF$38>$CF$41),1,0)} -> 0 | DE38: {=IF(AND($CC$38:$CC$41=$CC$38,$CD$38:$CD$39>90,$CD$40:$CD$41<90,$CE$38:$CE$41=$CE$38,$CF$38>$CF$39,$CF$39:$CF$41=$CF$39),1,0)} -> 0 | DF38: {=IF(AND($CC$38:$CC$41=$CC$38,$CD$38:$CD$39<90,$CD$40:$CD$41>90,$CE$38:$CE$41=$CE$38,$CF$38:$CF$40=$CF$38,$CF$38>$CF$41),1,0)} -> 0 | DG38: {=IF(AND($CC$38:$CC$41=$CC$38,$CD$38>90,$CD$41>90,$CD$39:$CD$40<90,$CE$38:$CE$41=$CE$38,$CF$38>$CF$39:$CF$41),1,0)} -> 0 | EC38: 2 | ED38: 2 | EE38: 2 | EF38: 3 | EG38: 4 | EH38: 3 | FI38: =RANK(FJ38,FJ38:FJ41,1) -> 1 | FJ38: =SUM(IF(AND(AJ38=AJ39,BC38=BC39,BI38=BI39,BO38=BO39),BE38,0),IF(AND(AJ38=AJ40,BC38=BC40,BI38=BI40,BO38=BO40),BF38,0),IF(AND(AJ38=AJ41,BC38=BC41,BI38=BI41,BO38=BO41),BG38,0)) -> 0 | FK38: =RANK(FL38,FL38:FL41,1) -> 1 | FL38: =SUM(IF(AND(AJ38=AJ39,BC38=BC39,BI38=BI39,BO38=BO39),BK38,0),IF(AND(AJ38=AJ40,BC38=BC40,BI38=BI40,BO38=BO40),BL38,0),IF(AND(AJ38=AJ41,BC38=BC41,BI38=BI41,BO38=BO41),BM38,0)) -> 0 | FM38: =RANK(FN38,FN38:FN41,1) -> 1 | FN38: =SUM(IF(AND(AJ38=AJ39,BC38=BC39,BI38=BI39,BO38=BO39),BQ38,0),IF(AND(AJ38=AJ40,BC38=BC40,BI38=BI40,BO38=BO40),BR38,0),IF(AND(AJ38=AJ41,BC38=BC41,BI38=BI41,BO38=BO41),BS38,0)) -> 0
A39: {=IF(ROWS(A$37:A39)<=$C$36,INDEX(INDIRECT(A$36),SMALL(IF(Nivell=$B$36,ROW(Nivell)-ROW(Equipos!$C$2)+1),ROWS(B$36:B38))),"")} -> Polonia | F39: =Horarios!A39 -> 44366.875 | G39: =Horarios!A39+VLOOKUP($G$2,Horarios!$K$4:$O$27,4,0)*VLOOKUP($G$2,Horarios!$K$4:$O$27,5,0) -> 44366.875 | H39: J2 | I39: =A37 -> España | N39: =A39 -> Polonia | O39: =IF(NOT(OR(ISBLANK(K39),ISBLANK(L39))),1,0) -> 0 | Q39: 2 | R39: =VLOOKUP(Q39,$AG$38:$AI$41,3,0) -> Suecia | S39: =VLOOKUP(R39,$AI$38:$AR$41,2,FALSE) -> 0 | T39: =VLOOKUP($R39,$AI$38:$AR$41,3,FALSE) -> 0 | U39: =VLOOKUP($R39,$AI$38:$AR$41,4,FALSE) -> 0 | V39: =VLOOKUP($R39,$AI$38:$AR$41,5,FALSE) -> 0 | W39: =VLOOKUP($R39,$AI$38:$AR$41,6,FALSE) -> 0 | X39: =VLOOKUP($R39,$AI$38:$AR$41,7,FALSE) -> 0 | Y39: =VLOOKUP($R39,$AI$38:$AR$41,8,FALSE) -> 0 | Z39: =VLOOKUP($R39,$AI$38:$AR$41,9,FALSE) -> 0 | AA39: =IF(SUM($AK$38:$AK$41)=12,MIN(ABS(BY38-BY39),ABS(BY39-BY40)),100) -> 100 | AB39: =IF(AND(AA39>=0,AA39<90),VLOOKUP(Q39,$BU$38:$BV$41,2,0),"") | AF39: =VLOOKUP($R39,$AI$38:$AR$41,10,FALSE) -> -18 | AG39: =RANK(AU39,$AU$38:$AU$41) -> 2 | AH39: =RANK(AR39,$AR$38:$AR$41) -> 2 | AI39: =A38 -> Suecia | AJ39: =AL39*3+AM39*1+AN39*0 -> 0 | AK39: =COUNTIFS($I$4:$I$49,AI39,$K$4:$K$49,"<>",$L$4:$L$49,"<>")+COUNTIFS($N$4:$N$49,AI39,$L$4:$L$49,"<>",$K$4:$K$49,"<>") -> 0 | AL39: {=SUM(($I$4:$I$49=AI39)*($K$4:$K$49<>"")*($L$4:$L$49<>"")*($K$4:$K$49>$L$4:$L$49),($N$4:$N$49=AI39)*($K$4:$K$49<>"")*($L$4:$L$49<>"")*($K$4:$K$49<$L$4:$L$49))} -> 0 | AM39: {=SUM(($I$4:$I$49=AI39)*($K$4:$K$49<>"")*($L$4:$L$49<>"")*($K$4:$K$49=$L$4:$L$49),($N$4:$N$49=AI39)*($K$4:$K$49<>"")*($L$4:$L$49<>"")*($K$4:$K$49=$L$4:$L$49))} -> 0 | AN39: {=SUM(($I$4:$I$49=AI39)*($L$4:$L$49<>"")*($K$4:$K$49<>"")*($K$4:$K$49<$L$4:$L$49),($K$4:$K$49<>"")*($N$4:$N$49=AI39)*($L$4:$L$49<>"")*($K$4:$K$49>$L$4:$L$49))} -> 0 | AO39: {=SUMIFS($K$4:$K$49,$I$4:$I$49,AI39,$K$4:$K$49,"<>",$L$4:$L$49,"<>")+SUMIFS($L$4:$L$49,$N$4:$N$49,AI39,$K$4:$K$49,"<>",$L$4:$L$49,"<>")} -> 0 | AP39: {=SUMIFS($K$4:$K$49,$N$4:$N$49,AI39,$K$4:$K$49,"<>",$L$4:$L$49,"<>")+SUMIFS($L$4:$L$49,$I$4:$I$49,AI39,$K$4:$K$49,"<>",$L$4:$L$49,"<>")} -> 0 | AQ39: =AO39-AP39 -> 0 | AR39: =IF(AK39=0,-($AW$14*VLOOKUP(AI39,Tabla3[[NombreEquipo]:[Rank]],3,FALSE)),AJ39*$AW$4+BA39+AQ39*$AW$11+AO39*$AW$12+AL39*$AW$13-($AW$14*VLOOKUP(AI39,Tabla3[[NombreEquipo]:[Rank]],3,FALSE)/100)) -> -18 | AS39: =AH39 -> 2 | AU39: =IFERROR(AR39-VLOOKUP(AI39,$AB$38:$AC$41,2,0),AR39) -> -18 | AY39: =AI39 -> Suecia | AZ39: =COUNTIF(AJ38:AJ41,AJ39) -> 4 | BA39: =(BB39*$AW$7)+(BH39*$AW$6)+(BN39*$AW$5)+(FI39*$AW$10)+(FK39*$AW$9)+(FM39*$AW$8) -> 781200000 | BB39: =RANK(BC39,BC38:BC41,1) -> 1 | BC39: =SUM(IF(AND(AJ39=AJ40),BF39,0),IF(AND(AJ39=AJ41),BG39,0),IF(AND(AJ39=AJ38),BD39,0)) -> 0 | BD39: {=SUMIFS($K$36:$K$41,$I$36:$I$41,$AY39,$K$36:$K$41,"<>",$L$36:$L$41,"<>",$N$36:$N$41,BD37)+SUMIFS($L$36:$L$41,$I$36:$I$41,BD37,$K$36:$K$41,"<>",$L$36:$L$41,"<>",$N$36:$N$41,$AY39)} -> 0 | BE39: 0 | BF39: {=SUMIFS($K$36:$K$41,$I$36:$I$41,$AY39,$K$36:$K$41,"<>",$L$36:$L$41,"<>",$N$36:$N$41,BF37)+SUMIFS($L$36:$L$41,$I$36:$I$41,BF37,$K$36:$K$41,"<>",$L$36:$L$41,"<>",$N$36:$N$41,$AY39)} -> 0 | BG39: {=SUMIFS($K$36:$K$41,$I$36:$I$41,$AY39,$K$36:$K$41,"<>",$L$36:$L$41,"<>",$N$36:$N$41,BG37)+SUMIFS($L$36:$L$41,$I$36:$I$41,BG37,$K$36:$K$41,"<>",$L$36:$L$41,"<>",$N$36:$N$41,$AY39)} -> 0 | BH39: =RANK(BI39,BI38:BI41,1) -> 1 | BI39: =SUM(IF(AND(AJ39=AJ40),BL39,0),IF(AND(AJ39=AJ41),BM39,0),IF(AND(AJ39=AJ38),BJ39,0)) -> 0 | BJ39: =BD39-BE38 -> 0 | BK39: 0 | BL39: =BF39-BE40 -> 0 | BM39: =BG39-BE41 -> 0 | BN39: =RANK(BO39,BO38:BO41,1) -> 1 | BO39: =SUM(IF(AND(AJ39=AJ40),BR39,0),IF(AND(AJ39=AJ41),BS39,0),IF(AND(AJ39=AJ38),BP39,0)) -> 0 | BP39: {=SUM((I$4:I$49=AY39)*(N$4:N$49=BP37)*(K$4:K$49<>"")*(L$4:L$49<>"")*(K$4:K$49>L$4:L$49)*3,(N$4:N$49=AY39)*(I$4:I$49=BP37)*(K$4:K$49<>"")*(L$4:L$49<>"")*(K$4:K$49=L$4:L$49)*1,(N$4:N$49=AY39)*(I$4:I$49=BP37)*(K$4:K$49<>"")*(L$4:L$49<>"")*(K$4:K$49<L$4:L$49)*3,(I$4:I$49=AY39)*(N$4:N$49=BP37)*(K$4:K$49<>"")*(L$4:L$49<>"")*(K$4:K$49=L$4:L$49)*1)} -> 0 | BQ39: 0 | BR39: {=SUM((I$4:I$49=AY39)*(N$4:N$49=BR37)*(K$4:K$49<>"")*(L$4:L$49<>"")*(K$4:K$49>L$4:L$49)*3,(N$4:N$49=AY39)*(I$4:I$49=BR37)*(K$4:K$49<>"")*(L$4:L$49<>"")*(K$4:K$49=L$4:L$49)*1,(N$4:N$49=AY39)*(I$4:I$49=BR37)*(K$4:K$49<>"")*(L$4:L$49<>"")*(K$4:K$49<L$4:L$49)*3,(I$4:I$49=AY39)*(N$4:N$49=BR37)*(K$4:K$49<>"")*(L$4:L$49<>"")*(K$4:K$49=L$4:L$49)*1)} -> 0 | BS39: {=SUM((I$4:I$49=AY39)*(N$4:N$49=BS37)*(K$4:K$49<>"")*(L$4:L$49<>"")*(K$4:K$49>L$4:L$49)*3,(N$4:N$49=AY39)*(I$4:I$49=BS37)*(K$4:K$49<>"")*(L$4:L$49<>"")*(K$4:K$49=L$4:L$49)*1,(N$4:N$49=AY39)*(I$4:I$49=BS37)*(K$4:K$49<>"")*(L$4:L$49<>"")*(K$4:K$49<L$4:L$49)*3,(I$4:I$49=AY39)*(N$4:N$49=BS37)*(K$4:K$49<>"")*(L$4:L$49<>"")*(K$4:K$49=L$4:L$49)*1)} -> 0 | BT39: 2 | BU39: =RANK(BW39,$BW$38:$BW$41) -> 2 | BV39: =A38 -> Suecia | BW39: =IF(AK39=0,-($AW$14*VLOOKUP(AI39,Tabla3[[NombreEquipo]:[Rank]],3,FALSE)),AJ39*$AW$4+BA39+AQ39*$AW$11+AO39*$AW$12+AL39*$AW$13-($AW$14*VLOOKUP(AI39,Tabla3[[NombreEquipo]:[Rank]],3,FALSE)/100)) -> -18 | BX39: =VLOOKUP(Q39,$AH$38:$AI$41,2,0) -> Suecia | BY39: =VLOOKUP($BX39,$AI$38:$AR$41,10,FALSE) -> -18 | CA39: 2 | CB39: =VLOOKUP(CA39,$AH$38:$AI$41,2,0) -> Suecia | CC39: =VLOOKUP(CB39,$AI$38:$AR$41,2,FALSE) -> 0 | CD39: =IF(SUM($AK$38:$AK$41)=12,MIN(ABS(BY38-BY39),ABS(BY39-BY40)),100) -> 100 | CE39: =VLOOKUP($CB39,$AI$38:$AR$41,9,FALSE) -> 0 | CF39: =VLOOKUP($CB39,$AI$38:$AR$41,7,FALSE) -> 0 | CH39: {=IF($CI$38=$CL$37,$EC$37:$EC$40,IF($CI$38=$CM$37,$ED$37:$ED$39,IF(OR($CI$38=$CN$37,$CI$38=$CO$37),$EE$37:$EE$38,IF($CI$38=$CP$37,$EF$37:$EF$39,(IF($CI$38=$CQ$37,$EH$37:$EH$38,$EJ$37))))))} -> 2 | CK39: 2 | CL39: {=IF(AND($CC$38:$CC$41=$CC$39,$CD$38:$CD$41<90,$AQ$38:$AQ$41=$AQ$39,$CF$38:$CF$41=$CF$39),1,0)} -> 0 | CM39: {=IF(AND($CC$38:$CC$40=$CC$39,$CD$38:$CD$40<90,$CC$39<>$CC$41),1,0)} -> 0 | CN39: {=IF(AND($CC$38:$CC$39=$CC$38,$CD$38:$CD$39<90,$CC$38<>$CC$40),1,0)} -> 0 | CO39: {=IF(AND($CC$38:$CC$39=$CC$38,$CD$38:$CD$39<90,$CC$38<>$CC$40),1,0)} -> 0 | CP39: {=IF(AND($CC$39:$CC$41=$CC$39,$CD$39:$CD$41<90,$CC$38<>$CC$39),1,0)} -> 0 | CQ39: {=IF(AND($CC$39:$CC$40=$CC$39,$CD$39:$CD$40<90,$CC$39<>$CC$38,$CC$39<>$CC$41),1,0)} -> 0 | CR39: {=IF(AND($CC$39<>$CC$38,$CC$39<>$CC$40),1,0)} -> 0 | CS39: {=IF(AND($CC$39<>$CC$38,$CC$39<>$CC$40),1,0)} -> 0 | CT39: {=IF(AND($CC$38:$CC$41=$CC$38,$CD$38:$CD$41<90,$CE$38:$CE$39=$CE$38,$CE$39<>$CE$40),1,0)} -> 0 | CU39: {=IF(AND($CC$38:$CC$41=$CC$38,$CD$38:$CD$41<90,$CE$38:$CE$41=$CE$38,$CF$38=$CF$39,$CF$39<>$CF$40),1,0)} -> 0 | CV39: {=IF(AND($CC$38:$CC$40=$CC$39,$CD$38:$CD$39<90,$CD$40>90),1,0)} -> 0 | CW39: {=IF(AND($CC$39<>$CC$38,$CC$39:$CC$41=$CC$39,$CD$39>90,$CD$40:$CD$41<90),1,0)} -> 0 | CX39: {=IF(AND($CC$39<>$CC$38,$CC$39:$CC$41=$CC$39,$CD$41>90,$CD$39:$CD$40<90),1,0)} -> 0 | CY39: {=IF(AND($CC$39<>$CC$41,$CC$38:$CC$40=$CC$39,$CD$38>90,$CD$39:$CD$40<90),1,0)} -> 0 | CZ39: {=IF(AND($CC$38:$CC$41=$CC$39,$CD$39:$CD$41<90,$CD$38<>$CD$39),1,0)} -> 0 | DA39: {=IF(AND($CC$38:$CC$41=$CC$39,$CD$38:$CD$40<90,$CD$39<>$CD$41),1,0)} -> 0 | DB39: {=IF(AND($CC$38:$CC$41=$CC$39,$CD$38:$CD$39>90,$CD$40:$CD$41<90,$CE$38:$CE$41=$CE$39,$CF$38>$CF$39,$CF$39>$CF$40,$CF$39>$CF$41),1,0)} -> 0 | DC39: {=IF(AND($CC$38:$CC$41=$CC$39,$CD$38>90,$CD$39:$CD$40<90,$CD$41>90,$CE$38:$CE$41=$CE$39,$CF$38>$CF$39,$CF$39=$CF$40,$CF$39>$CF$41),1,0)} -> 0 | DD39: {=IF(AND($CC$38:$CC$41=$CC$39,$CD$38:$CD$39<90,$CD$40:$CD$41>90,$CE$38:$CE$41=$CE$39,$CF$38=$CF$39,$CF$39>$CF$40,$CF$39>$CF$41),1,0)} -> 0 | DE39: {=IF(AND($CC$38:$CC$41=$CC$39,$CD$38:$CD$39>90,$CD$40:$CD$41<90,$CE$38:$CE$41=$CE$39,$CF$38>$CF$39,$CF$39:$CF$41=$CF$39),1,0)} -> 0 | DF39: {=IF(AND($CC$38:$CC$41=$CC$39,$CD$38:$CD$39<90,$CD$40:$CD$41>90,$CE$38:$CE$41=$CE$39,$CF$38:$CF$40=$CF$39,$CF$39>$CF$41),1,0)} -> 0 | DG39: {=IF(AND($CC$38:$CC$41=$CC$39,$CD$38>90,$CD$41>90,$CD$39:$CD$40<90,$CE$38:$CE$41=$CE$39,$CF$38>$CF$39:$CF$41,$CF$39:$CF$41=$CF$39),1,0)} -> 0 | EC39: 3 | ED39: 3 | EF39: 4 | FI39: =RANK(FJ39,FJ38:FJ41,1) -> 1 | FJ39: =SUM(IF(AND(AJ39=AJ40,BC39=BC40,BI39=BI40,BO39=BO40),BF39,0),IF(AND(AJ39=AJ41,BC39=BC41,BI39=BI41,BO39=BO41),BG39,0),IF(AND(AJ39=AJ38,BC39=BC38,BI39=BI38,BO39=BO38),BD39,0)) -> 0 | FK39: =RANK(FL39,FL38:FL41,1) -> 1 | FL39: =SUM(IF(AND(AJ39=AJ40,BC39=BC40,BI39=BI40,BO39=BO40),BL39,0),IF(AND(AJ39=AJ41,BC39=BC41,BI39=BI41,BO39=BO41),BM39,0),IF(AND(AJ39=AJ38,BC39=BC38,BI39=BI38,BO39=BO38),BJ39,0)) -> 0 | FM39: =RANK(FN39,FN38:FN41,1) -> 1 | FN39: =SUM(IF(AND(AJ39=AJ40,BC39=BC40,BI39=BI40,BO39=BO40),BR39,0),IF(AND(AJ39=AJ41,BC39=BC41,BI39=BI41,BO39=BO41),BS39,0),IF(AND(AJ39=AJ38,BC39=BC38,BI39=BI38,BO39=BO38),BP39,0)) -> 0
A40: {=IF(ROWS(A$37:A40)<=$C$36,INDEX(INDIRECT(A$36),SMALL(IF(Nivell=$B$36,ROW(Nivell)-ROW(Equipos!$C$2)+1),ROWS(B$36:B39))),"")} -> Eslovaquia | F40: =Horarios!A40 -> 44370.75 | G40: =Horarios!A40+VLOOKUP($G$2,Horarios!$K$4:$O$27,4,0)*VLOOKUP($G$2,Horarios!$K$4:$O$27,5,0) -> 44370.75 | H40: J3 | I40: =A38 -> Suecia | N40: =A39 -> Polonia | O40: =IF(NOT(OR(ISBLANK(K40),ISBLANK(L40))),1,0) -> 0 | Q40: 3 | R40: =VLOOKUP(Q40,$AG$38:$AI$41,3,0) -> Polonia | S40: =VLOOKUP(R40,$AI$38:$AR$41,2,FALSE) -> 0 | T40: =VLOOKUP($R40,$AI$38:$AR$41,3,FALSE) -> 0 | U40: =VLOOKUP($R40,$AI$38:$AR$41,4,FALSE) -> 0 | V40: =VLOOKUP($R40,$AI$38:$AR$41,5,FALSE) -> 0 | W40: =VLOOKUP($R40,$AI$38:$AR$41,6,FALSE) -> 0 | X40: =VLOOKUP($R40,$AI$38:$AR$41,7,FALSE) -> 0 | Y40: =VLOOKUP($R40,$AI$38:$AR$41,8,FALSE) -> 0 | Z40: =VLOOKUP($R40,$AI$38:$AR$41,9,FALSE) -> 0 | AA40: =IF(SUM($AK$38:$AK$41)=12,MIN(ABS(BY39-BY40),ABS(BY40-BY41)),100) -> 100 | AB40: =IF(AND(AA40>=0,AA40<90),VLOOKUP(Q40,$BU$38:$BV$41,2,0),"") | AF40: =VLOOKUP($R40,$AI$38:$AR$41,10,FALSE) -> -19 | AG40: =RANK(AU40,$AU$38:$AU$41) -> 3 | AH40: =RANK(AR40,$AR$38:$AR$41) -> 3 | AI40: =A39 -> Polonia | AJ40: =AL40*3+AM40*1+AN40*0 -> 0 | AK40: =COUNTIFS($I$4:$I$49,AI40,$K$4:$K$49,"<>",$L$4:$L$49,"<>")+COUNTIFS($N$4:$N$49,AI40,$L$4:$L$49,"<>",$K$4:$K$49,"<>") -> 0 | AL40: {=SUM(($I$4:$I$49=AI40)*($K$4:$K$49<>"")*($L$4:$L$49<>"")*($K$4:$K$49>$L$4:$L$49),($N$4:$N$49=AI40)*($K$4:$K$49<>"")*($L$4:$L$49<>"")*($K$4:$K$49<$L$4:$L$49))} -> 0 | AM40: {=SUM(($I$4:$I$49=AI40)*($K$4:$K$49<>"")*($L$4:$L$49<>"")*($K$4:$K$49=$L$4:$L$49),($N$4:$N$49=AI40)*($K$4:$K$49<>"")*($L$4:$L$49<>"")*($K$4:$K$49=$L$4:$L$49))} -> 0 | AN40: {=SUM(($I$4:$I$49=AI40)*($L$4:$L$49<>"")*($K$4:$K$49<>"")*($K$4:$K$49<$L$4:$L$49),($K$4:$K$49<>"")*($N$4:$N$49=AI40)*($L$4:$L$49<>"")*($K$4:$K$49>$L$4:$L$49))} -> 0 | AO40: {=SUMIFS($K$4:$K$49,$I$4:$I$49,AI40,$K$4:$K$49,"<>",$L$4:$L$49,"<>")+SUMIFS($L$4:$L$49,$N$4:$N$49,AI40,$K$4:$K$49,"<>",$L$4:$L$49,"<>")} -> 0 | AP40: {=SUMIFS($K$4:$K$49,$N$4:$N$49,AI40,$K$4:$K$49,"<>",$L$4:$L$49,"<>")+SUMIFS($L$4:$L$49,$I$4:$I$49,AI40,$K$4:$K$49,"<>",$L$4:$L$49,"<>")} -> 0 | AQ40: =AO40-AP40 -> 0 | AR40: =IF(AK40=0,-($AW$14*VLOOKUP(AI40,Tabla3[[NombreEquipo]:[Rank]],3,FALSE)),AJ40*$AW$4+BA40+AQ40*$AW$11+AO40*$AW$12+AL40*$AW$13-($AW$14*VLOOKUP(AI40,Tabla3[[NombreEquipo]:[Rank]],3,FALSE)/100)) -> -19 | AS40: =AH40 -> 3 | AU40: =IFERROR(AR40-VLOOKUP(AI40,$AB$38:$AC$41,2,0),AR40) -> -19 | AY40: =AI40 -> Polonia | AZ40: =COUNTIF(AJ38:AJ41,AJ40) -> 4 | BA40: =(BB40*$AW$7)+(BH40*$AW$6)+(BN40*$AW$5)+(FI40*$AW$10)+(FK40*$AW$9)+(FM40*$AW$8) -> 781200000 | BB40: =RANK(BC40,BC38:BC41,1) -> 1 | BC40: =SUM(IF(AND(AJ40=AJ41),BG40,0),IF(AND(AJ40=AJ38),BD40,0),IF(AND(AJ40=AJ39),BE40,0)) -> 0 | BD40: {=SUMIFS($K$36:$K$41,$I$36:$I$41,$AY40,$K$36:$K$41,"<>",$L$36:$L$41,"<>",$N$36:$N$41,BD37)+SUMIFS($L$36:$L$41,$I$36:$I$41,BD37,$K$36:$K$41,"<>",$L$36:$L$41,"<>",$N$36:$N$41,$AY40)} -> 0 | BE40: {=SUMIFS($K$36:$K$41,$I$36:$I$41,$AY40,$K$36:$K$41,"<>",$L$36:$L$41,"<>",$N$36:$N$41,BE37)+SUMIFS($L$36:$L$41,$I$36:$I$41,BE37,$K$36:$K$41,"<>",$L$36:$L$41,"<>",$N$36:$N$41,$AY40)} -> 0 | BF40: 0 | BG40: {=SUMIFS($K$36:$K$41,$I$36:$I$41,$AY40,$K$36:$K$41,"<>",$L$36:$L$41,"<>",$N$36:$N$41,BG37)+SUMIFS($L$36:$L$41,$I$36:$I$41,BG37,$K$36:$K$41,"<>",$L$36:$L$41,"<>",$N$36:$N$41,$AY40)} -> 0 | BH40: =RANK(BI40,BI38:BI41,1) -> 1 | BI40: =SUM(IF(AND(AJ40=AJ41),BM40,0),IF(AND(AJ40=AJ38),BJ40,0),IF(AND(AJ40=AJ39),BK40,0)) -> 0 | BJ40: =BD40-BF38 -> 0 | BK40: =BE40-BF39 -> 0 | BL40: 0 | BM40: =BG40-BF41 -> 0 | BN40: =RANK(BO40,BO38:BO41,1) -> 1 | BO40: =SUM(IF(AND(AJ40=AJ41),BS40,0),IF(AND(AJ40=AJ38),BP40,0),IF(AND(AJ40=AJ39),BQ40,0)) -> 0 | BP40: {=SUM((I$4:I$49=AY40)*(N$4:N$49=BP37)*(K$4:K$49<>"")*(L$4:L$49<>"")*(K$4:K$49>L$4:L$49)*3,(N$4:N$49=AY40)*(I$4:I$49=BP37)*(K$4:K$49<>"")*(L$4:L$49<>"")*(K$4:K$49=L$4:L$49)*1,(N$4:N$49=AY40)*(I$4:I$49=BP37)*(K$4:K$49<>"")*(L$4:L$49<>"")*(K$4:K$49<L$4:L$49)*3,(I$4:I$49=AY40)*(N$4:N$49=BP37)*(K$4:K$49<>"")*(L$4:L$49<>"")*(K$4:K$49=L$4:L$49)*1)} -> 0 | BQ40: {=SUM((I$4:I$49=AY40)*(N$4:N$49=BQ37)*(K$4:K$49<>"")*(L$4:L$49<>"")*(K$4:K$49>L$4:L$49)*3,(N$4:N$49=AY40)*(I$4:I$49=BQ37)*(K$4:K$49<>"")*(L$4:L$49<>"")*(K$4:K$49=L$4:L$49)*1,(N$4:N$49=AY40)*(I$4:I$49=BQ37)*(K$4:K$49<>"")*(L$4:L$49<>"")*(K$4:K$49<L$4:L$49)*3,(I$4:I$49=AY40)*(N$4:N$49=BQ37)*(K$4:K$49<>"")*(L$4:L$49<>"")*(K$4:K$49=L$4:L$49)*1)} -> 0 | BR40: 0 | BS40: {=SUM((I$4:I$49=AY40)*(N$4:N$49=BS37)*(K$4:K$49<>"")*(L$4:L$49<>"")*(K$4:K$49>L$4:L$49)*3,(N$4:N$49=AY40)*(I$4:I$49=BS37)*(K$4:K$49<>"")*(L$4:L$49<>"")*(K$4:K$49=L$4:L$49)*1,(N$4:N$49=AY40)*(I$4:I$49=BS37)*(K$4:K$49<>"")*(L$4:L$49<>"")*(K$4:K$49<L$4:L$49)*3,(I$4:I$49=AY40)*(N$4:N$49=BS37)*(K$4:K$49<>"")*(L$4:L$49<>"")*(K$4:K$49=L$4:L$49)*1)} -> 0 | BT40: 3 | BU40: =RANK(BW40,$BW$38:$BW$41) -> 3 | BV40: =A39 -> Polonia | BW40: =IF(AK40=0,-($AW$14*VLOOKUP(AI40,Tabla3[[NombreEquipo]:[Rank]],3,FALSE)),AJ40*$AW$4+BA40+AQ40*$AW$11+AO40*$AW$12+AL40*$AW$13-($AW$14*VLOOKUP(AI40,Tabla3[[NombreEquipo]:[Rank]],3,FALSE)/100)) -> -19 | BX40: =VLOOKUP(Q40,$AH$38:$AI$41,2,0) -> Polonia | BY40: =VLOOKUP($BX40,$AI$38:$AR$41,10,FALSE) -> -19 | CA40: 3 | CB40: =VLOOKUP(CA40,$AH$38:$AI$41,2,0) -> Polonia | CC40: =VLOOKUP(CB40,$AI$38:$AR$41,2,FALSE) -> 0 | CD40: =IF(SUM($AK$38:$AK$41)=12,MIN(ABS(BY39-BY40),ABS(BY40-BY41)),100) -> 100 | CE40: =VLOOKUP($CB40,$AI$38:$AR$41,9,FALSE) -> 0 | CF40: =VLOOKUP($CB40,$AI$38:$AR$41,7,FALSE) -> 0 | CH40: {=IF($CI$38=$CL$37,$EC$37:$EC$40,IF($CI$38=$CM$37,$ED$37:$ED$39,IF(OR($CI$38=$CN$37,$CI$38=$CR$37),$EG$37:$EG$38,IF($CI$38=$CP$37,$EF$37:$EF$39,(IF($CI$38=$CQ$37,$EH$37:$EH$38,$EK$37))))))} -> 3 | CK40: 3 | CL40: {=IF(AND($CC$38:$CC$41=$CC$40,$CD$38:$CD$41<90,$AQ$38:$AQ$41=$AQ$40,$CF$38:$CF$41=$CF$40),1,0)} -> 0 | CM40: {=IF(AND($CC$38:$CC$40=$CC$40,$CD$38:$CD$40<90,$CC$40<>$CC$41),1,0)} -> 0 | CN40: {=IF(AND($CC$40:$CC$41=$CC$40,$CD$40:$CD$41<90,$CC$40<>$CC$39),1,0)} -> 0 | CO40: {=IF(OR(AND($CC$40<>$CC$39,$CC$40<>$CC$41),AND($CC$40<>$CC$39,$CC$40=$CC$41,$CD$40>90,$CD$41>90)),1,0)} -> 0 | CP40: {=IF(AND($CC$39:$CC$41=$CC$39,$CD$39:$CD$41<90,$CC$38<>$CC$40),1,0)} -> 0 | CQ40: {=IF(AND($CC$39:$CC$40=$CC$40,$CD$39:$CD$40<90,$CC$40<>$CC$38,$CC$40<>$CC$41),1,0)} -> 0 | CR40: {=IF(AND($CC$40:$CC$41=$CC$40,$CD$40:$CD$41<90,$CC$40<>$CC$39),1,0)} -> 0 | CS40: {=IF(AND($CC$40<>$CC$39,$CC$40<>$CC$41),1,0)} -> 0 | CT40: {=IF(AND($CC$38:$CC$41=$CC$38,$CD$38:$CD$41<90,$CE$40:$CE$41=$CE$40,$CE$39<>$CE$40),1,0)} -> 0 | CU40: {=IF(AND($CC$38:$CC$41=$CC$38,$CD$38:$CD$41<90,$CE$38:$CE$41=$CE$38,$CF$40=$CF$41,$CF$39<>$CF$40),1,0)} -> 0 | CV40: {=IF(AND($CC$38:$CC$40=$CC$40,$CD$38:$CD$39<90,$CD$40>90),1,0)} -> 0 | CW40: {=IF(AND($CC$39<>$CC$38,$CC$39:$CC$41=$CC$40,$CD$39>90,$CD$40:$CD$41<90),1,0)} -> 0 | CX40: {=IF(AND($CC$39<>$CC$38,$CC$39:$CC$41=$CC$39,$CD$41>90,$CD$39:$CD$40<90),1,0)} -> 0 | CY40: {=IF(AND($CC$40<>$CC$41,$CC$38:$CC$40=$CC$40,$CD$38>90,$CD$39:$CD$40<90),1,0)} -> 0 | CZ40: {=IF(AND($CC$38:$CC$41=$CC$39,$CD$39:$CD$41<90,$CD$38<>$CD$40),1,0)} -> 0 | DA40: {=IF(AND($CC$38:$CC$41=$CC$40,$CD$38:$CD$40<90,$CD$40<>$CD$41),1,0)} -> 0 | DB40: {=IF(AND($CC$38:$CC$41=$CC$40,$CD$38:$CD$39>90,$CD$40:$CD$41<90,$CE$38:$CE$41=$CE$40,$CF$38>$CF$39,$CF$39>$CF$40,$CF$40=$CF$41),1,0)} -> 0 | DC40: {=IF(AND($CC$38:$CC$41=$CC$40,$CD$38>90,$CD$39:$CD$40<90,$CD$41>90,$CE$38:$CE$41=$CE$40,$CF$38>$CF$39,$CF$39=$CF$40,$CF$40>$CF$41),1,0)} -> 0 | DD40: {=IF(AND($CC$38:$CC$41=$CC$40,$CD$38:$CD$39<90,$CD$40:$CD$41>90,$CE$38:$CE$41=$CE$40,$CF$38=$CF$39,$CF$39>$CF$40,$CF$40>$CF$41),1,0)} -> 0 | DE40: {=IF(AND($CC$38:$CC$41=$CC$40,$CD$38:$CD$39>90,$CD$40:$CD$41<90,$CE$38:$CE$41=$CE$39,$CF$38>$CF$40,$CF$39:$CF$41=$CF$40),1,0)} -> 0 | DF40: {=IF(AND($CC$38:$CC$41=$CC$40,$CD$38:$CD$39<90,$CD$40:$CD$41>90,$CE$38:$CE$41=$CE$40,$CF$38:$CF$40=$CF$40,$CF$40>$CF$41),1,0)} -> 0 | DG40: {=IF(AND($CC$38:$CC$41=$CC$40,$CD$38>90,$CD$41>90,$CD$39:$CD$40<90,$CE$38:$CE$41=$CE$40,$CF$38>$CF$39:$CF$41,$CF$39:$CF$41=$CF$40),1,0)} -> 0 | EC40: 4 | FI40: =RANK(FJ40,FJ38:FJ41,1) -> 1 | FJ40: =SUM(IF(AND(AJ40=AJ41,BC40=BC41,BI40=BI41,BO40=BO41),BG40,0),IF(AND(AJ40=AJ38,BC40=BC38,BI40=BI38,BO40=BO38),BD40,0),IF(AND(AJ40=AJ39,BC40=BC39,BI40=BI39,BO40=BO39),BE40,0)) -> 0 | FK40: =RANK(FL40,FL38:FL41,1) -> 1 | FL40: =SUM(IF(AND(AJ40=AJ41,BC40=BC41,BI40=BI41,BO40=BO41),BM40,0),IF(AND(AJ40=AJ38,BC40=BC38,BI40=BI38,BO40=BO38),BJ40,0),IF(AND(AJ40=AJ39,BC40=BC39,BI40=BI39,BO40=BO39),BK40,0)) -> 0 | FM40: =RANK(FN40,FN38:FN41,1) -> 1 | FN40: =SUM(IF(AND(AJ40=AJ41,BC40=BC41,BI40=BI41,BO40=BO41),BS40,0),IF(AND(AJ40=AJ38,BC40=BC38,BI40=BI38,BO40=BO38),BP40,0),IF(AND(AJ40=AJ39,BC40=BC39,BI40=BI39,BO40=BO39),BQ40,0)) -> 0
F41: =Horarios!A41 -> 44370.75 | G41: =Horarios!A41+VLOOKUP($G$2,Horarios!$K$4:$O$27,4,0)*VLOOKUP($G$2,Horarios!$K$4:$O$27,5,0) -> 44370.75 | H41: J3 | I41: =A40 -> Eslovaquia | N41: =A37 -> España | O41: =IF(NOT(OR(ISBLANK(K41),ISBLANK(L41))),1,0) -> 0 | Q41: 4 | R41: =VLOOKUP(Q41,$AG$38:$AI$41,3,0) -> Eslovaquia | S41: =VLOOKUP(R41,$AI$38:$AR$41,2,FALSE) -> 0 | T41: =VLOOKUP($R41,$AI$38:$AR$41,3,FALSE) -> 0 | U41: =VLOOKUP($R41,$AI$38:$AR$41,4,FALSE) -> 0 | V41: =VLOOKUP($R41,$AI$38:$AR$41,5,FALSE) -> 0 | W41: =VLOOKUP($R41,$AI$38:$AR$41,6,FALSE) -> 0 | X41: =VLOOKUP($R41,$AI$38:$AR$41,7,FALSE) -> 0 | Y41: =VLOOKUP($R41,$AI$38:$AR$41,8,FALSE) -> 0 | Z41: =VLOOKUP($R41,$AI$38:$AR$41,9,FALSE) -> 0 | AA41: =IF(SUM($AK$38:$AK$41)=12,MIN(ABS(BY40-BY41),ABS(BY41-BY42)),100) -> 100 | AB41: =IF(AND(AA41>=0,AA41<90),VLOOKUP(Q41,$BU$38:$BV$41,2,0),"") | AF41: =VLOOKUP($R41,$AI$38:$AR$41,10,FALSE) -> -20 | AG41: =RANK(AU41,$AU$38:$AU$41) -> 4 | AH41: =RANK(AR41,$AR$38:$AR$41) -> 4 | AI41: =A40 -> Eslovaquia | AJ41: =AL41*3+AM41*1+AN41*0 -> 0 | AK41: =COUNTIFS($I$4:$I$49,AI41,$K$4:$K$49,"<>",$L$4:$L$49,"<>")+COUNTIFS($N$4:$N$49,AI41,$L$4:$L$49,"<>",$K$4:$K$49,"<>") -> 0 | AL41: {=SUM(($I$4:$I$49=AI41)*($K$4:$K$49<>"")*($L$4:$L$49<>"")*($K$4:$K$49>$L$4:$L$49),($N$4:$N$49=AI41)*($K$4:$K$49<>"")*($L$4:$L$49<>"")*($K$4:$K$49<$L$4:$L$49))} -> 0 | AM41: {=SUM(($I$4:$I$49=AI41)*($K$4:$K$49<>"")*($L$4:$L$49<>"")*($K$4:$K$49=$L$4:$L$49),($N$4:$N$49=AI41)*($K$4:$K$49<>"")*($L$4:$L$49<>"")*($K$4:$K$49=$L$4:$L$49))} -> 0 | AN41: {=SUM(($I$4:$I$49=AI41)*($L$4:$L$49<>"")*($K$4:$K$49<>"")*($K$4:$K$49<$L$4:$L$49),($K$4:$K$49<>"")*($N$4:$N$49=AI41)*($L$4:$L$49<>"")*($K$4:$K$49>$L$4:$L$49))} -> 0 | AO41: {=SUMIFS($K$4:$K$49,$I$4:$I$49,AI41,$K$4:$K$49,"<>",$L$4:$L$49,"<>")+SUMIFS($L$4:$L$49,$N$4:$N$49,AI41,$K$4:$K$49,"<>",$L$4:$L$49,"<>")} -> 0 | AP41: {=SUMIFS($K$4:$K$49,$N$4:$N$49,AI41,$K$4:$K$49,"<>",$L$4:$L$49,"<>")+SUMIFS($L$4:$L$49,$I$4:$I$49,AI41,$K$4:$K$49,"<>",$L$4:$L$49,"<>")} -> 0 | AQ41: =AO41-AP41 -> 0 | AR41: =IF(AK41=0,-($AW$14*VLOOKUP(AI41,Tabla3[[NombreEquipo]:[Rank]],3,FALSE)),AJ41*$AW$4+BA41+AQ41*$AW$11+AO41*$AW$12+AL41*$AW$13-($AW$14*VLOOKUP(AI41,Tabla3[[NombreEquipo]:[Rank]],3,FALSE)/100)) -> -20 | AS41: =AH41 -> 4 | AU41: =IFERROR(AR41-VLOOKUP(AI41,$AB$38:$AC$41,2,0),AR41) -> -20 | AY41: =AI41 -> Eslovaquia | AZ41: =COUNTIF(AJ38:AJ41,AJ41) -> 4 | BA41: =(BB41*$AW$7)+(BH41*$AW$6)+(BN41*$AW$5)+(FI41*$AW$10)+(FK41*$AW$9)+(FM41*$AW$8) -> 781200000 | BB41: =RANK(BC41,BC38:BC41,1) -> 1 | BC41: =SUM(IF(AND(AJ41=AJ38),BD41,0),IF(AND(AJ41=AJ39),BE41,0),IF(AND(AJ41=AJ40),BF41,0)) -> 0 | BD41: {=SUMIFS($K$36:$K$41,$I$36:$I$41,$AY41,$K$36:$K$41,"<>",$L$36:$L$41,"<>",$N$36:$N$41,BD37)+SUMIFS($L$36:$L$41,$I$36:$I$41,BD37,$K$36:$K$41,"<>",$L$36:$L$41,"<>",$N$36:$N$41,$AY41)} -> 0 | BE41: {=SUMIFS($K$36:$K$41,$I$36:$I$41,$AY41,$K$36:$K$41,"<>",$L$36:$L$41,"<>",$N$36:$N$41,BE37)+SUMIFS($L$36:$L$41,$I$36:$I$41,BE37,$K$36:$K$41,"<>",$L$36:$L$41,"<>",$N$36:$N$41,$AY41)} -> 0 | BF41: {=SUMIFS($K$36:$K$41,$I$36:$I$41,$AY41,$K$36:$K$41,"<>",$L$36:$L$41,"<>",$N$36:$N$41,BF37)+SUMIFS($L$36:$L$41,$I$36:$I$41,BF37,$K$36:$K$41,"<>",$L$36:$L$41,"<>",$N$36:$N$41,$AY41)} -> 0 | BG41: 0 | BH41: =RANK(BI41,BI38:BI41,1) -> 1 | BI41: =SUM(IF(AND(AJ41=AJ38),BJ41,0),IF(AND(AJ41=AJ39),BK41,0),IF(AND(AJ41=AJ40),BL41,0)) -> 0 | BJ41: =BD41-BG38 -> 0 | BK41: =BE41-BG39 -> 0 | BL41: =BF41-BG40 -> 0 | BM41: 0 | BN41: =RANK(BO41,BO38:BO41,1) -> 1 | BO41: =SUM(IF(AND(AJ41=AJ38),BP41,0),IF(AND(AJ41=AJ39),BQ41,0),IF(AND(AJ41=AJ40),BR41,0)) -> 0 | BP41: {=SUM((I$4:I$49=AY41)*(N$4:N$49=BP37)*(K$4:K$49<>"")*(L$4:L$49<>"")*(K$4:K$49>L$4:L$49)*3,(N$4:N$49=AY41)*(I$4:I$49=BP37)*(K$4:K$49<>"")*(L$4:L$49<>"")*(K$4:K$49=L$4:L$49)*1,(N$4:N$49=AY41)*(I$4:I$49=BP37)*(K$4:K$49<>"")*(L$4:L$49<>"")*(K$4:K$49<L$4:L$49)*3,(I$4:I$49=AY41)*(N$4:N$49=BP37)*(K$4:K$49<>"")*(L$4:L$49<>"")*(K$4:K$49=L$4:L$49)*1)} -> 0 | BQ41: {=SUM((I$4:I$49=AY41)*(N$4:N$49=BQ37)*(K$4:K$49<>"")*(L$4:L$49<>"")*(K$4:K$49>L$4:L$49)*3,(N$4:N$49=AY41)*(I$4:I$49=BQ37)*(K$4:K$49<>"")*(L$4:L$49<>"")*(K$4:K$49=L$4:L$49)*1,(N$4:N$49=AY41)*(I$4:I$49=BQ37)*(K$4:K$49<>"")*(L$4:L$49<>"")*(K$4:K$49<L$4:L$49)*3,(I$4:I$49=AY41)*(N$4:N$49=BQ37)*(K$4:K$49<>"")*(L$4:L$49<>"")*(K$4:K$49=L$4:L$49)*1)} -> 0 | BR41: {=SUM((I$4:I$49=AY41)*(N$4:N$49=BR37)*(K$4:K$49<>"")*(L$4:L$49<>"")*(K$4:K$49>L$4:L$49)*3,(N$4:N$49=AY41)*(I$4:I$49=BR37)*(K$4:K$49<>"")*(L$4:L$49<>"")*(K$4:K$49=L$4:L$49)*1,(N$4:N$49=AY41)*(I$4:I$49=BR37)*(K$4:K$49<>"")*(L$4:L$49<>"")*(K$4:K$49<L$4:L$49)*3,(I$4:I$49=AY41)*(N$4:N$49=BR37)*(K$4:K$49<>"")*(L$4:L$49<>"")*(K$4:K$49=L$4:L$49)*1)} -> 0 | BS41: 0 | BT41: 4 | BU41: =RANK(BW41,$BW$38:$BW$41) -> 4 | BV41: =A40 -> Eslovaquia | BW41: =IF(AK41=0,-($AW$14*VLOOKUP(AI41,Tabla3[[NombreEquipo]:[Rank]],3,FALSE)),AJ41*$AW$4+BA41+AQ41*$AW$11+AO41*$AW$12+AL41*$AW$13-($AW$14*VLOOKUP(AI41,Tabla3[[NombreEquipo]:[Rank]],3,FALSE)/100)) -> -20 | BX41: =VLOOKUP(Q41,$AH$38:$AI$41,2,0) -> Eslovaquia | BY41: =VLOOKUP($BX41,$AI$38:$AR$41,10,FALSE) -> -20 | CA41: 4 | CB41: =VLOOKUP(CA41,$AH$38:$AI$41,2,0) -> Eslovaquia | CC41: =VLOOKUP(CB41,$AI$38:$AR$41,2,FALSE) -> 0 | CD41: =IF(SUM($AK$38:$AK$41)=12,MIN(ABS(BY40-BY41),ABS(BY41-BY42)),100) -> 100 | CE41: =VLOOKUP($CB41,$AI$38:$AR$41,9,FALSE) -> 0 | CF41: =VLOOKUP($CB41,$AI$38:$AR$41,7,FALSE) -> 0 | CH41: {=IF($CI$38=$CL$37,$EC$37:$EC$40,IF(OR($CI$38=$CN$37,$CI$38=$CR$37),$EG$37:$EG$38,IF($CI$38=$CP$37,$EF$37:$EF$39,$EL$37)))} -> 4 | CK41: 4 | CL41: {=IF(AND($CC$38:$CC$41=$CC$41,$CD$38:$CD$41<90,$AQ$38:$AQ$41=$AQ$41,$CF$38:$CF$41=$CF$41),1,0)} -> 0 | CM41: {=IF(AND($CC$38:$CC$40=$CC$38,$CD$38:$CD$40<90,$CD$41>90,$CC$38<>$CC$41),1,0)} -> 0 | CN41: {=IF(AND($CC$40:$CC$41=$CC$40,$CD$40:$CD$41<90,$CC$40<>$CC$39),1,0)} -> 0 | CO41: {=IF(AND($CC$41<>$CC$39,$CC$41<>$CC$38),1,0)} -> 0 | CP41: {=IF(AND($CC$39:$CC$41=$CC$39,$CD$39:$CD$41<90,$CC$38<>$CC$41),1,0)} -> 0 | CQ41: {=IF(AND($CC$41<>$CC$39,$CC$41<>$CC$38),1,0)} -> 0 | CR41: {=IF(AND($CC$40:$CC$41=$CC$40,$CD$40:$CD$41<90,$CC$40<>$CC$39),1,0)} -> 0 | CS41: {=IF(AND($CC$41<>$CC$39,$CC$41<>$CC$38),1,0)} -> 0 | CT41: {=IF(AND($CC$38:$CC$41=$CC$38,$CD$38:$CD$41<90,$CE$40:$CE$41=$CE$41,$CE$39<>$CE$41),1,0)} -> 0 | CU41: {=IF(AND($CC$38:$CC$41=$CC$38,$CD$38:$CD$41<90,$CE$38:$CE$41=$CE$38,$CF$40=$CF$41,$CF$39<>$CF$40),1,0)} -> 0 | CV41: {=IF(AND($CC$38:$CC$40=$CC$38,$CD$38:$CD$39<90,$CC$40<>$CC$41),1,0)} -> 0 | CW41: {=IF(AND($CC$39<>$CC$38,$CC$39:$CC$41=$CC$40,$CD$39>90,$CD$40:$CD$41<90),1,0)} -> 0 | CX41: {=IF(AND($CC$39<>$CC$38,$CC$39:$CC$41=$CC$39,$CD$41>90,$CD$39:$CD$40<90),1,0)} -> 0 | CY41: {=IF(AND($CC$41<>$CC$39,$CC$41<>$CC$40),1,0)} -> 0 | CZ41: {=IF(AND($CC$38:$CC$41=$CC$39,$CD$39:$CD$41<90,$CD$38<>$CD$41),1,0)} -> 0 | DA41: {=IF(AND($CC$38:$CC$41=$CC$38,$CD$38:$CD$40<90,$CD$40<>$CD$41),1,0)} -> 0 | DB41: {=IF(AND($CC$38:$CC$41=$CC$41,$CD$38:$CD$39>90,$CD$40:$CD$41<90,$CE$38:$CE$41=$CE$41,$CF$38>$CF$39,$CF$39>$CF$41,$CF$40=$CF$41),1,0)} -> 0 | DC41: {=IF(AND($CC$38:$CC$41=$CC$39,$CD$38>90,$CD$39:$CD$40<90,$CD$41>90,$CE$38:$CE$41=$CE$41,$CF$38>$CF$41,$CF$39=$CF$40,$CF$39>$CF$41),1,0)} -> 0 | DD41: {=IF(AND($CC$38:$CC$41=$CC$41,$CD$38:$CD$39<90,$CD$40:$CD$41>90,$CE$38:$CE$41=$CE$41,$CF$38=$CF$39,$CF$39>$CF$40,$CF$40>$CF$41),1,0)} -> 0 | DE41: {=IF(AND($CC$38:$CC$41=$CC$41,$CD$38:$CD$39>90,$CD$40:$CD$41<90,$CE$38:$CE$41=$CE$41,$CF$38>$CF$41,$CF$39:$CF$41=$CF$41),1,0)} -> 0 | DF41: {=IF(AND($CC$38:$CC$41=$CC$41,$CD$38:$CD$39<90,$CD$40:$CD$41>90,$CE$38:$CE$41=$CE$41,$CF$38:$CF$40=$CF$40,$CF$38:$CF$40>$CF$41),1,0)} -> 0 | DG41: {=IF(AND($CC$38:$CC$41=$CC$41,$CD$38>90,$CD$41>90,$CD$39:$CD$40<90,$CE$38:$CE$41=$CE$41,$CF$38>$CF$39:$CF$41,$CF$39:$CF$41=$CF$41),1,0)} -> 0 | FI41: =RANK(FJ41,FJ38:FJ41,1) -> 1 | FJ41: =SUM(IF(AND(AJ41=AJ38,BC41=BC38,BI41=BI38,BO41=BO38),BD41,0),IF(AND(AJ41=AJ39,BC41=BC39,BI41=BI39,BO41=BO39),BE41,0),IF(AND(AJ41=AJ40,BC41=BC40,BI41=BI40,BO41=BO40),BF41,0)) -> 0 | FK41: =RANK(FL41,FL38:FL41,1) -> 1 | FL41: =SUM(IF(AND(AJ41=AJ38,BC41=BC38,BI41=BI38,BO41=BO38),BJ41,0),IF(AND(AJ41=AJ39,BC41=BC39,BI41=BI39,BO41=BO39),BK41,0),IF(AND(AJ41=AJ40,BC41=BC40,BI41=BI40,BO41=BO40),BL41,0)) -> 0 | FM41: =RANK(FN41,FN38:FN41,1) -> 1 | FN41: =SUM(IF(AND(AJ41=AJ38,BC41=BC38,BI41=BI38,BO41=BO38),BP41,0),IF(AND(AJ41=AJ39,BC41=BC39,BI41=BI39,BO41=BO39),BQ41,0),IF(AND(AJ41=AJ40,BC41=BC40,BI41=BI40,BO41=BO40),BR41,0)) -> 0
F43: =F27 -> Fecha | G43: =G27 -> Hora | H43: =H27 -> Jor. | I43: =I27 -> Casa | K43: =K27 -> Gol | L43: =L27 -> Gol | N43: =N27 -> Fuera | CL43: 1 | CM43: 12 | CN43: 18 | CO43: 19 | CP43: 13 | CQ43: 20 | CR43: 21 | CS43: 22 | CT43: 3 | CU43: 2 | CV43: 14 | CW43: 17 | CX43: 16 | CY43: 15 | CZ43: 4 | DA43: 5 | DB43: 10 | DC43: 8 | DD43: 6 | DE43: 11 | DF43: 7 | DG43: 9 | EC43: OP1 | ED43: OP2 | EE43: OP3 | EF43: OP4 | EG43: OP5 | EH43: OP6 | EI43: OP7 | EJ43: OP8 | EK43: OP9 | EL43: OP10
A44: NombreEquipo | B44: F | C44: =COUNTIF(Equipos!$C$2:$C$25,EUROCOPA!B44) -> 4 | E44: F | F44: =Horarios!A44 -> 44362.75 | G44: =Horarios!A44+VLOOKUP($G$2,Horarios!$K$4:$O$27,4,0)*VLOOKUP($G$2,Horarios!$K$4:$O$27,5,0) -> 44362.75 | H44: J1 | I44: =A45 -> Hungría | N44: =A46 -> Portugal | O44: =IF(NOT(OR(ISBLANK(K44),ISBLANK(L44))),1,0) -> 0 | Q44: =CONCATENATE("Grupo"," ",B44) -> Grupo F | AB44: ¡EMPATE! Puedes seleccionar el orden de los empatados. | AH44: =CONCATENATE("Auxiliar - ",Q44) -> Auxiliar - Grupo F | AU44: NR | AY44: =CONCATENATE(Q44," - GOLAVERAGE") -> Grupo F - GOLAVERAGE | BB44: Goles - Partidos Cruzados | BH44: Diferencia de Goles - Partidos Cruzados | CI44: Valor | CK44: Sum | CL44: =SUM(CL46:CL49) -> 0 | CM44: =SUM(CM46:CM49) -> 0 | CN44: =SUM(CN46:CN49) -> 0 | CO44: =SUM(CO46:CO49) -> 0 | CP44: =SUM(CP46:CP49) -> 0 | CQ44: =SUM(CQ46:CQ49) -> 0 | CR44: =SUM(CR46:CR49) -> 0 | CS44: =SUM(CS46:CS49) -> 0 | ... DG44: =SUM(DG46:DG49) -> 0 | EC44: 1234 | ED44: 123 | EE44: 12 | EF44: 234 | EG44: 34 | EH44: 23 | EI44: 1 | EJ44: 2 | EK44: 3 | EL44: 4 | FI44: Goles - Partidos Cruzados | FK44: Diferencia de Goles - Partidos Cruzados
A45: {=IF(ROWS(A$45:A45)<=$C$44,INDEX(INDIRECT(A$44),SMALL(IF(Nivell=$B$44,ROW(Nivell)-ROW(Equipos!$C$2)+1),ROWS(B$44:B44))),"")} -> Hungría | F45: =Horarios!A45 -> 44362.875 | G45: =Horarios!A45+VLOOKUP($G$2,Horarios!$K$4:$O$27,4,0)*VLOOKUP($G$2,Horarios!$K$4:$O$27,5,0) -> 44362.875 | H45: J1 | I45: =A47 -> Francia | N45: =A48 -> Alemania | O45: =IF(NOT(OR(ISBLANK(K45),ISBLANK(L45))),1,0) -> 0 | Q45: Pos | R45: Selección | S45: Pts | T45: J | U45: G | V45: E | W45: P | X45: GF | Y45: GC | Z45: DG | AA45: =COUNTIF(AA46:AA49,"<100") -> 0 | AG45: NR | AH45: Puesto | AI45: Equipo | AJ45: Ptos | AK45: J | AL45: G | AM45: E | AN45: P | AO45: GF | AP45: GC | AQ45: Dif | AR45: Rank | AS45: Puesto | AY45: Equipo | AZ45: NEquipEqual | BA45: PUNTOS | BB45: Ranking Inv | BC45: Entre Iguales | BD45: =AY46 -> Hungría | BE45: =AY47 -> Portugal | BF45: =AY48 -> Francia | BG45: =AY49 -> Alemania | BH45: Ranking Inv | BI45: Entre Iguales | BJ45: =BD45 -> Hungría | BK45: =BE45 -> Portugal | BL45: =BF45 -> Francia | BM45: =BG45 -> Alemania | BN45: Ranking Inv | BO45: Entre Iguales | BP45: =BD45 -> Hungría | BQ45: =BE45 -> Portugal | BR45: =BF45 -> Francia | BS45: =BG45 -> Alemania | BV45: Inicio | BX45: 1R | CB45: Equipo | CC45: Ptos | CD45: Signo | CE45: Dif | CF45: Gf | CK45: Com | CL45: COM_1 | CM45: COM_2 | CN45: COM_3 | CO45: COM_4 | CP45: COM_5 | CQ45: COM_6 | CR45: COM_7 | CS45: COM_8 | CT45: COM_3 | CU45: COM_3 | CV45: COM_4 | CW45: COM_7 | CX45: COM_6 | CY45: COM_6 | CZ45: COM_5 | DA45: COM_2 | DB45: COM_7 | DC45: COM_6 | DD45: COM_4 | DE45: COM_7 | DF45: COM_4 | DG45: COM_6 | EC45: 1 | ED45: 1 | EE45: 1 | EF45: 2 | EG45: 3 | EH45: 2 | EI45: 1 | EJ45: 2 | EK45: 3 | EL45: 4 | FI45: Ranking Inv | FK45: Ranking Inv | FM45: Ranking Inv
